BEGIN:VCALENDAR
VERSION:2.0
PRODID:-//BurgosTop - ECPv6.7.0//NONSGML v1.0//EN
CALSCALE:GREGORIAN
METHOD:PUBLISH
X-ORIGINAL-URL:https://burgos.top
X-WR-CALDESC:Eventos para BurgosTop
REFRESH-INTERVAL;VALUE=DURATION:PT1H
X-Robots-Tag:noindex
X-PUBLISHED-TTL:PT1H
BEGIN:VTIMEZONE
TZID:Europe/Madrid
BEGIN:DAYLIGHT
TZOFFSETFROM:+0100
TZOFFSETTO:+0200
TZNAME:CEST
DTSTART:20240331T010000
END:DAYLIGHT
BEGIN:STANDARD
TZOFFSETFROM:+0200
TZOFFSETTO:+0100
TZNAME:CET
DTSTART:20241027T010000
END:STANDARD
END:VTIMEZONE
BEGIN:VEVENT
DTSTART;TZID=Europe/Madrid:20240628T234500
DTEND;TZID=Europe/Madrid:20240628T234500
DTSTAMP:20260419T213250
CREATED:20241007T105337Z
LAST-MODIFIED:20241010T150404Z
UID:10000069-1719618300-1719618300@burgos.top
SUMMARY:Molan los 90 con Safri Dúo en las fiestas de San Pedro de Burgos 2024
DESCRIPTION:Prepárate para viajar en el tiempo y revivir la magia de los años 90 en un concierto único que reunirá a algunos de los artistas más icónicos de la época. El viernes 28 de junio\, en el marco de las Fiestas de San Pedro y San Pablo 2024 de Burgos\, el Escenario Céntrico será testigo de una noche llena de nostalgia y energía contagiosa con Safri Dúo\, Tina Cousins\, Paco Pil\, DJ Neil y Double Vision. \nSafri Dúo\nSafri Dúo\, el dúo danés de música trance y dance basado en las percusiones\, encabezará el evento con su estilo enérgico y contagioso. Formado por Uffe Savery y Morten Friis\, Safri Dúo ha colaborado con artistas como Aqua y Vengaboys\, alcanzando gran popularidad en Europa con su música instrumental caracterizada por el uso de percusiones africanas y ritmos electrónicos. \nTina Cousins\nLa “Princesa del Dance”\, Tina Cousins\, también se unirá a la fiesta. Conocida por éxitos como “Killin’ Time”\, Cousins comenzó su carrera cantando en solitario y con bandas en clubes de Inglaterra\, dejando huella en la escena dance de los 90. \nPaco Pil\nPaco Pil\, reconocido DJ\, cantante\, animador\, actor y locutor de radio español\, aportará su característico techno-ska al evento. Conocido por especializarse en el género musical bakalao\, Pil alcanzó la certificación de disco de oro con su álbum de 1994 “Energía positiva”\, que fusionaba la música techno/eurodance con su inconfundible estilo. \nDJ Neil\nDJ Neil\, establecido en Madrid pero con raíces británicas\, también se unirá a la fiesta. Conocido por su participación en el programa de televisión “Música Sí”\, Neil es uno de los DJs remember más solicitados en la actualidad\, gracias a su programa en Loca FM y su compromiso con la música electrónica. \nDouble Vision\nCompletando el cartel\, el dúo español de Euro Dance Double Vision\, compuesto por Carol McCloskey y DJ Pedro Cervero\, promete hacer vibrar al público con su música pegadiza y sus ritmos techno que los llevaron al éxito en países como Alemania\, Austria\, Bélgica\, Países Bajos y Suiza. \nInformación del evento\nLa entrada es gratuita y el evento se realizará al aire libre\, convirtiéndose en una oportunidad única para disfrutar de una noche llena de nostalgia y diversión. ¡No te pierdas Molan los 90 en las Fiestas de San Pedro de Burgos!
URL:https://burgos.top/evento/molan-los-90-con-safri-duo-en-las-fiestas-de-san-pedro-de-burgos-2024/
LOCATION:Plaza Santa Teresa\, Plaza Santa Teresa\, Burgos\, 09002
CATEGORIES:Conciertos
ATTACH;FMTTYPE=image/webp:https://burgos.top/wp-content/uploads/2024/05/safri-duo-en-concierto-burgos-fiestas-san-pedro-2024.webp
END:VEVENT
BEGIN:VEVENT
DTSTART;TZID=Europe/Madrid:20240628T213000
DTEND;TZID=Europe/Madrid:20240628T233000
DTSTAMP:20260419T213250
CREATED:20241007T105338Z
LAST-MODIFIED:20250114T081246Z
UID:10000143-1719610200-1719617400@burgos.top
SUMMARY:Cabalgata Sampedros 2024
DESCRIPTION:La cabalgata de las fiestas de San Pedro y San Pablo 2024 en Burgos se celebrará durante la noche del sábado 29 de junio a partir de las 21:30 horas. Las nueve carrozas participantes se expondrán previamente el mismo día en el Paseo de los Derechos Humanos.\nAunque tradicionalmente la cabalgata se ha realizado de día\, este año se ha decidido cambiar el horario para que tenga lugar por la noche. El Ayuntamiento ha ajustado los horarios de otros eventos como los fuegos artificiales para que ambos espectáculos puedan desarrollarse en sus respectivos horarios sin interferencias.\nLas fiestas de San Pedro y San Pablo\, conocidas como los Sampedros\, son unas de las celebraciones más importantes de la ciudad de Burgos\, con una gran participación ciudadana en todos los actos programados para todas las edades. La cabalgata nocturna será sin duda uno de los momentos más esperados y vistosos de estos festejos \nLugar: Casa Cultura de Gamonal – Calle Vitoria – Plaza del Mío Cid
URL:https://burgos.top/evento/cabalgata-sampedros-2024/
LOCATION:Burgos\, Burgos
CATEGORIES:Ocio
ATTACH;FMTTYPE=image/webp:https://burgos.top/wp-content/uploads/2024/06/cabalgata-san-pedro-burgos.webp
END:VEVENT
BEGIN:VEVENT
DTSTART;TZID=Europe/Madrid:20240628T210000
DTEND;TZID=Europe/Madrid:20240629T030000
DTSTAMP:20260419T213250
CREATED:20241007T105339Z
LAST-MODIFIED:20250124T191528Z
UID:10000101-1719608400-1719630000@burgos.top
SUMMARY:Verbena con la orquesta Malibú Show en las fiestas de San Pedro 2024
DESCRIPTION:El viernes 28 de junio\, la orquesta Malibú Show actuará en la Plaza de San Juan dentro de las fiestas de San Pedro y San Pablo 2024. Esta verbena gratuita tendrá dos pases: de 21:00h a 22:00h y de 0:00h a 3:00h. La orquesta\, compuesta por doce componentes de Zamora\, ofrecerá un espectáculo emocionante en la plaza San Juan. ¡No te pierdas esta oportunidad de disfrutar de la música en vivo y gratuita en Sampedros 2024.
URL:https://burgos.top/evento/verbena-con-la-orquesta-malibu-show-en-las-fiestas-de-san-pedro-2024/
LOCATION:Plaza San Juan\, Plaza San Juan\, Burgos\, 09004
CATEGORIES:Conciertos
ATTACH;FMTTYPE=image/webp:https://burgos.top/wp-content/uploads/2024/06/orquesta-malibu-sampedros-2024.webp
END:VEVENT
BEGIN:VEVENT
DTSTART;TZID=Europe/Madrid:20240628T000000
DTEND;TZID=Europe/Madrid:20240628T000000
DTSTAMP:20260419T213250
CREATED:20241007T105336Z
LAST-MODIFIED:20241010T150404Z
UID:10000072-1719532800-1719532800@burgos.top
SUMMARY:Sho Hai + R de Rumba + Víctor Rutty en los Sampedros 2024
DESCRIPTION:El viernes 28 de junio de 2024\, los Sampedros de Burgos vibrarán al ritmo del rap y el hip hop con la presentación de Sho Hai\, R de Rumba y Víctor Rutty en el Escenario Excéntrico. Este evento musical promete ser una celebración única para los amantes de la música urbana y la cultura hip hop. \nSho Hai: El Rapero de la Ironía\nSergio Rodríguez Fernández\, más conocido como Sho Hai\, es un destacado rapero español reconocido por su participación en el grupo Violadores del Verso. Su estilo único se caracteriza por un humor negro presente en sus letras\, donde aborda temas como la muerte y su relación con el alcohol. A lo largo de su carrera\, Sho Hai ha demostrado su pasión por la música electrónica y su compromiso con la escena musical nacional. \nR de Rumba: Maestro de los Platos\nRubén Cuevas García\, también conocido como R de Rumba\, es un renombrado DJ y productor español. Reconocido como uno de los mejores DJs en la escena del hip hop español\, se destaca por su habilidad para fusionar samples de jazz y funk en sus producciones. Con una trayectoria que se remonta a finales de los 80 y principios de los 90\, R de Rumba ha dejado una marca indeleble en la música urbana española. \nVíctor Rutty: La Leyenda del Hip Hop\nVíctor Rutty\, un veterano con una pasión eterna por la música y una conexión profunda con la cultura del graffiti\, es considerado una leyenda viva en la escena hip hop. Con una carrera marcada por la independencia y la autenticidad\, Rutty ha mantenido su esencia intacta a lo largo de los años. En 2022\, lanzó su álbum “Backup” junto a Rober del Pyro y DJ Kaef\, contando con la colaboración de destacados artistas como Natos y Waor\, Lil Supa\, Pure Negga\, Lamari y Diego Galaz. \n¡No te Pierdas este Evento Único!\nEl concierto de Sho Hai\, R de Rumba y Víctor Rutty en los Sampedros 2024 promete ser una experiencia musical inolvidable. La entrada es libre\, y el ambiente al aire libre del Escenario Excéntrico será el escenario perfecto para disfrutar de la música de estos talentosos artistas. ¡Prepárate para sumergirte en la cultura hip hop y disfrutar de una noche llena de ritmo y energía!¡No dejes pasar la oportunidad de ser parte de este evento único y disfrutar de la magia de la música de Sho Hai\, R de Rumba y Víctor Rutty en los Sampedros 2024 de Burgos!
URL:https://burgos.top/evento/sho-hai-r-de-rumba-victor-rutty-en-los-sampedros-2024/
LOCATION:Escenario Excéntrico\, C. San Pedro y San Felices\, Burgos\, Burgos\, 09001
CATEGORIES:Conciertos
ATTACH;FMTTYPE=image/webp:https://burgos.top/wp-content/uploads/2024/05/r-de-rumba-burgos-2024.webp
END:VEVENT
BEGIN:VEVENT
DTSTART;TZID=Europe/Madrid:20240627T235500
DTEND;TZID=Europe/Madrid:20240628T030000
DTSTAMP:20260419T213250
CREATED:20241007T105341Z
LAST-MODIFIED:20241010T150403Z
UID:10000071-1719532500-1719543600@burgos.top
SUMMARY:Concierto de Don Patricio en los San Pedros 2024
DESCRIPTION:El próximo jueves 27 de junio de 2024\, los Sampedros de Burgos se llenarán de ritmo y energía con la presentación de Don Patricio en el Escenario Excéntrico. Este evento musical promete ser una experiencia inolvidable para todos los amantes de la música urbana y el Trap latino. \nDon Patricio: Un Icono del Trap Latino\nDon Patricio\, cuyo verdadero nombre es Patricio Martín Díaz\, vio la luz en La Caleta\, El Hierro\, el 9 de febrero de 1993. Este talentoso cantante español ha dejado una huella imborrable en la escena musical con su estilo único y su inconfundible voz. Desde sus inicios en 2011\, Don Patricio ha demostrado su versatilidad y talento\, destacándose por su participación en la creación de la canción «Nuestra playa eres tú»\, nominada a los prestigiosos Premios Goya en 2012.Además\, Don Patricio es miembro del exitoso grupo Locoplaya\, donde comparte escenario con Bejo y Eugenio Fernández Cano\, conocido como «Uge». Su colaboración en el tema «Contando lunares» junto a Cruz Cafuné en 2019 lo catapultó a la fama internacional\, convirtiéndose en uno de los mayores éxitos musicales en Europa y América Latina. \nRegreso Triunfal y Éxito Continuo\nTras un breve período de descanso\, Don Patricio regresó con fuerza al escenario musical con el lanzamiento de su sencillo «Enchochado de ti» el 25 de diciembre de 2018. Este tema no solo ingresó en las listas de éxitos de PROMUSICAE\, sino que también alcanzó el puesto número 3 en España\, consolidando su posición como uno de los artistas más destacados del género. \n¡No te Pierdas este Evento Único!\nEl concierto de Don Patricio en los Sampedros 2024 promete ser una velada llena de emoción\, buena música y momentos inolvidables. La entrada es libre\, y la atmósfera al aire libre del Escenario Excéntrico será el escenario perfecto para disfrutar de la música de este talentoso artista. ¡Prepárate para vivir una experiencia musical inigualable!¡No te pierdas la oportunidad de ser parte de este evento único y disfrutar de la magia de la música de Don Patricio en los Sampedros 2024 de Burgos!
URL:https://burgos.top/evento/concierto-de-don-patricio-en-los-san-pedros-2024/
LOCATION:Escenario Excéntrico\, C. San Pedro y San Felices\, Burgos\, Burgos\, 09001
CATEGORIES:Conciertos
ATTACH;FMTTYPE=image/webp:https://burgos.top/wp-content/uploads/2024/05/DON-PATRICIO-concierto-en-burgos-san-pedros-2024.webp
END:VEVENT
BEGIN:VEVENT
DTSTART;TZID=Europe/Madrid:20240627T234500
DTEND;TZID=Europe/Madrid:20240627T234500
DTSTAMP:20260419T213250
CREATED:20241007T105342Z
LAST-MODIFIED:20241009T045847Z
UID:10000068-1719531900-1719531900@burgos.top
SUMMARY:Nancys Rubias en las fiestas de San Pedro 2024
DESCRIPTION:Nancys Rubias es un grupo musical español que se presentará en las fiestas de San Pedro y San Pablo 2024 en Burgos el jueves 27 de junio. Liderado por Mario Vaquerizo\, el grupo fusiona pop\, glam y electrónica\, y ha lanzado 5 álbumes con Warner Music\, destacando éxitos como «Sálvame»\, «Corazón de Hielo» y «Di que Sí». \nEl origen de Nancys Rubias se remonta al 27 de abril de 2004 en la sala Morocco de Madrid\, cuando decidieron formar un grupo por un día. Su primer álbum homónimo\, producido por JC Moreno y compuesto por Nacho Canut de Fangoria\, alcanzó el top 5 en las listas de ventas españolas\, generando gran atención mediática. Este álbum incluyó éxitos como la versión de «Sálvame» de Bibiana Fernández y su icónica canción «Maquíllate». \nEn su trayectoria\, Nancys Rubias presentó su segundo álbum\, Gabba Gabba Nancys\, en el programa Carta Blanca en 2007\, con canciones como «Corazón de Hielo» y «No estás curada». Aunque este álbum fue el menos vendido\, el sencillo «Corazón de Hielo» destacó por su sample de la canción clásica de Boney M\, «Daddy Cool». La banda ha dejado una huella única en la escena musical española con su estilo extravagante y su energía en el escenario.
URL:https://burgos.top/evento/nancys-rubias-en-las-fiestas-de-san-pedro-2024/
LOCATION:Plaza Santa Teresa\, Plaza Santa Teresa\, Burgos\, 09002
CATEGORIES:Conciertos
ATTACH;FMTTYPE=image/webp:https://burgos.top/wp-content/uploads/2024/05/las-nancys-rubias-en-concierto-en-burgos-san-pedro-2024.webp
END:VEVENT
BEGIN:VEVENT
DTSTART;TZID=Europe/Madrid:20240622T203000
DTEND;TZID=Europe/Madrid:20240623T013000
DTSTAMP:20260419T213250
CREATED:20241007T105346Z
LAST-MODIFIED:20251229T233553Z
UID:10000133-1719088200-1719106200@burgos.top
SUMMARY:Orquesta The 8 y 1/2 Band
DESCRIPTION:Este sábado 22 de junio\, disfruta de una emocionante verbena en la Plaza Mayor con la Orquesta The 8 y 1/2 Band. La actuación tendrá dos pases: uno desde las 20:30 hasta las 21:00\, y otro desde que termine la proclamación de Reinas de las fiestas de San Pedro y San Pablo 2024 hasta la 1:30 de la madrugada. ¡Entrada libre y gratuita en este evento que no te puedes perder
URL:https://burgos.top/evento/orquesta-the-8-y-1-2-band/
LOCATION:Plaza Mayor de Burgos\, Plaza Mayor de Burgos\, Burgos\, 09003
CATEGORIES:Conciertos
ATTACH;FMTTYPE=image/webp:https://burgos.top/wp-content/uploads/2024/06/Orquesta-The-8-y-1-2-Band-en-burgos.webp
END:VEVENT
BEGIN:VEVENT
DTSTART;VALUE=DATE:20240525
DTEND;VALUE=DATE:20240526
DTSTAMP:20260419T213250
CREATED:20241007T105359Z
LAST-MODIFIED:20250110T091652Z
UID:10000016-1716595200-1716681599@burgos.top
SUMMARY:La Noche Blanca Burgos 2024
DESCRIPTION:PROGRAMACIÓN DE EVENTOS NOCHE BLANCA BURGALESA 2024\nProgramación completa de La Noche Blanca en Burgos 2024\n\n\n16:00 h a 23:00 h: \n\n\nMuseo del Retablo permanecerá abierto desde las 16:00 hasta las 23:00 horas. Entrada por Puerta del Museo (Iglesia San Esteban). Libre hasta completar aforo. \n\n\n\n\n17:00 h: \n\n\nVisitas guiadas al Museo de Ciencias Naturales del IES Cardenal López de Mendoza\, con una duración de 30 minutos guiadas por un educador/a. 15 personas por pase cada media hora hasta las 00:30 horas. \n\n\nVisitas guiadas al Palacio de Capitanía de Burgos a las 17:00\, 18:00\, 19:00\, 20:00\, 21:00\, 22:00\, 23:00 y 00:00 horas. Entradas gratuitas hasta fin de existencias. Máximo 25 personas por grupo. Retirada previa de entradas en el Museo Militar de Burgos del 11 al 20 de mayo. \n\n\nYoga aéreo de Moving Spaces a cargo del Ballet Contemporáneo de Burgos en la Plaza San Juan. \n\n\nExposiciones gratuitas en el Centro de Arte Caja de Burgos CAB: “Lugares sin nombre” de Cristina Ataíde\, “La conciencia brillante” de cristal líquido y pantallas expandidas\, y “Una lluvia negra” de Ricardo González. \n\n\n\n\n17:00 h a 02:00 h: \n\n\nMuseo Histórico Militar de Burgos abierto con entrada libre y gratuita hasta completar aforo. \n\n\nExposición “Milicia\, ciencia y territorio: un recorrido por la cartografía militar” en el Palacio de Capitanía\, con entrada libre hasta completar aforo. \n\n\n\n\n17:00 h a 21:30 h: \n\n\nExposición “30 años en el archivo de la Catedral de Burgos” en la Sala de exposiciones Beato Valentín Palencia\, Catedral de Burgos (acceso por calle Diego Porcelos). Entrada libre hasta completar aforo. \n\n\n\n\n17:15 h a 21:45 h: \n\n\nExposición “El silencio” de obras de arte realizadas por alumnos de Educación Secundaria de Castilla y León\, comisariada por el colectivo RevolucionArte\, en La Estación de la Ciencia y la Tecnología. Libre hasta completar aforo. \n\n\n\n\n17:30 h a 00:00 h: \n\n\nExposición “Vuelta a casa” de Lucio Muñoz en Cultural Cordón. Gratuita. \n\n\n\n\n18:00 h: \n\n\nVisitas guiadas al Museo de Ciencias Naturales del IES Cardenal López de Mendoza\, con una duración de 30 minutos guiadas por un educador/a. 15 personas por pase cada media hora hasta las 00:30 horas. \n\n\nProyección de “Tres gangsters y un ruso” en el Cine La Estación de la Ciencia y la Tecnología (Sala El Reloj). Entrada libre hasta completar aforo. Para mayores de 12 años. \n\n\nVisitas guiadas al Palacio de Capitanía de Burgos a las 17:00\, 18:00\, 19:00\, 20:00\, 21:00\, 22:00\, 23:00 y 00:00 horas. Entradas gratuitas hasta fin de existencias. Máximo 25 personas por grupo. Retirada previa de entradas en el Museo Militar de Burgos del 11 al 20 de mayo. \n\n\nPintando la subida al Monte Carmelo por Fran Herreros & Jose Puebla en el Patio Claustro Bajo Catedral de Burgos. 2 pases de 1 hora cada uno: de 18:00 a 19:00 y de 20:00 a 21:00. El claustro permanecerá abierto hasta las 22:00 horas. \n\n\nBungee dance de Moving Spaces\, taller a partir de 14 años y muestra del Ballet Contemporáneo de Burgos en la Plaza San Juan. \n\n\nAmbientación musical en el Bar los Pozanos\, Calle San Francisco 2. Libre hasta completar aforo. \n\n\n\n\n18:00 h a 02:00 h: \n\n\nMuseo de Farmacia en el Arco de Santa María. Entrada gratuita. \n\n\n“El Triunfo de la Santa Cruz” de Marceliano. Puertas abiertas Sala capillas. Monasterio de San Juan. Libre hasta completar aforo. \n\n\nExposición “Paisajes del silencio” de José Miguel de la Peña en la Sala de Exposiciones del Arco de Santa María. Gratuita. \n\n\nExposición “Alegorías y fantasías” de Cristino Diez y Ángel Herraiz en la Sala de Exposiciones del Monasterio de San Juan. Gratuita. \n\n\nCasa de los Gigantillos en los bajos del Teatro Principal. Libre hasta completar aforo. \n\n\nExposición de pintura de Aulas de Pintura en la Sala de Exposiciones del Teatro Principal. Gratuita. \n\n\nArte urbano x BLVCKPUDDING en la Llana de Afuera. Todos los públicos. \n\n\n\n\n18:00 h a 21:00 h: \n\n\nExposición “A través del objetivo. Miradas compartidas” en la Sala de la Casa de Cultura de Gamonal. Gratuita. \n\n\n\n\n18:00 h a 22:45 h: \n\n\nExposición “¿evolución?” de López Herrera en la Sala de exposiciones Pedro Torrecilla\, Plaza España 3. Libre hasta completar aforo. \n\n\n\n\n19:00 h: \n\n\nConcierto del Coro de Familias de Cardeñadijo “Canciones de ayer y de hoy” en la Capilla IES Cardenal López de Mendoza. Libre hasta completar aforo. \n\n\nConcierto de la Coral Cámara San Esteban “Renaissance”. Libre hasta completar aforo. \n\n\nVisitas guiadas al Museo de Ciencias Naturales del IES Cardenal López de Mendoza\, con una duración de 30 minutos guiadas por un educador/a. 15 personas por pase cada media hora hasta las 00:30 horas. \n\n\nConcierto de la Schola Cantorum de Burgos “En los jardines de Barrantes” en los Jardines del Centro Asistencial Barrantes. Libre hasta completar aforo. \n\n\nObra de teatro “Entre meses anda el juego” de Lúpulo Teatro en el Teatro La Estación de la Ciencia y la Tecnología. Libre hasta completar aforo. Dos pases de 45 minutos a las 19:00 y 20:30 horas. \n\n\nProyección de “Tres gangsters y un ruso” en el Cine La Estación de la Ciencia y la Tecnología (Sala El Reloj). Entrada libre hasta completar aforo. Para mayores de 12 años. \n\n\nVisita a la Biblioteca del Monasterio de San Agustín. Primera planta C/Madrid\, 24. Máximo 30 personas por grupo\, 4 visitas de 45 minutos. \n\n\nModelado de madera con motosierra por Ikusgarri en las orillas del Arlanzón\, Paseo Sierra de Atapuerca. Todos los públicos. \n\n\nVisitas guiadas al Palacio de Capitanía de Burgos a las 17:00\, 18:00\, 19:00\, 20:00\, 21:00\, 22:00\, 23:00 y 00:00 horas. Entradas gratuitas hasta fin de existencias. Máximo 25 personas por grupo. Retirada previa de entradas en el Museo Militar de Burgos del 11 al 20 de mayo. \n\n\nVisitas guiadas al Palacio de la Isla (Paseo de la Isla no 1)\, sede del Instituto Castellano y Leonés de la Lengua. 5 pases para máximo 30 personas a las 19:00\, 20:00\, 21:00\, 22:00 y 23:00 horas. Gratuitas con invitación retirada previamente. \n\n\nPintando la subida al Monte Carmelo por Fran Herreros & Jose Puebla en el Patio Claustro Bajo Catedral de Burgos. 2 pases de 1 hora cada uno: de 18:00 a 19:00 y de 20:00 a 21:00. El claustro permanecerá abierto hasta las 22:00 horas. \n\n\nBurban battle\, batalla 2vs2 All Styles de Moving Spaces para todas las edades en la Plaza San Juan. \n\n\nObra “El secreto Colectivo” en la Sala Capitular del Monasterio de San Juan. Entradas hasta completar aforo en taquillas del Teatro Principal. \n\n\nConcierto del Cuarteto de música de la Escuela Municipal de Música en la Sala Salvador Vega de Bernardas. Libre hasta completar aforo. \n\n\nMúsica folk tradicional de Aventar en el Templete del paseo del Espolón. \n\n\n\n\n19:30 h: \n\n\n“La biblioteca mágica” con el mago Oski en la Bebeteca de la Biblioteca Pública de Burgos\, planta 0. 50 personas con invitación a partir del 17 de mayo. Público familiar + 4 años. \n\n\nVisitas guiadas al Museo de Ciencias Naturales del IES Cardenal López de Mendoza\, con una duración de 30 minutos guiadas por un educador/a. 15 personas por pase cada media hora hasta las 00:30 horas. \n\n\nVisita guiada a la exposición “Néstor Pavón Revisitado” en el Museo de Burgos\, Calle Miranda 13. Dos pases\, uno a las 19:30 y otro a las 20:15. Duración 30 minutos. \n\n\n\n\n19:45 h: \n\n\nConcierto “Renaissance” de la Coral Cámara San Esteban en el Pozo Seco. Libre hasta completar aforo. \n\n\n\n\n19:00 h a 00:00 h: \n\n\nExposición colectiva de mujeres fotógrafas “Yo también soy Gerda Taró” en la Sala de exposiciones Cajaviva. Gratuita. \n\n\n\n\n19:00 h a 01:00 h: \n\n\nMuseo de Burgos abierto en horario especial. Calle Miranda 13. Entrada gratuita. \n\n\n\n\n19:00 h a 02:00 h: \n\n\n“La escena del delito” en la Comisaría de Policía Nacional. Visita guiada a parte de las instalaciones policiales que habitualmente no están abiertas al público. Cada asistente deberá portar DNI. No se podrán introducir mochilas u otros objetos. En grupos de 15-20 personas. \n\n\nSesión DJ con sound system Tatanka Sound System en el Paseo del Empecinado. \n\n\nObra “La historia del Principal” de 24and7.es en el Teatro Principal. Con entrada hasta completar aforo. Retirada de entradas en taquillas. \n\n\n\n\n19:00 h a 20:00 h: \n\n\nActividad “¿Comemos petróleo?” en el Centro de Arte Caja de Burgos CAB. Libre hasta completar aforo. \n\n\n\n\n19:00 h a 22:00 h: \n\n\n“El circo de la blanca” en el Paseo Sierra de Atapuerca. De 6 a 12 años. \n\n\n“La placita de los oficios” en el Paseo Sierra de Atapuerca. De 3 a 6 años. Talleres de 25 personas. \n\n\nCirco aéreo en el Paseo Sierra de Atapuerca. De 6 a 12 años. Talleres de 12 personas. \n\n\nInstalación interactiva “El Atelier” en el Paseo Sierra de Atapuerca. Público infantil a partir de 6 años. \n\n\nVisita al Real Monasterio de San Agustín con música ambiental y conciertos a las 20:00 y 22:00 horas. \n\n\nTaller “Residuo 0: La pasta de papel” impartido por Amaya Barahona en el Paseo Marceliano Sana María. Libre hasta completar aforo. \n\n\nTaller “Residuo 0: Las lanas” impartido por Bárbara de Santiago en el Paseo Marceliano Sana María. Libre hasta completar aforo. Público familiar. \n\n\nTaller “Residuo 0: La chaqueta de cuero” impartido por Nube Nava en el Paseo Marceliano Sana María. Libre hasta completar aforo. \n\n\n\n\n20:00 h: \n\n\nConcierto de la Coral Cámara San Esteban “Renaissance” en el Pozo Seco. Libre hasta completar aforo. \n\n\nPintando la subida al Monte Carmelo por Fran Herreros & Jose Puebla en el Patio Claustro Bajo Catedral de Burgos. 2 pases de 1 hora cada uno: de 18:00 a 19:00 y de 20:00 a 21:00. El claustro permanecerá abierto hasta las 22:00 horas. \n\n\n\n\n20:30 h: \n\n\nSegunda función de la obra “Entre meses anda el juego” de Lúpulo Teatro en el Teatro La Estación de la Ciencia y la Tecnología. Libre hasta completar aforo. \n\n\n\n\n21:00 h: \n\n\nVisitas guiadas al Palacio de Capitanía de Burgos a las 17:00\, 18:00\, 19:00\, 20:00\, 21:00\, 22:00\, 23:00 y 00:00 horas. Entradas gratuitas hasta fin de existencias. Máximo 25 personas por grupo. Retirada previa de entradas en el Museo Militar de Burgos del 11 al 20 de mayo. \n\n\nVisitas guiadas al Palacio de la Isla (Paseo de la Isla no 1)\, sede del Instituto Castellano y Leonés de la Lengua. 5 \n\n\n\n\nSábado 25 de mayo\nExposiciones\n“Objetivo 947”. Exposición Fotográfica Colectiva (VII Semana de la Música Local) \n\nHora: 09:30 – 13:30 / 18:30 – 19:30\nLugar: C/ Serramagna\, 10\n\n“Alegorías y fantasías”. Escultura y Fotografía de Cristino Diez y Ángel Herraiz \n\nHora: 10:00 / 14:00\nLugar: Sala de Exposiciones del Monasterio de San Juan\n\nExposición de Fotografía. Organiza: FotoClub Contraluz \n\nHora: 12:00\nLugar: Sala de Exposiciones de la Casa de Cultura de Gamonal\n\n“Paisajes del Silencio”. Fotografía de José Miguel de la Peña \n\nHora: 12:00\nLugar: Sala de Exposiciones del Arco de Santa María\n\n“Al este de Wengué. 17 Retos\, 17 Oportunidades” (Exposición) \n\nHora: 09:30 – 13:45\nLugar: Biblioteca Gonzalo de Berceo\, C/ María Amigo\, s/n\n\nEventos y Espectáculos\nI Wanna Micro – Edición Especial \n\nHora: 13:00\nLugar: Bar Iguana\, Av. Reyes Católicos\, 26\n\nProyecto Villalacre en el Museo de Burgos \n\nHora: 21:00\nLugar: Museo de Burgos\, C. Miranda\, 13\n\nVisitas Guiadas ‘La Noche del Palacio de la Isla’ \n\nHora: 19:00 – 23:00\nLugar: Palacio de la Isla\, P.º de la Isla\, 1\n\nLa Biblioteca Mágica\, con el Mago Oski \n\nHora: 19:30\nLugar: Biblioteca Pública del Estado\, Pl. San Juan\, s/n\n\nJosé Antonio Abellán – Mi Vida es un Show \n\nHora: 20:30\nLugar: Fundación Caja de Burgos – Cultural Burgos\, Av. Cantabria\, 3\n\nEntre Meses Anda el Juego\, de Lúpulo Teatro \n\nHora: 19:00\nLugar: La Estación de la Ciencia y la Tecnología\, C. Dr. José Luis Santamaría\n\nPintando la Subida al Monte Carmelo \n\nHora: 18:30\nLugar: Catedral de Burgos\, Pl. Sta. María\, s/n\n\nCentros y Espacios Abiertos\nCentro de Arte Caja de Burgos (CAB) \n\nHora: 19:00 – 23:00\nLugar: C. Saldaña\, S/N\n\nVIII Noche Blanca en el CENIEH \n\nHora: 16:00 – 23:00\nLugar: Centro Nacional de Investigación sobre la Evolución Humana (CENIEH)\, P.º Sierra de Atapuerca\, 3\n\nDescripción del Evento\nLa Noche Blanca de Burgos es una manifestación cultural gratuita y abierta a todos los ciudadanos que se celebra en numerosos espacios públicos y privados de la ciudad. Desde parques\, plazas y calles hasta teatros\, museos y centros de creación artística\, la ciudad se llena de vida con propuestas originales y variadas. \nArtistas invaden las calles y se abren instituciones de acceso restringido al público para que todos puedan disfrutar de esta noche mágica. La hostelería local también participa ofreciendo sugerencias especiales para la ocasión\, haciendo de La Noche Blanca de Burgos un evento inolvidable para todos los asistentes. \n  \n  \n\n\n\nLugar: Distintos puntos de la ciudad\, 25 de mayo de 2024\, Precio: Varios
URL:https://burgos.top/evento/la-noche-blanca/
LOCATION:Burgos\, Burgos
CATEGORIES:Ocio
ATTACH;FMTTYPE=image/webp:https://burgos.top/wp-content/uploads/2024/05/la-noche-blanca-2024.webp
END:VEVENT
END:VCALENDAR