BEGIN:VCALENDAR
VERSION:2.0
PRODID:-//BurgosTop - ECPv6.7.0//NONSGML v1.0//EN
CALSCALE:GREGORIAN
METHOD:PUBLISH
X-WR-CALNAME:BurgosTop
X-ORIGINAL-URL:https://burgos.top
X-WR-CALDESC:Eventos para BurgosTop
REFRESH-INTERVAL;VALUE=DURATION:PT1H
X-Robots-Tag:noindex
X-PUBLISHED-TTL:PT1H
BEGIN:VTIMEZONE
TZID:Europe/Madrid
BEGIN:DAYLIGHT
TZOFFSETFROM:+0100
TZOFFSETTO:+0200
TZNAME:CEST
DTSTART:20250330T010000
END:DAYLIGHT
BEGIN:STANDARD
TZOFFSETFROM:+0200
TZOFFSETTO:+0100
TZNAME:CET
DTSTART:20251026T010000
END:STANDARD
BEGIN:DAYLIGHT
TZOFFSETFROM:+0100
TZOFFSETTO:+0200
TZNAME:CEST
DTSTART:20260329T010000
END:DAYLIGHT
BEGIN:STANDARD
TZOFFSETFROM:+0200
TZOFFSETTO:+0100
TZNAME:CET
DTSTART:20261025T010000
END:STANDARD
END:VTIMEZONE
BEGIN:VEVENT
DTSTART;TZID=Europe/Madrid:20260101T010000
DTEND;TZID=Europe/Madrid:20260101T073000
DTSTAMP:20260424T180734
CREATED:20251201T213807Z
LAST-MODIFIED:20251201T222709Z
UID:10002175-1767229200-1767252600@burgos.top
SUMMARY:¡Cotillón Nochevieja 2025 Casino en La Mansión: Apuesta por la Noche Más Épica!
DESCRIPTION:Este 31 de diciembre\, La Mansión se convierte en un auténtico casino lleno de luces\, glamour y adrenalina para recibir el 2026 por todo lo alto. ¡Prepárate para una fiesta inolvidable donde la suerte y la diversión van de la mano! \n✅ Lo que incluye tu entrada promo (limitada a 60€): \n\n✨ Dos ambientes\, dos estilos para todos los gustos\n🥂 7 copas incluidas + cóctel de bienvenida\n🕰️ Campanadas y brindis especiales\n🥐 Recena completa para recargar\n🚍 Autobuses lanzadera incluidos\n🧥 Doble ropero + 🚾 baños extra\n\n📍 La Mansión\, Burgos\n🕘 Inicio: 01:00 h – ¡Hasta el amanecer! \n\nComprar entradas
URL:https://burgos.top/evento/cotillon-nochevieja-2025-casino-en-la-mansion-apuesta-por-la-noche-mas-epica/
LOCATION:Sala Montecarlo\, 88JJ+Q3\, 09193 Cortes\, Burgos
CATEGORIES:Fiestas
ATTACH;FMTTYPE=image/webp:https://burgos.top/wp-content/uploads/2025/12/cotillon-la-mansion-2025.webp
END:VEVENT
BEGIN:VEVENT
DTSTART;TZID=Europe/Madrid:20250101T010000
DTEND;TZID=Europe/Madrid:20250101T010000
DTSTAMP:20260424T180734
CREATED:20241120T125427Z
LAST-MODIFIED:20241120T125733Z
UID:10000712-1735693200-1735693200@burgos.top
SUMMARY:Cotillón Nochevieja 2024 en La Mansión
DESCRIPTION:¡Llega el cotillón de La Mansión! Únete a nosotros para despedir el 2024 y dar la bienvenida al 2025 como se merece: \nComprar entradas\n\n✨ Tres escenarios: dos principales + uno sorpresa\n🥂 7 copas incluidas\n🍸 Cóctel de bienvenida\n🕰️ Campanadas de medianoche y brindis\n🥐 Recena para mantener la energía durante la noche\n🚍 Servicio de autobuses incluido\n🧥 Ropero incluido para tu tranquilidad\n\n📍 Ubicación: La Mansión\n🕘 Inicio: 1:00 AM\n🎟️ Entradas promo limitadas a 65€ – ¡no te quedes sin la tuya!¡No te pierdas la mejor fiesta de fin de año! 🌟 \nDetalles del Evento:\n\nFecha: 1 de enero de 2025\nHora: 1:00 AM\nEntradas: Compra anticipada recomendada\, solo 65€ por tiempo limitado.
URL:https://burgos.top/evento/cotillon-nochevieja-2024-en-la-mansion/
LOCATION:Sala Montecarlo\, 88JJ+Q3\, 09193 Cortes\, Burgos
CATEGORIES:Ocio
ATTACH;FMTTYPE=image/webp:https://burgos.top/wp-content/uploads/2024/11/cotillon-2024-la-mansion.webp
END:VEVENT
END:VCALENDAR