BEGIN:VCALENDAR
VERSION:2.0
PRODID:-//BurgosTop - ECPv6.7.0//NONSGML v1.0//EN
CALSCALE:GREGORIAN
METHOD:PUBLISH
X-WR-CALNAME:BurgosTop
X-ORIGINAL-URL:https://burgos.top
X-WR-CALDESC:Eventos para BurgosTop
REFRESH-INTERVAL;VALUE=DURATION:PT1H
X-Robots-Tag:noindex
X-PUBLISHED-TTL:PT1H
BEGIN:VTIMEZONE
TZID:Europe/Madrid
BEGIN:DAYLIGHT
TZOFFSETFROM:+0100
TZOFFSETTO:+0200
TZNAME:CEST
DTSTART:20240331T010000
END:DAYLIGHT
BEGIN:STANDARD
TZOFFSETFROM:+0200
TZOFFSETTO:+0100
TZNAME:CET
DTSTART:20241027T010000
END:STANDARD
END:VTIMEZONE
BEGIN:VEVENT
DTSTART;TZID=Europe/Madrid:20241101T210000
DTEND;TZID=Europe/Madrid:20241101T210000
DTSTAMP:20260420T072502
CREATED:20241012T224835Z
LAST-MODIFIED:20241111T160959Z
UID:10000319-1730494800-1730494800@burgos.top
SUMMARY:SÔBER: 30 ANIVERSARIO
DESCRIPTION:Fecha: Sábado\, 14 de diciembre de 2024\nPrecio: 28€ (Entrada general) / 50€ (Entrada VIP)\nLocalización: Sala Andén 56\, Burgos \nUna Celebración Épica del Rock Español\nSÔBER\, una de las bandas más influyentes del rock español\, celebra sus 30 años de trayectoria con un concierto inolvidable en Burgos. Acompañados por SAVIA y SKIZOO\, prometen una noche llena de energía y nostalgia. \n“Retorcidos”: Un Viaje al Pasado\nComo parte de su celebración\, SÔBER ha regrabado “Torcidos”\, su álbum debut\, bajo el título “Retorcidos”. Este proyecto no solo rinde homenaje a sus raíces\, sino que también demuestra la evolución y madurez de la banda a lo largo de tres décadas. \nUna Noche\, Tres Bandas Legendarias\n\nSÔBER: Liderados por Carlos Escobedo\, ofrecerán un recorrido por sus 30 años de éxitos.\nSAVIA: Proyecto paralelo de Carlos Escobedo\, fusionando el metal con elementos electrónicos.\nSKIZOO: Con Antonio Bernardini y Jorge Escobedo\, traerán su distintivo sonido de metal alternativo.\n\nInformación Importante\n\nMenores de 16 años: Acceso permitido acompañados de un adulto.\nMenores de 18 años: Deben presentar autorización firmada de la sala (se entrega en puerta).\n\nNo Te Lo Pierdas\nEste concierto es más que una celebración; es un testimonio de la resistencia y evolución del rock español. SÔBER\, junto a SAVIA y SKIZOO\, prometen una noche que quedará grabada en la memoria de todos los asistentes. ¡Prepárate para una noche de rock implacable y celebra 30 años de música que ha definido a una generación! \n\n\n\n\n\n\n\n\n\n\n\n\n\n\n\n\n\n\n\n\n\n\n\n\n\n\n\n\n\n\n\n\n\n\n\n\n\n\n\nComprar entradas
URL:https://burgos.top/evento/sober-30-aniversario/
LOCATION:Sala Andén 56\, C. San Pedro y San Felices\, 56\, Burgos\, 09001
CATEGORIES:Conciertos
ATTACH;FMTTYPE=image/webp:https://burgos.top/wp-content/uploads/2024/10/SOBER-30-ANIVERSARIO-en-burgos-_1_.webp
END:VEVENT
BEGIN:VEVENT
DTSTART;TZID=Europe/Madrid:20241031T235900
DTEND;TZID=Europe/Madrid:20241101T063000
DTSTAMP:20260420T072502
CREATED:20241023T120439Z
LAST-MODIFIED:20241023T120439Z
UID:10000397-1730419140-1730442600@burgos.top
SUMMARY:¡Al Lío! Fiesta de Halloween 2024 en Burgos
DESCRIPTION:Fecha: Jueves\, 31 de octubre | Hora: 23:59\nFinaliza: Viernes\, 1 de noviembre | Hora: 06:30\nLugar: Sala Andén 56\nPrecio: Desde 1€ hasta 15€ \nConsigue tus Entradas\n\nPrimeras 20 entradas: 1€ + gastos\nSiguientes 100 entradas: 5€ + gastos\nResto de entradas: 15€ + gastos\n\nTodas las entradas incluyen una consumición. \nComprar entradas\nUna Noche Inolvidable\nEste Halloween en El Andén 56\, te espera la fiesta más terrorífica del año. Prepárate para disfrutar de una noche cargada de sorpresas\, buena música y un ambiente que no olvidarás. ¡Ven disfrazado y participa en nuestro concurso de disfraces para ganar premios espeluznantes! \nAtracciones Especiales\n\nMúsica en Vivo: Disfruta de DJ’s que te harán bailar hasta el amanecer con los mejores hits.\nSorpresas Terroríficas: Participa en juegos y actividades que te mantendrán al borde de tu asiento.\nPhotocall Temático: Captura tus momentos más divertidos en nuestro photocall decorado para la ocasión.\n\n¡No Te Lo Pierdas!\n¡No dejes pasar la oportunidad de vivir una noche inolvidable! Compra tus entradas ahora y asegúrate un lugar en la fiesta más esperada del año. ¡Nos vemos en el lado oscuro! 🎃👻 ¡Atrévete a disfrutar del Halloween como nunca antes!
URL:https://burgos.top/evento/al-lio-fiesta-de-halloween-2024-en-burgos/
LOCATION:Sala Andén 56\, C. San Pedro y San Felices\, 56\, Burgos\, 09001
CATEGORIES:Ocio
ATTACH;FMTTYPE=image/webp:https://burgos.top/wp-content/uploads/2024/10/¡Al-Lio-Fiesta-de-Halloween-2024-en-Burgos.webp
END:VEVENT
BEGIN:VEVENT
DTSTART;TZID=Europe/Madrid:20241031T173000
DTEND;TZID=Europe/Madrid:20241031T173000
DTSTAMP:20260420T072502
CREATED:20241025T111348Z
LAST-MODIFIED:20241025T111348Z
UID:10000472-1730395800-1730395800@burgos.top
SUMMARY:Fiesta Halloween Joven 2024
DESCRIPTION:Fecha: Jueves\, 31 de octubre de 2024\nHora: 17:30 h\nPrecio: 7€ anticipada / 9€ en taquilla (incluye un refresco)\nLugar: Sala Andén 56\, Burgos \nComprar entradas\nDescripción\nEl Ayuntamiento de Burgos\, en colaboración con la Sala Andén 56\, organiza la Fiesta Halloween Joven 2024\, dirigida a jóvenes de entre 14 y 17 años. Este evento promete ser un auténtico fiestón\, donde los asistentes podrán disfrutar de la mejor música a cargo de los DJs Crisrax y David Zelmar. \nInformación Adicional\n\nApertura de puertas: 17:30 h\nEntradas:\n\nAnticipada: 7€\nEn taquilla: 9€ (incluye un refresco)\n\n\n\n¡Prepara tu disfraz y ven a disfrutar de una noche terroríficamente divertida en la Fiesta Halloween Joven!
URL:https://burgos.top/evento/fiesta-halloween-joven-2024/
LOCATION:Sala Andén 56\, C. San Pedro y San Felices\, 56\, Burgos\, 09001
CATEGORIES:Ocio
ATTACH;FMTTYPE=image/webp:https://burgos.top/wp-content/uploads/2024/10/halloween-joven-2024-en-burgos.webp
END:VEVENT
BEGIN:VEVENT
DTSTART;TZID=Europe/Madrid:20241026T230000
DTEND;TZID=Europe/Madrid:20241026T230000
DTSTAMP:20260420T072502
CREATED:20241011T134427Z
LAST-MODIFIED:20241023T134451Z
UID:10000310-1729983600-1729983600@burgos.top
SUMMARY:MOLAN LOS 90 HALLOWEEN
DESCRIPTION:Fecha: 26 – 27 de octubre de 2024\nPrecio: 20€\nLocalización: Sala Andén 56 \n¡Halloween 90’s Club Edition en Burgos! 👻🎃\nPrepárate para una noche inolvidable el 26 de octubre en la Sala Andén\, donde reviviremos la mejor música de los 90 con un line-up espectacular que te hará bailar toda la noche. \nArtistas Destacados\n\nFragma: Regresaremos a los días dorados del trance con sus inolvidables éxitos.\nAlex y Giro: Pondrán a todos a bailar con sus clásicos del dance de los 90.\nDJ Montxo: Ofrecerá mixes explosivos que evocarán la esencia de la época.\nDJ Gordy: Desde la Discoteca Non\, traerá el groove retro que todos amamos.\nIván Jazz: Añadirá un toque de jazz en vivo que te transportará a una era dorada.\nDavid Zelmar: Mantendrá la pista llena de energía.\nXavi Session: Se encargará de que la fiesta siga hasta el amanecer. 🌄\n\nInformación Adicional\nSi al evento van a acudir menores de edad\, consulta las condiciones legales y autorizaciones estipuladas aquí. \n¡No Te Lo Pierdas!\n¡Únete a nosotros para una celebración épica llena de nostalgia\, música y diversión! ¡Compra tus entradas ahora y asegura tu lugar en esta fiesta única! \nComprar entradas
URL:https://burgos.top/evento/molan-los-90-halloween/
LOCATION:Sala Andén 56\, C. San Pedro y San Felices\, 56\, Burgos\, 09001
CATEGORIES:Conciertos,Festivales
ATTACH;FMTTYPE=image/webp:https://burgos.top/wp-content/uploads/2024/10/MOLAN-LOS-90-HALLOWEEN-en-burgos-_1_.webp
END:VEVENT
BEGIN:VEVENT
DTSTART;TZID=Europe/Madrid:20241025T210000
DTEND;TZID=Europe/Madrid:20241025T210000
DTSTAMP:20260420T072502
CREATED:20241012T224506Z
LAST-MODIFIED:20241012T224506Z
UID:10000318-1729890000-1729890000@burgos.top
SUMMARY:Yann Tiersen: Solo Piano + Electronics
DESCRIPTION:Lugar: Sala Andén 56\nDirección: Calle San Pedro y San Felices 56\, 09001 BurgosFecha: 25 de octubre de 2024\nHora: 21:00 \nUn Viaje Musical Íntimo\nYann Tiersen\, conocido por su estilo único y emotivo\, llega a Burgos para ofrecer un espectáculo que promete ser una experiencia inolvidable. En este concierto\, Tiersen fusionará su talento en el piano con elementos electrónicos\, creando un ambiente sonoro que invita a la introspección y la conexión personal. \nExploración Creativa\nEn su gira\, Tiersen se resiste a la rutina y se adentra en nuevos territorios musicales. Manteniendo la esencia de su obra\, se atreve a explorar la música para clubes mediante remuestreo\, reprogramación y recomposición. Este enfoque innovador no solo refleja su evolución como artista\, sino que también ofrece al público una experiencia fresca y emocionante. \nUn Artista Multifacético\nYann Tiersen es reconocido mundialmente por sus composiciones en bandas sonoras\, como la famosa “Amélie”. Su habilidad para combinar melodías nostálgicas con ritmos contemporáneos lo convierte en un referente en la música moderna. \n¡No Te Lo Pierdas!\nAsegura tu lugar para este viaje musical único. ¡Compra tus entradas y prepárate para una noche mágica con Yann Tiersen! \nComprar entradas
URL:https://burgos.top/evento/yann-tiersen-solo-piano-electronics/
LOCATION:Sala Andén 56\, C. San Pedro y San Felices\, 56\, Burgos\, 09001
CATEGORIES:Conciertos
ATTACH;FMTTYPE=image/webp:https://burgos.top/wp-content/uploads/2024/10/Yann-Tiersen-Solo-Piano-Electronics-en-burgos-_2_.webp
END:VEVENT
BEGIN:VEVENT
DTSTART;TZID=Europe/Madrid:20241019T080000
DTEND;TZID=Europe/Madrid:20241019T170000
DTSTAMP:20260420T072502
CREATED:20241007T105553Z
LAST-MODIFIED:20241023T154202Z
UID:10000079-1729324800-1729357200@burgos.top
SUMMARY:Concierto de Crystal Fighters en la Sala Andén de Burgos
DESCRIPTION:Burgos se prepara para recibir a uno de los grupos más emocionantes y energéticos de la escena musical actual: Crystal Fighters. La banda anglo-española\, conocida por su fusión única de estilos que va desde lo-fi tropical electro hasta folktrónica\, se presentará en la Sala Andén el próximo 19 de octubre de 2024. \nUna Parada Imperdible en la Gira por España\nCrystal Fighters ha elegido a Burgos como una de las seis ciudades españolas que visitará durante su próxima gira. Además de nuestra ciudad\, la banda actuará en Santander\, Sevilla\, San Sebastián\, Madrid y Barcelona\, demostrando su creciente popularidad en nuestro país. \nRegreso Esperado a Burgos\nLa última vez que los fans de Crystal Fighters en Burgos pudieron disfrutar de su espectacular directo fue en el Sonorama de 2019. Desde entonces\, la banda ha continuado evolucionando y conquistando nuevos públicos con su mezcla única de sonidos y su energía contagiosa en el escenario. \nUna Trayectoria Llena de Éxitos\nDesde su debut en 2010 con el álbum “Star Of Love”\, Crystal Fighters ha demostrado su versatilidad y capacidad para adaptarse a diferentes géneros. Álbumes como “Cave Rave” (2013)\, “Everything Is My Family” (2016) y “Gaia & Friends” (2019) han consolidado su posición como una de las bandas más interesantes y originales del panorama musical actual. \nNuevos Proyectos y Colaboraciones\nActualmente\, Crystal Fighters se encuentra trabajando en su quinto álbum de estudio\, “Light+”\, que se espera sea lanzado en 2023. El primer sencillo\, “Manifest”\, fue presentado a finales de junio\, dando un adelanto del nuevo sonido que la banda está explorando. Además\, la banda ha colaborado con artistas como Bomba Estéreo y Dagny\, ampliando aún más su rango de influencias. \nUna Noche Mágica en la Sala Andén\nEl concierto de Crystal Fighters en la Sala Andén de Burgos promete ser una experiencia única e inolvidable para todos los amantes de la música. La banda llevará su energía contagiosa y su fusión de estilos al escenario\, creando una atmósfera festiva y llena de ritmo. No te pierdas la oportunidad de ser parte de este evento especial y de disfrutar de la magia de Crystal Fighters en vivo.Las entradas para el concierto de Crystal Fighters en Burgos salen a la venta el 29 de septiembre. ¡No te quedes sin tu entrada para vivir una noche mágica con uno de los grupos más emocionantes del momento!
URL:https://burgos.top/evento/crystal-fighters-en-la-sala-anden-de-burgos/
LOCATION:Sala Andén 56\, C. San Pedro y San Felices\, 56\, Burgos\, 09001
CATEGORIES:Conciertos
ATTACH;FMTTYPE=image/webp:https://burgos.top/wp-content/uploads/2024/05/Crystal-Fighters-en-burgos.webp
END:VEVENT
BEGIN:VEVENT
DTSTART;TZID=Europe/Madrid:20241018T220000
DTEND;TZID=Europe/Madrid:20241018T220000
DTSTAMP:20260420T072502
CREATED:20241007T105554Z
LAST-MODIFIED:20241022T114831Z
UID:10000123-1729288800-1729288800@burgos.top
SUMMARY:Concierto de Al Safir en Burgos sala Andén 56
DESCRIPTION:Diego Izquierdo\, conocido como “Al Safir”\, es el nombre que ha revolucionado el underground nacional con su sonido atípico y prometedor. Nacido en la sierra de Madrid en 1995\, Al Safir ha experimentado un estilo único que ha logrado capturar la atención de más de 700\,000 oyentes mensuales en Spotify y más de 58 millones de visualizaciones en YouTube.Después de varios proyectos y colaboraciones exitosas\, Al Safir ha lanzado su esperado nuevo disco\, “Black Ops”\, que ya ha generado una gran expectación entre el público. Antes de la lanzamiento completo\, los adelantos “Kintsugi”\, “Black Ops” y “Venom” han logrado generar un entusiasmo palpable.Este álbum representa una evolución coherente con su esencia y trayectoria\, sumergiendo al oyente en una realidad cruda y reflejando la vida en las calles\, la dinámica social y los valores desde la perspectiva única de un joven que ya ha dejado su huella en la industria musical.¡No te pierdas la oportunidad de ver a Al Safir en vivo en el Andén 56 el 18 de octubre de 2024! \nDetalles del evento: \n\nFecha: 18 de octubre de 2024\nHora: 21:00\nLocalización: Sala Andén 56\nPrecio: 20€ + GG\nEntrada general: 20€ + GG\nApertura de puertas: 21:00\nConcierto: 22:00\nCondiciones legales y autorizaciones para menores de edad: Consulta aquí\n\n¡No te pierdas la oportunidad de disfrutar de la energía y la crudeza de Al Safir en vivo ¡Comprar entradas ahora y asegura tu lugar en el concierto más esperado del año. \nComprar entradas
URL:https://burgos.top/evento/concierto-de-al-safir-en-burgos-sala-anden-56/
LOCATION:Sala Andén 56\, C. San Pedro y San Felices\, 56\, Burgos\, 09001
CATEGORIES:Conciertos
ATTACH;FMTTYPE=image/webp:https://burgos.top/wp-content/uploads/2024/06/al-safir-en-burgos-sala-anden-56.webp
END:VEVENT
BEGIN:VEVENT
DTSTART;TZID=Europe/Madrid:20241013T003000
DTEND;TZID=Europe/Madrid:20241013T003000
DTSTAMP:20260420T072502
CREATED:20241011T143610Z
LAST-MODIFIED:20241011T150243Z
UID:10000311-1728779400-1728779400@burgos.top
SUMMARY:Electrosonic | Night Girl Power
DESCRIPTION:Fecha: 12 – 13 de octubre de 2024\nPrecio: 10€\nLocalización: Sala Andén 56 \n¡Vuelve ELECTROSONIC | NIGHT al Andén 56!\nNo te pierdas una noche electrizante con Candy Cox\, Essan\, Sirc Sadie y Tabu\, donde el tecno será el protagonista. \n\nInicio del evento: 00:30h (noche del sábado al domingo)\n\nInformación Importante\n\nProhibida la entrada a menores de 18 años.\nSi al evento van a acudir menores de edad\, consulta las condiciones legales y autorizaciones estipuladas aquí.\n\n¡Compra tus Entradas!\nAsegura tu lugar en esta fiesta inolvidable. ¡No te quedes sin tu entrada! \nComprar entradas
URL:https://burgos.top/evento/electrosonic-night-girl-power/
LOCATION:Sala Andén 56\, C. San Pedro y San Felices\, 56\, Burgos\, 09001
CATEGORIES:Conciertos,Festivales
ATTACH;FMTTYPE=image/webp:https://burgos.top/wp-content/uploads/2024/10/Electrosonic-Night-Girl-Power-en-sala-anden-burgos-_1_.webp
END:VEVENT
BEGIN:VEVENT
DTSTART;TZID=Europe/Madrid:20241005T193000
DTEND;TZID=Europe/Madrid:20241005T193000
DTSTAMP:20260420T072502
CREATED:20241007T105600Z
LAST-MODIFIED:20241009T045819Z
UID:10000206-1728156600-1728156600@burgos.top
SUMMARY:BURGOROCK llega a la Sala Andén 56 el 5 de octubre de 2024
DESCRIPTION:El próximo 5 de octubre de 2024 a las 19:30 horas\, la Sala Andén 56 de Burgos acoge el festival BURGOROCK\, una tarde llena de rock con la actuación de bandas como Reincidentes\, Leize\, Zirrosis y Akaldo. \nLineup de rock de primera\nBURGOROCK reúne a algunas de las bandas de rock más destacadas del panorama actual. Los asistentes podrán disfrutar de las actuaciones de Reincidentes\, Leize\, Zirrosis y Akaldo en un evento imperdible para los amantes del género. \nEntradas a la venta\nLas entradas anticipadas tienen un precio de 27€ + gastos de gestión\, mientras que las entradas en taquilla costarán 33€. Recuerda que los menores de 16 años deberán ir acompañados de un adulto\, y los menores de 18 años necesitarán autorización de la sala. \nImportante para menores de edad\nSi van a acudir menores de edad al evento\, es necesario consultar las condiciones legales y autorizaciones estipuladas en la web del evento.¡No te pierdas la oportunidad de disfrutar de una tarde de rock en la Sala Andén 56! Reserva ya tus entradas para BURGOROCK. \nComprar entradas
URL:https://burgos.top/evento/burgorock-llega-a-la-sala-anden-56-el-5-de-octubre-de-2024/
LOCATION:Sala Andén 56\, C. San Pedro y San Felices\, 56\, Burgos\, 09001
CATEGORIES:Conciertos
ATTACH;FMTTYPE=image/webp:https://burgos.top/wp-content/uploads/2024/07/burgorock-2024-sala-anden-56-3.webp
END:VEVENT
BEGIN:VEVENT
DTSTART;TZID=Europe/Madrid:20240928T230000
DTEND;TZID=Europe/Madrid:20240928T230000
DTSTAMP:20260420T072502
CREATED:20241007T105411Z
LAST-MODIFIED:20241009T045820Z
UID:10000205-1727564400-1727564400@burgos.top
SUMMARY:Forever Young llega a Burgos el 28 de septiembre de 2024 en Sala Andén 56
DESCRIPTION:La mayor fiesta remember de España\, Forever Young\, llega a Burgos el próximo 28 de septiembre de 2024 a las 23:00 horas en la Sala Andén 56. Tras las fiestas aniversario celebradas en Madrid\, ahora tienes la oportunidad de disfrutar de este evento tan espectacular. \nLineup de lujo\nForever Young contará con la presencia de un lineup de lujo\, con los DJs Abel Ramos\, DJ Neil\, Martin R.\, Pedro del Moral y Rubén Durán. \nEntradas a la venta\nLas entradas para este evento tienen un precio de 15€ + gastos de gestión para la entrada general sin consumición\, y 20€ + gastos de gestión para la entrada VIP con consumición. Puedes adquirir tus entradas a través de los canales habituales. \nImportante para menores de edad\nSi van a acudir menores de edad al evento\, es necesario consultar las condiciones legales y autorizaciones estipuladas en la web del evento.¡No te pierdas la oportunidad de vivir una noche inolvidable con Forever Young en Burgos! Reserva ya tus entradas para disfrutar de la mayor fiesta remember de España. \nComprar entradas
URL:https://burgos.top/evento/forever-young-llega-a-burgos-el-28-de-septiembre-de-2024-en-sala-anden-56/
LOCATION:Sala Andén 56\, C. San Pedro y San Felices\, 56\, Burgos\, 09001
CATEGORIES:Conciertos
ATTACH;FMTTYPE=image/webp:https://burgos.top/wp-content/uploads/2024/07/Forever-Young-Burgos-en-sala-anden.webp
END:VEVENT
BEGIN:VEVENT
DTSTART;TZID=Europe/Madrid:20240907T160000
DTEND;TZID=Europe/Madrid:20240907T170000
DTSTAMP:20260420T072502
CREATED:20241007T105417Z
LAST-MODIFIED:20241009T051457Z
UID:10000124-1725724800-1725728400@burgos.top
SUMMARY:IV BURGORE DEATH FEST en Sala Andén 56
DESCRIPTION:¡El IV BURGORE DEATH FEST\, el festival de música extrema más importante de Burgos\, vuelve un año más al Andén 56 el próximo 7 de septiembre!\nLas entradas anticipadas ya están a la venta a un precio de 30€. En taquilla el precio será de 35€.\nSi van a asistir menores de edad\, es necesario que consulten las condiciones legales y autorizaciones estipuladas para poder acceder al evento.\n¡No te pierdas esta oportunidad de disfrutar de la mejor música extrema en vivo! Compra tus entradas ahora y reserva tu lugar en este imperdible festival. \n  \n\nComprar entradas
URL:https://burgos.top/evento/iv-burgore-death-fest-en-sala-anden-56/
LOCATION:Sala Andén 56\, C. San Pedro y San Felices\, 56\, Burgos\, 09001
CATEGORIES:Conciertos,Festivales
ATTACH;FMTTYPE=image/png:https://burgos.top/wp-content/uploads/2024/06/IV-BURGORE-DEATH-FEST-sala-anden-56.png
END:VEVENT
BEGIN:VEVENT
DTSTART;TZID=Europe/Madrid:20240704T200000
DTEND;TZID=Europe/Madrid:20240704T200000
DTSTAMP:20260420T072502
CREATED:20241007T105438Z
LAST-MODIFIED:20241009T045834Z
UID:10000163-1720123200-1720123200@burgos.top
SUMMARY:Paolo Nutini llega al Andén 56 el 4 de julio de 2024
DESCRIPTION:El próximo jueves 4 de julio\, el cantante escocés Paolo Nutini actuará en la Sala Andén 56. Tras el éxito de su último álbum “Last Night In The Bittersweet”\, que alcanzó el número 1 en Reino Unido\, Nutini se ha consolidado como uno de los mejores artistas de su generación. \nEntradas a la venta\nLas entradas para este concierto tienen un precio de 32€ + gastos de gestión. Cabe destacar que los menores de 16 años deberán ir acompañados de un adulto\, mientras que los menores de 18 años necesitarán autorización firmada de la sala. \nUn artista consolidado\nPaolo Nutini se ha convertido en una de las voces más destacadas de su generación. Su último trabajo\, “Last Night In The Bittersweet”\, fue un éxito rotundo\, alcanzando el número 1 en las listas británicas. Ahora\, el artista escocés llega a la Sala Andén 56 para ofrecer un concierto que promete ser una experiencia única para sus fans. \nNo te pierdas la oportunidad de disfrutar en directo de la música de Paolo Nutini el próximo 4 de julio en la Sala Andén 56 de Burgos. ¡Reserva ya tus entradas! \nComprar entradas
URL:https://burgos.top/evento/paolo-nutini-llega-al-anden-56-el-4-de-julio-de-2024/
LOCATION:Sala Andén 56\, C. San Pedro y San Felices\, 56\, Burgos\, 09001
CATEGORIES:Conciertos
ATTACH;FMTTYPE=image/webp:https://burgos.top/wp-content/uploads/2024/06/Paolo-Nutini-en-burgos.webp
END:VEVENT
BEGIN:VEVENT
DTSTART;TZID=Europe/Madrid:20240702T013000
DTEND;TZID=Europe/Madrid:20240702T013000
DTSTAMP:20260420T072502
CREATED:20241007T105447Z
LAST-MODIFIED:20241011T110511Z
UID:10000169-1719883800-1719883800@burgos.top
SUMMARY:After - Wild Bfest II en Burgos
DESCRIPTION:El próximo 2 de julio de 2024\, el Andén 56 de Burgos acoge la segunda edición del After Party de Wild Bfest. ¡No te pierdas el after más salvaje del año! \nContinúa la fiesta después de Wild Bfest\nSi siempre te quedas con ganas de más después de disfrutar del Wild Bfest\, este after party es la solución perfecta. Prepárate para una noche llena de música\, diversión y energía. \nDj Crisrax y Hugo Fraile en los platos\nLos encargados de poner a bailar a los asistentes serán los Dj’s Crisrax y Hugo Fraile\, dos de los artistas más destacados de la escena electrónica actual. \nCómpralo con el Bono Cultural Joven\nLas entradas para este after party tienen un precio desde 6€ y pueden adquirirse con el Bono Cultural Joven. Una oportunidad única para disfrutar de una noche inolvidable.¡No te pierdas la oportunidad de continuar la fiesta en el Andén 56 de Burgos! Reserva ya tus entradas para After – Wild Bfest II. \nComprar entradas
URL:https://burgos.top/evento/after-wild-bfest-ii-en-burgos/
LOCATION:Sala Andén 56\, C. San Pedro y San Felices\, 56\, Burgos\, 09001
CATEGORIES:Conciertos,Festivales
ATTACH;FMTTYPE=image/png:https://burgos.top/wp-content/uploads/2024/06/after-wild-bfest-ii-sala-anden-56-burgos.png
END:VEVENT
BEGIN:VEVENT
DTSTART;TZID=Europe/Madrid:20240701T160000
DTEND;TZID=Europe/Madrid:20240702T053000
DTSTAMP:20260420T072502
CREATED:20241007T105326Z
LAST-MODIFIED:20241011T110557Z
UID:10000170-1719849600-1719898200@burgos.top
SUMMARY:Wild BFest en la sala Andén 56 de burgos
DESCRIPTION:El próximo 1 de julio\, Wild BFest celebra su segunda edición en Burgos. El festival arrancará a las 16:00 horas y continuará hasta que amanezca\, con los mejores artistas del panorama nacional. \nUna cita imprescindible para los amantes de la música\nWild BFest se ha consolidado como uno de los festivales más esperados del verano en Burgos. Su segunda edición promete ser aún más espectacular\, con una programación cargada de artistas de primer nivel que harán vibrar al público. \nDesde la tarde hasta el amanecer\nEl festival arrancará a las 16:00 horas y se prolongará hasta que salga el sol. Una fiesta sin descanso en la que los asistentes podrán disfrutar de la música en directo durante horas. \n¡Os esperamos para darlo todo!\nWild BFest invita a todos los burgaleses y visitantes a acudir a esta segunda edición para disfrutar de una experiencia única. ¡Prepárate para una jornada llena de música\, diversión y energía!
URL:https://burgos.top/evento/wild-bfest-en-la-sala-anden-56-de-burgos/
LOCATION:Sala Andén 56\, C. San Pedro y San Felices\, 56\, Burgos\, 09001
CATEGORIES:Conciertos,Festivales
ATTACH;FMTTYPE=image/webp:https://burgos.top/wp-content/uploads/2024/06/Wild-BFest-sala-anden-56-burgos.webp
END:VEVENT
BEGIN:VEVENT
DTSTART;TZID=Europe/Madrid:20240614T203000
DTEND;TZID=Europe/Madrid:20240614T203000
DTSTAMP:20260420T072502
CREATED:20241007T105349Z
LAST-MODIFIED:20241009T045849Z
UID:10000050-1718397000-1718397000@burgos.top
SUMMARY:Rival Sons Concierto en Burgos
DESCRIPTION:River Sons se ha destacado por su estilo moderno y enérgico\, fusionando elementos de psicodelia\, soul y góspel. ¡Una experiencia musical única que no querrás perderte! \n\n\n\nLugar: Sala Andén 56\, 14 de Junio\, Precio: 30\,00 €
URL:https://burgos.top/evento/rival-sons-concierto-en-burgos/
LOCATION:Sala Andén 56\, C. San Pedro y San Felices\, 56\, Burgos\, 09001
CATEGORIES:Conciertos
END:VEVENT
BEGIN:VEVENT
DTSTART;TZID=Europe/Madrid:20240607T235900
DTEND;TZID=Europe/Madrid:20240607T235900
DTSTAMP:20260420T072502
CREATED:20241007T105351Z
LAST-MODIFIED:20241009T045851Z
UID:10000090-1717804740-1717804740@burgos.top
SUMMARY:Unity Techno: La fiesta perfecta para rematar el Curpillos 2024
DESCRIPTION:El viernes 7 de junio\, la Sala Andén 56 de Burgos se convertirá en el epicentro de la música electrónica con la llegada de Unity Techno\, una noche de fiesta inolvidable que cerrará con broche de oro el Curpillos 2024. El DJ y productor DIØN será el artista principal de esta edición\, ofreciendo una sesión de música techno que no te dejará dormir.\nDetalles de la fiesta\nFecha: Viernes 7 de junio\nHora: 23:59\nLugar: Sala Andén 56\nEntrada: 10€\nApertura de puertas: 00:30h\nEdad mínima: 18 años\nNo te pierdas la fiesta\nDisfruta de la mejor música techno y de la energía de la multitud en una noche que promete ser inolvidable. ¡No te pierdas la oportunidad de rematar el Curpillos 2024 con estilo y música electrónica en la Sala Andén 56 de Burgos. ¡Conseguir entradas ya! \n\nComprar entradas
URL:https://burgos.top/evento/unity-techno-la-fiesta-perfecta-para-rematar-el-curpillos-2024/
LOCATION:Sala Andén 56\, C. San Pedro y San Felices\, 56\, Burgos\, 09001
CATEGORIES:Conciertos
ATTACH;FMTTYPE=image/webp:https://burgos.top/wp-content/uploads/2024/05/unity-junio-sala-anden.webp
END:VEVENT
BEGIN:VEVENT
DTSTART;TZID=Europe/Madrid:20240531T210000
DTEND;TZID=Europe/Madrid:20240531T210000
DTSTAMP:20260420T072502
CREATED:20241007T105355Z
LAST-MODIFIED:20241009T045853Z
UID:10000051-1717189200-1717189200@burgos.top
SUMMARY:Andrés Calamaro Concierto en Burgos 2024
DESCRIPTION:¡Atención\, Burgos! El legendario Andrés Calamaro llega a la sala Andén 56 el viernes 31 de mayo a las 21:00h con su gira “Agenda 1999”. ¡Prepárate para disfrutar de una noche llena de música inolvidable! \n\n\n\nLugar: Sala Andén 56\, 31 de mayo\, Precio: 40\,70 €
URL:https://burgos.top/evento/andres-calamaro-concierto-en-burgos-2024/
LOCATION:Sala Andén 56\, C. San Pedro y San Felices\, 56\, Burgos\, 09001
CATEGORIES:Conciertos
ATTACH;FMTTYPE=image/webp:https://burgos.top/wp-content/uploads/2024/05/Concierto-Andres-Calamaro-en-Burgos.webp
END:VEVENT
BEGIN:VEVENT
DTSTART;TZID=Europe/Madrid:20240518T173000
DTEND;TZID=Europe/Madrid:20240518T200000
DTSTAMP:20260420T072502
CREATED:20241007T105405Z
LAST-MODIFIED:20241011T112153Z
UID:10000066-1716053400-1716062400@burgos.top
SUMMARY:SPRING PARTY JOVEN
DESCRIPTION:SPRING PARTY JOVEN\n¡SPRING PARTY JOVEN a Burgos\, al Andén 56!\nSi tienes entre 14 y 17 años\, ven a disfrutar de los DJs David Zelmar y Cris Rax en una tarde inolvidable. \n*Entrada general 7€ + GG / Taquilla 9€\n**Obligatorio presentar DNI en puerta
URL:https://burgos.top/evento/spring-party-joven/
LOCATION:Sala Andén 56\, C. San Pedro y San Felices\, 56\, Burgos\, 09001
CATEGORIES:Conciertos,Festivales
ATTACH;FMTTYPE=image/webp:https://burgos.top/wp-content/uploads/2024/05/fiesta-primavera-burgos.webp
END:VEVENT
BEGIN:VEVENT
DTSTART;TZID=Europe/Madrid:20240517T220000
DTEND;TZID=Europe/Madrid:20240517T220000
DTSTAMP:20260420T072502
CREATED:20241007T105406Z
LAST-MODIFIED:20241009T045857Z
UID:10000033-1715983200-1715983200@burgos.top
SUMMARY:Álvaro de Luna en concierto en Burgos
DESCRIPTION:Concierto del cantante sevillano reconocido por su participación en Sinsinati\, ofreciendo su voz única y cautivadora. \n\n\n\nLugar: Teatro Principal\, 17 de mayo\, 22:00\, Precio: Desde 25€
URL:https://burgos.top/evento/alvaro-de-luna-en-concierto-en-burgos/
LOCATION:Sala Andén 56\, C. San Pedro y San Felices\, 56\, Burgos\, 09001
CATEGORIES:Conciertos
END:VEVENT
END:VCALENDAR