BEGIN:VCALENDAR
VERSION:2.0
PRODID:-//BurgosTop - ECPv6.7.0//NONSGML v1.0//EN
CALSCALE:GREGORIAN
METHOD:PUBLISH
X-ORIGINAL-URL:https://burgos.top
X-WR-CALDESC:Eventos para BurgosTop
REFRESH-INTERVAL;VALUE=DURATION:PT1H
X-Robots-Tag:noindex
X-PUBLISHED-TTL:PT1H
BEGIN:VTIMEZONE
TZID:Europe/Madrid
BEGIN:DAYLIGHT
TZOFFSETFROM:+0100
TZOFFSETTO:+0200
TZNAME:CEST
DTSTART:20240331T010000
END:DAYLIGHT
BEGIN:STANDARD
TZOFFSETFROM:+0200
TZOFFSETTO:+0100
TZNAME:CET
DTSTART:20241027T010000
END:STANDARD
BEGIN:DAYLIGHT
TZOFFSETFROM:+0100
TZOFFSETTO:+0200
TZNAME:CEST
DTSTART:20250330T010000
END:DAYLIGHT
BEGIN:STANDARD
TZOFFSETFROM:+0200
TZOFFSETTO:+0100
TZNAME:CET
DTSTART:20251026T010000
END:STANDARD
END:VTIMEZONE
BEGIN:VEVENT
DTSTART;TZID=Europe/Madrid:20250131T210000
DTEND;TZID=Europe/Madrid:20250201T030000
DTSTAMP:20260423T121435
CREATED:20250124T092121Z
LAST-MODIFIED:20250124T092157Z
UID:10001570-1738357200-1738378800@burgos.top
SUMMARY:Orquesta Grupo Sonido en las fiestas de las Candelas 2025
DESCRIPTION:Baile de Tarde\n\nHora: 21:00h\nOrquesta: Grupo Sonido\nLugar: Plaza Nueva de Gamonal\n\nVerbena Nocturna\n\nHora: 00:00h\nOrquesta: Grupo Sonido\nLugar: Plaza Nueva de Gamonal\n\n¡Prepárate para una noche de música\, baile y diversión en el corazón de Gamonal! La Orquesta Grupo Sonido animará la velada con su mejor repertorio\, invitándote a disfrutar de las tradicionales fiestas de Las Candelas 2025.
URL:https://burgos.top/evento/orquesta-grupo-sonido-en-las-fiestas-de-las-candelas-2025/
LOCATION:Plaza Nueva de Gamonal\, Plaza Nueva de Gamonal\, Burgos\, Burgos
CATEGORIES:Conciertos
ATTACH;FMTTYPE=image/webp:https://burgos.top/wp-content/uploads/2025/01/orquesta-sonido-en-burgos.webp
END:VEVENT
BEGIN:VEVENT
DTSTART;TZID=Europe/Madrid:20250125T190000
DTEND;TZID=Europe/Madrid:20250125T190000
DTSTAMP:20260423T121435
CREATED:20250113T110844Z
LAST-MODIFIED:20250113T124459Z
UID:10001481-1737831600-1737831600@burgos.top
SUMMARY:IV Festival Las Candelas 2025
DESCRIPTION:La 4ª edición del Festival Las Candelas promete una noche explosiva de rock con 5 bandas emergentes que lucharán por un lugar en el Zurbarán Rock Burgos 2025. \nBandas Participantes\nCategoría Castilla y León\nMortal Maze (Segovia)\n\nBanda de Speed/Thrash Metal\nFormada en 2016 en una localidad segoviana\nHan lanzado un disco homónimo en 2021\nFusionan thrash metal con elementos de power\, black y speed metal\n\nCorvus V (León)\n\nCombina metal moderno\, hard rock\, groove e industrial\nTienen cuatro discos de estudio\nSu último álbum “Iter” es de 2024\n\nBlaze The Trail (Valladolid)\n\nExponentes del metalcore\nCuentan con un EP “Off The Ground” (2017)\nÁlbum “Not A Game” (2019)\nSencillos destacados: “Kill The System”\, “When Worlds Collide”\n\nCategoría Burgos\nMämut Mæntra\n\nBanda de rock burgalesa\nSe definen como “rock psicotropical”\nCombinan sonidos stoner y “dessert rock”\nLanzaron su primer single “Árbol Inmortal” en junio de 2024\n\nCinnamon\n\nInfluencias de garage\, punk hardcore y stoner\nReconocidos por su sonido energético y crudo\n\nDetalles del Evento\n\n📅 Fecha: Sábado\, 25 de enero de 2025\n🕖 Hora: Desde las 19:00h\n📍 Lugar: Plaza Nueva de Gamonal\, Burgos\n💸 Entrada: Gratuita\n\nPremio Especial\nLas mejores bandas ganarán un lugar en el Zurbarán Rock Burgos 2025\, donde compartirán cartel con STRATOVARIUS y HELL IN THE CLUB.¡Una oportunidad única para descubrir el talento emergente del rock de Castilla y León! 🎸🤘
URL:https://burgos.top/evento/iv-festival-las-candelas-2025/
LOCATION:Plaza Nueva de Gamonal\, Plaza Nueva de Gamonal\, Burgos\, Burgos
CATEGORIES:Conciertos,Festivales
ATTACH;FMTTYPE=image/webp:https://burgos.top/wp-content/uploads/2025/01/iv-festival-las-candelas-2025.webp
END:VEVENT
BEGIN:VEVENT
DTSTART;TZID=Europe/Madrid:20250125T143000
DTEND;TZID=Europe/Madrid:20250125T143000
DTSTAMP:20260423T121435
CREATED:20250115T092440Z
LAST-MODIFIED:20250115T092637Z
UID:10001516-1737815400-1737815400@burgos.top
SUMMARY:Paella Benéfica a favor de Valencia de la Peña Jóvenes de Gamonal
DESCRIPTION:📅 Fecha: 25 de enero de 2025\n⏰ Hora: 14:30\n📍 Lugar: Plaza Nueva de Gamonal \nUn Evento Solidario por Valencia\nLa Peña Jóvenes de Gamonal organiza una paella benéfica para apoyar a los damnificados de Valencia\, uniendo la gastronomía con la solidaridad. \nDetalles del Evento: \n\nPrecio: 3\,50€ (ración + consumición)\nObjetivo: Recaudar fondos para los afectados\n\nColaboradores\nUna amplia red de empresas y negocios locales respaldan esta iniciativa solidaria\, incluyendo: \n\nASPA\nArcecarne\nMoreno Castillo\nMontó\nFélix Dieste Vivanco\nBorde Tapas\nAislamientos Burgaleses\nUvesa\nEl Huerto\nEl Otro Charol\nDelicias Alimentación\nModa Maru\nSantos Martínez\nUltracongelados Amparo\nLatótica Peluquería\n\n¡Únete a esta causa y disfruta de una deliciosa paella por un gran propósito!
URL:https://burgos.top/evento/paella-benefica-a-favor-de-valencia-de-la-pena-jovenes-de-gamonal/
LOCATION:Plaza Nueva de Gamonal\, Plaza Nueva de Gamonal\, Burgos\, Burgos
CATEGORIES:Ocio
ATTACH;FMTTYPE=image/webp:https://burgos.top/wp-content/uploads/2025/01/paella-benefica-jovenes-de-gamonal.webp
END:VEVENT
BEGIN:VEVENT
DTSTART;TZID=Europe/Madrid:20250116T193000
DTEND;TZID=Europe/Madrid:20250116T193000
DTSTAMP:20260423T121435
CREATED:20250113T172327Z
LAST-MODIFIED:20250113T172327Z
UID:10001490-1737055800-1737055800@burgos.top
SUMMARY:Concierto de Flecha & Doctor J
DESCRIPTION:Fecha: 16 de enero de 2025\nHora: 19:30\nLugar: Salón de Actos Plaza Nueva\, Gamonal (Calle Candelas s/n)\nPrecio: Entrada libre hasta completar aforo \nEl jueves 16 de enero\, no te pierdas el emocionante concierto de Flecha & Doctor J en el salón de actos Plaza Nueva de Gamonal\, a las 19:30 horas. La entrada es gratuita hasta completar el aforo. \nSobre los Artistas\nManuel Flecha es un artista camaleónico que abarca una amplia gama de estilos musicales\, desde el folk y rock hasta el soul y la psicodelia. Con una trayectoria rica en conciertos y colaboraciones\, Flecha presenta su primer disco en solitario titulado “You are not alone”\, que incluye temas originales inspirados en la música americana y el folk inglés de los años 70.Joaquín García\, bajista y contrabajista burgalés\, aporta su carácter ecléctico al dúo. Con una sólida formación que abarca desde la música clásica hasta el jazz y el rockabilly\, Joaquín crea una base rítmica y armónica que complementa perfectamente la guitarra y la voz de Flecha\, resultando en un sonido compacto y distintivo.
URL:https://burgos.top/evento/concierto-de-flecha-doctor-j/
LOCATION:Plaza Nueva de Gamonal\, Plaza Nueva de Gamonal\, Burgos\, Burgos
CATEGORIES:Conciertos
ATTACH;FMTTYPE=image/webp:https://burgos.top/wp-content/uploads/2025/01/Flecha-Doctor-J-en-burgos.webp
END:VEVENT
BEGIN:VEVENT
DTSTART;TZID=Europe/Madrid:20241122T203000
DTEND;TZID=Europe/Madrid:20241122T223000
DTSTAMP:20260423T121435
CREATED:20241113T144751Z
LAST-MODIFIED:20241113T144751Z
UID:10000675-1732307400-1732314600@burgos.top
SUMMARY:Girish and the Chronicles
DESCRIPTION:La banda india Girish and the Chronicles (GATC)\, que fue la sensación del Zurbarán Rock 2022\, regresa a Burgos dentro de su gira Re-Ignition Tour 2024. En esta ocasión\, el concierto se realizará en un formato íntimo y con aforo reducido\, ofreciendo una experiencia única para los amantes del rock. \nFecha: Viernes 22 de noviembre\nHora: 20:30 h\nLugar: Fundación Círculo\, Salón de actos\, Plaza Nueva de Gamonal\nEntrada: 5 \nVenta de entradas: Zurbarán Rock BAR \nLas entradas estarán disponibles a partir del jueves 7 de noviembre a las 19:30 h en Zurbarán Rock Bar (C/ Blanca de Castilla\, 2). \n¡No te pierdas la oportunidad de disfrutar de esta banda de rock en un concierto exclusivo y lleno de energía!
URL:https://burgos.top/evento/girish-and-the-chronicles/
LOCATION:Plaza Nueva de Gamonal\, Plaza Nueva de Gamonal\, Burgos\, Burgos
CATEGORIES:Conciertos
ATTACH;FMTTYPE=image/webp:https://burgos.top/wp-content/uploads/2024/11/Girish-and-the-Chronicles-22-de-Noviembre.webp
END:VEVENT
BEGIN:VEVENT
DTSTART;TZID=Europe/Madrid:20241114T193000
DTEND;TZID=Europe/Madrid:20241114T193000
DTSTAMP:20260423T121435
CREATED:20241111T154520Z
LAST-MODIFIED:20241111T154520Z
UID:10000669-1731612600-1731612600@burgos.top
SUMMARY:Brama teatro. Tula Varona
DESCRIPTION:Fecha: 14 de noviembre de 2024\nHora: 19:30\nLugar: Casa de la Cultura de Gamonal\nDirección: Calle Pablo Ruiz Picasso\, s/n\, 9007\, Burgos\nTeléfono de contacto: 947 288 861\nEntrada: Libre\n\nSobre la obra\n“Tula Varona” es una obra inspirada en uno de los primeros relatos de Ramón María del Valle-Inclán\, titulado “Féminas”. La historia gira en torno a Tula Varona\, una figura que representa a la “femme fatale”\, caracterizada por su belleza y su fuerte personalidad. \nCaracterísticas del personaje\nTula Varona es: \n\nUna mujer empoderada y segura de sí misma.\nAtractiva y seductora.\nRebelde ante las normas sociales de su época.\n\nSobre el autor\nRamón María del Valle-Inclán (1866-1936) fue un influyente escritor español\, conocido por su estilo innovador y su contribución al teatro y la narrativa española. Su obra se caracteriza por el uso del “esperpento”\, una forma de sátira que expone las contradicciones y miserias de la sociedad. ¡No te pierdas esta oportunidad de disfrutar de una obra significativa en el panorama literario español!
URL:https://burgos.top/evento/brama-teatro-tula-varona/
LOCATION:Plaza Nueva de Gamonal\, Plaza Nueva de Gamonal\, Burgos\, Burgos
CATEGORIES:Teatro
ATTACH;FMTTYPE=image/webp:https://burgos.top/wp-content/uploads/2024/11/TULA-VARONA-en-burgos.webp
END:VEVENT
BEGIN:VEVENT
DTSTART;TZID=Europe/Madrid:20240703T210000
DTEND;TZID=Europe/Madrid:20240704T030000
DTSTAMP:20260423T121435
CREATED:20241007T105441Z
LAST-MODIFIED:20251229T233724Z
UID:10000106-1720040400-1720062000@burgos.top
SUMMARY:Verbena con la oquesta Gard3n Sampedros 2024
DESCRIPTION:Gard3n es una orquesta de reciente creación\, formada en 2023\, caracterizada por la juventud y energía que desprenden en el escenario. El miércoles 3 de julio\, cerrarán las fiestas en la plaza Nueva de Gamonal.\nDetalles técnicos\nInfraestructura técnica: Trailer escenario\nSonido: 40.000 W array\nIluminación: Robótica LED de última generación\, pantallas LED y videoproyección\nComponentes: 10 componentes\nCuarteto rítmico: 4 cantantes\, saxo\, trompeta\nNecesidades técnicas: Generador de 100 kabesas\nVallas para delimitar escenario\nPara todos los públicos\nNo te pierdas esta oportunidad de disfrutar de la energía y la juventud de Gard3n en la plaza Nueva de Gamonal. ¡Consigue tus entradas ya y prepárate para una noche inolvidable
URL:https://burgos.top/evento/verbena-con-la-oquesta-gard3n-sampedros-2024/
LOCATION:Plaza Nueva de Gamonal\, Plaza Nueva de Gamonal\, Burgos\, Burgos
CATEGORIES:Conciertos
ATTACH;FMTTYPE=image/webp:https://burgos.top/wp-content/uploads/2024/06/orquesta-garden-sampedros-2024.webp
END:VEVENT
END:VCALENDAR