BEGIN:VCALENDAR
VERSION:2.0
PRODID:-//BurgosTop - ECPv6.7.0//NONSGML v1.0//EN
CALSCALE:GREGORIAN
METHOD:PUBLISH
X-WR-CALNAME:BurgosTop
X-ORIGINAL-URL:https://burgos.top
X-WR-CALDESC:Eventos para BurgosTop
REFRESH-INTERVAL;VALUE=DURATION:PT1H
X-Robots-Tag:noindex
X-PUBLISHED-TTL:PT1H
BEGIN:VTIMEZONE
TZID:Europe/Madrid
BEGIN:DAYLIGHT
TZOFFSETFROM:+0100
TZOFFSETTO:+0200
TZNAME:CEST
DTSTART:20240331T010000
END:DAYLIGHT
BEGIN:STANDARD
TZOFFSETFROM:+0200
TZOFFSETTO:+0100
TZNAME:CET
DTSTART:20241027T010000
END:STANDARD
BEGIN:DAYLIGHT
TZOFFSETFROM:+0100
TZOFFSETTO:+0200
TZNAME:CEST
DTSTART:20250330T010000
END:DAYLIGHT
BEGIN:STANDARD
TZOFFSETFROM:+0200
TZOFFSETTO:+0100
TZNAME:CET
DTSTART:20251026T010000
END:STANDARD
BEGIN:DAYLIGHT
TZOFFSETFROM:+0100
TZOFFSETTO:+0200
TZNAME:CEST
DTSTART:20260329T010000
END:DAYLIGHT
BEGIN:STANDARD
TZOFFSETFROM:+0200
TZOFFSETTO:+0100
TZNAME:CET
DTSTART:20261025T010000
END:STANDARD
END:VTIMEZONE
BEGIN:VEVENT
DTSTART;TZID=Europe/Madrid:20260215T190000
DTEND;TZID=Europe/Madrid:20260215T190000
DTSTAMP:20260419T172913
CREATED:20260205T173226Z
LAST-MODIFIED:20260205T173226Z
UID:10002818-1771182000-1771182000@burgos.top
SUMMARY:BATUBULAN 'El hechizo de Batubulan'
DESCRIPTION:Dentro de la programación del Carnaval 2026 en Burgos\, Batubulan te envuelve con un pasacalles a ritmo de batucada lleno de ritmo contagioso y energía festiva.\nLugar: Plaza del Rey San Fernando\, itinerante. \n➤Puedes consultar aquí el programa completo del Carnaval 2026 en Burgos
URL:https://burgos.top/evento/batubulan-el-hechizo-de-batubulan/
LOCATION:Plaza del Rey San Fernando\, Plaza del rey San Fernando\, Burgos\, 09003
CATEGORIES:Música
ATTACH;FMTTYPE=image/webp:https://burgos.top/wp-content/uploads/2026/02/BATUBULAN.webp
END:VEVENT
BEGIN:VEVENT
DTSTART;TZID=Europe/Madrid:20260215T133000
DTEND;TZID=Europe/Madrid:20260215T170000
DTSTAMP:20260419T172913
CREATED:20260205T172102Z
LAST-MODIFIED:20260205T172102Z
UID:10002815-1771162200-1771174800@burgos.top
SUMMARY:'Canto de chirigotas' COMPARSA PEÑA RECREATIVA CASTELLANA
DESCRIPTION:Dentro de la programación del Carnaval 2026 en Burgos\, vuelven los más esperados con la sátira y el humor imprescindible de este colectivo que no podía faltar en los días carnavaleros.\nLugar: Plaza del Rey San Fernando\, puerta del Sarmental de la Catedral. \n➤Puedes consultar aquí el programa completo del Carnaval 2026 en Burgos
URL:https://burgos.top/evento/canto-de-chirigotas-comparsa-pena-recreativa-castellana/
LOCATION:Plaza del Rey San Fernando\, Plaza del rey San Fernando\, Burgos\, 09003
CATEGORIES:Música
ATTACH;FMTTYPE=image/webp:https://burgos.top/wp-content/uploads/2025/02/chirigota-los-papamoscas.webp
END:VEVENT
BEGIN:VEVENT
DTSTART;TZID=Europe/Madrid:20251218T180000
DTEND;TZID=Europe/Madrid:20251218T180000
DTSTAMP:20260419T172913
CREATED:20251216T112600Z
LAST-MODIFIED:20251216T115710Z
UID:10002354-1766080800-1766080800@burgos.top
SUMMARY:Villancicos con trompetas\, trompas\, trombones y tubas en Plaza del Rey San Fernando
DESCRIPTION:El Departamento de Instrumentos de Viento-Metal del Conservatorio Profesional de Música Rafael Frühbeck de Burgos llenará la Plaza del Rey San Fernando de espíritu navideño con un recital de villancicos. \nTrompetas\, trompas\, trombones y tubas se unirán para ofrecer una experiencia sonora llena de fuerza\, alegría y tradición\, perfecta para disfrutar en familia y dejarse envolver por la magia de la Navidad. \n✨ Descubre todos los eventos navideños 🎄 y muchas más sorpresas en el Programa completo de Navidad 2025 Burgos 🎅 ✨
URL:https://burgos.top/evento/villancicos-con-trompetas-trompas-trombones-y-tubas-en-plaza-del-rey-san-fernando/
LOCATION:Plaza del Rey San Fernando\, Plaza del rey San Fernando\, Burgos\, 09003
CATEGORIES:Conciertos
ATTACH;FMTTYPE=image/png:https://burgos.top/wp-content/uploads/2024/11/music-159865_640.png
END:VEVENT
BEGIN:VEVENT
DTSTART;TZID=Europe/Madrid:20250302T133000
DTEND;TZID=Europe/Madrid:20250302T133000
DTSTAMP:20260419T172913
CREATED:20250224T162907Z
LAST-MODIFIED:20250224T162907Z
UID:10001781-1740922200-1740922200@burgos.top
SUMMARY:CANTO DE CHIRIGOTAS – PEÑA RECREATIVA CASTELLANA
DESCRIPTION:📅 Domingo 2 de marzo | 🕜 13:30 h📍 Escaleras del Sarmental de la Catedral – Plaza del Rey San Fernando \nLa sátira y el humor vuelven con la Peña Recreativa Castellana y su tradicional canto de chirigotas. Disfruta de esta divertida actuación que no puede faltar en los días de Carnaval. \nPuedes consultar aquí el programa completo de Carnaval 2025
URL:https://burgos.top/evento/canto-de-chirigotas-pena-recreativa-castellana/
LOCATION:Plaza del Rey San Fernando\, Plaza del rey San Fernando\, Burgos\, 09003
CATEGORIES:Ocio
ATTACH;FMTTYPE=image/webp:https://burgos.top/wp-content/uploads/2025/02/chirigota-los-papamoscas.webp
END:VEVENT
BEGIN:VEVENT
DTSTART;TZID=Europe/Madrid:20250301T160000
DTEND;TZID=Europe/Madrid:20250301T160000
DTSTAMP:20260419T172913
CREATED:20250224T152657Z
LAST-MODIFIED:20250224T152657Z
UID:10001775-1740844800-1740844800@burgos.top
SUMMARY:Desfile de la Sardina | Carnaval 2025
DESCRIPTION:La Sardina recorre Burgos en su tradicional desfile\, acompañada del ritmo festivo de charangas. ¡Únete a la celebración! \n📅 Sábado 1 de marzo🕓 16:00 h – Salida desde Plaza Roma🎺 Recorrido: Calle Vitoria hasta el Paseo Sierra de Atapuerca⚫ 17:00 h – Ceremonia de entrega de la Sardina en la Plaza del Rey \n📢 Organizan: Asociación de Hostelería Gamonal-Capiscol y Asociación Burgos Centro y Cía. \nPuedes consultar aquí el programa completo de Carnaval 2025
URL:https://burgos.top/evento/desfile-de-la-sardina-carnaval-2025/
LOCATION:Plaza Roma\, Plaza Roma\, Burgos\, 09007
CATEGORIES:Ocio,Tradiciones
ATTACH;FMTTYPE=image/webp:https://burgos.top/wp-content/uploads/2025/01/entierro-de-la-sardina-en-burgos.webp
END:VEVENT
BEGIN:VEVENT
DTSTART;TZID=Europe/Madrid:20240629T110000
DTEND;TZID=Europe/Madrid:20240629T110000
DTSTAMP:20260419T172913
CREATED:20241007T105336Z
LAST-MODIFIED:20250124T190948Z
UID:10000046-1719658800-1719658800@burgos.top
SUMMARY:Ofrenda floral a Santa María la Mayor
DESCRIPTION:La tradicional ofrenda floral a Santa María la Mayor tendrá lugar el día grande\, 29 de junio\, en la Plaza del Rey San Fernando. \n\n\n\nLugar: Plaza del Rey San Fernando\, 29 de junio\, Precio: Gratuito
URL:https://burgos.top/evento/ofrenda-floral-a-santa-maria-la-mayor/
LOCATION:Plaza del Rey San Fernando\, Plaza del rey San Fernando\, Burgos\, 09003
CATEGORIES:Tradiciones
END:VEVENT
BEGIN:VEVENT
DTSTART;TZID=Europe/Madrid:20240624T130000
DTEND;TZID=Europe/Madrid:20240624T130000
DTSTAMP:20260419T172913
CREATED:20241007T105345Z
LAST-MODIFIED:20250124T191002Z
UID:10000040-1719234000-1719234000@burgos.top
SUMMARY:Himno a Burgos
DESCRIPTION:El sábado 24 se interpretará en la Plaza del Rey San Fernando el Himno a Burgos con motivo de las Fiestas de San Pedro y San Pablo 2023. \n\n\n\nLugar: Plaza del Rey San Fernando\, 24 Junio\, Precio: Gratuito
URL:https://burgos.top/evento/himno-a-burgos/
LOCATION:Plaza del Rey San Fernando\, Plaza del rey San Fernando\, Burgos\, 09003
CATEGORIES:Tradiciones
ATTACH;FMTTYPE=image/jpeg:https://burgos.top/wp-content/uploads/2024/05/cartel-fiestas-san-pedro-y-san-pablo-2024.jpg
END:VEVENT
END:VCALENDAR