BEGIN:VCALENDAR
VERSION:2.0
PRODID:-//BurgosTop - ECPv6.7.0//NONSGML v1.0//EN
CALSCALE:GREGORIAN
METHOD:PUBLISH
X-ORIGINAL-URL:https://burgos.top
X-WR-CALDESC:Eventos para BurgosTop
REFRESH-INTERVAL;VALUE=DURATION:PT1H
X-Robots-Tag:noindex
X-PUBLISHED-TTL:PT1H
BEGIN:VTIMEZONE
TZID:Europe/Madrid
BEGIN:DAYLIGHT
TZOFFSETFROM:+0100
TZOFFSETTO:+0200
TZNAME:CEST
DTSTART:20240331T010000
END:DAYLIGHT
BEGIN:STANDARD
TZOFFSETFROM:+0200
TZOFFSETTO:+0100
TZNAME:CET
DTSTART:20241027T010000
END:STANDARD
BEGIN:DAYLIGHT
TZOFFSETFROM:+0100
TZOFFSETTO:+0200
TZNAME:CEST
DTSTART:20250330T010000
END:DAYLIGHT
BEGIN:STANDARD
TZOFFSETFROM:+0200
TZOFFSETTO:+0100
TZNAME:CET
DTSTART:20251026T010000
END:STANDARD
END:VTIMEZONE
BEGIN:VEVENT
DTSTART;TZID=Europe/Madrid:20250104T200000
DTEND;TZID=Europe/Madrid:20250104T210000
DTSTAMP:20260423T033528
CREATED:20241230T101046Z
LAST-MODIFIED:20241230T101046Z
UID:10001069-1736020800-1736024400@burgos.top
SUMMARY:Abracercavra: Una Experiencia Mágica en El Sótano Cultural
DESCRIPTION:Fecha: 4 de enero de 2025\nHora: 20:00\nLugar: El Sótano Cultural\, Burgos\nDuración: 60 minutos\nEdad mínima: 9 años\nIdioma: Castellano\nForma de pago: Taquilla inversa\n\nDescripción del Espectáculo\nAbracercavra es un espectáculo de magia que promete sorprender y deleitar a los asistentes con una técnica extraordinaria\, improvisación y un toque de humor único. Esta experiencia cercana y especial está diseñada para grupos reducidos de no más de 20 personas\, lo que garantiza una interacción íntima con el mago y una atmósfera envolvente. \nLa magia se convierte en el hilo conductor de una velada donde cada truco y cada risa crean momentos inolvidables. El artista detrás de Abracercavra ha preparado un repertorio que desafía la lógica y despierta la imaginación\, ofreciendo una experiencia que va más allá de la simple ilusión. \nUna Oportunidad Única\nCon un enfoque en la cercanía y la participación del público\, Abracercavra busca crear un ambiente donde todos puedan disfrutar de la magia en su máxima expresión. La taquilla inversa permite que los asistentes decidan cuánto vale la experiencia tras disfrutar del espectáculo\, haciendo que sea accesible para todos.
URL:https://burgos.top/evento/abracercavra-una-experiencia-magica-en-el-sotano-cultural/
LOCATION:El Sótano Café Cultural\, C. Farmacéutico Obdulio Fernández\, 38\, Burgos\, 09006
CATEGORIES:Magia
ATTACH;FMTTYPE=image/webp:https://burgos.top/wp-content/uploads/2024/12/mystery-mike-ABRACERCAVRA.webp
END:VEVENT
BEGIN:VEVENT
DTSTART;TZID=Europe/Madrid:20250103T200000
DTEND;TZID=Europe/Madrid:20250103T200000
DTSTAMP:20260423T033528
CREATED:20241118T085730Z
LAST-MODIFIED:20241118T085923Z
UID:10000693-1735934400-1735934400@burgos.top
SUMMARY:Marina Alias Presenta «Show_def_1»
DESCRIPTION:Fecha: 3 de enero de 2025\nHora: 20:00 \nComprar entradas\n¡Prepárate para una noche de risas y reflexiones con Marina Alias! En su nuevo espectáculo de stand-up comedy titulado «Show_def_1»\, Marina nos ofrece un monólogo lleno de humor observacional\, costumbrista\, millennial\, ácido e irónico. Un viaje cómico que promete hacerte reír mientras exploras las peculiaridades de la vida moderna. \n¿De qué va esto?\n«Show_def_1» es más que un simple monólogo; es una experiencia que mezcla risas con una mirada crítica a nuestra realidad. Marina Alias\, una burgalesa millennial con un vasto conocimiento de la cultura pop y un amor por los juegos de palabras\, se sube al escenario para compartir su visión del mundo. \nDetalles del Evento\n\nAnticipada (hasta el 22/12): 5\,10 €\nDuración: Aproximadamente una hora (sin cronómetro\, ¡relájate y disfruta!)\nComida: Si te entra el gusanillo\, el bar tiene opciones para picar.\n\n¿Quién es Marina Alias?\nSi tuviéramos que describirla en Wikipedia\, diríamos que es una joven con un estilo único que combina humor y crítica social. Marina se ha ganado un lugar en la escena del stand-up con su aguda observación y su capacidad para conectar con el público. \nEntradas\n¡No te quedes sin tu entrada! Selecciona las que desees aquí y completa el proceso de compra. Recuerda traerlas el día del show; te llegarán por correo electrónico. Hasta el 22 de diciembre\, puedes conseguir tu entrada por solo 5 €. \nVen a Reír y Reflexionar\nÚnete a nosotros en esta velada especial donde la comedia se encuentra con la vida cotidiana. ¡Marina Alias te espera para compartir risas y buenos momentos en El Sótano Café Cultural!
URL:https://burgos.top/evento/marina-alias-presenta-show_def_1/
LOCATION:El Sótano Café Cultural\, C. Farmacéutico Obdulio Fernández\, 38\, Burgos\, 09006
CATEGORIES:Humor
ATTACH;FMTTYPE=image/webp:https://burgos.top/wp-content/uploads/2024/11/Marina-Alias-presenta-Show_def_1.webp
END:VEVENT
BEGIN:VEVENT
DTSTART;TZID=Europe/Madrid:20241228T203000
DTEND;TZID=Europe/Madrid:20241228T203000
DTSTAMP:20260423T033528
CREATED:20241218T140433Z
LAST-MODIFIED:20241218T140433Z
UID:10001019-1735417800-1735417800@burgos.top
SUMMARY:Concierto Ojos de Gamba: Música y Humor
DESCRIPTION:Disfruta de una experiencia única que fusiona música fresca de autor con grandes dosis de humor. Con géneros que van desde el pop\, la bossa-nova\, la rumba hasta el rock\, este proyecto te sorprenderá con su improvisación\, cercanía e interacción con el público. \nDetalles del Evento\n\nFecha: Sábado\, 28 de diciembre\nHora: 20:30\nLugar: Sótano Café Cultural\nEntrada: Taquilla inversa (¡Contribuye al final del espectáculo con lo que quieras o puedas!)\n\nVen a disfrutar de historias fuera de lo común con Ojos de Gamba. Este proyecto\, liderado por Israel Aparicio\, ofrece una mezcla poco habitual de música y humor. Las letras divertidas se complementan con una puesta en escena interactiva\, donde los comentarios e introducciones a cada tema a menudo se convierten en monólogos cómicos. \nLa música de Ojos de Gamba es ecléctica\, abarcando estilos como la rumba\, el pop\, el folk\, el reggae\, el ska y el swing\, siempre con un enfoque acústico. ¡No te lo pierdas! 🎸✨
URL:https://burgos.top/evento/concierto-ojos-de-gamba-musica-y-humor/
LOCATION:El Sótano Café Cultural\, C. Farmacéutico Obdulio Fernández\, 38\, Burgos\, 09006
CATEGORIES:Conciertos
ATTACH;FMTTYPE=image/webp:https://burgos.top/wp-content/uploads/2024/12/Concierto-Ojos-de-Gamba.webp
END:VEVENT
BEGIN:VEVENT
DTSTART;TZID=Europe/Madrid:20241227T193000
DTEND;TZID=Europe/Madrid:20241227T193000
DTSTAMP:20260423T033528
CREATED:20241218T141053Z
LAST-MODIFIED:20241218T141053Z
UID:10001020-1735327800-1735327800@burgos.top
SUMMARY:Magia con Carlos
DESCRIPTION:La magia es simplemente magia\, y Carlos lo hará realidad en una tarde llena de asombro y diversión. \nDetalles del Evento\n\nFecha: Viernes\, 27 de diciembre\nHora: 19:30\nLugar: Sótano Café Cultural\nEntrada: Taquilla inversa (¡Contribuye al final del espectáculo con lo que quieras o puedas!)\n\nDéjate sorprender por un espectáculo que hará volar tu imaginación. ✨ Carlos presenta un show mágico que promete cautivar a todos los asistentes\, combinando trucos impresionantes y momentos de humor.
URL:https://burgos.top/evento/magia-con-carlos/
LOCATION:El Sótano Café Cultural\, C. Farmacéutico Obdulio Fernández\, 38\, Burgos\, 09006
CATEGORIES:Magia
ATTACH;FMTTYPE=image/webp:https://burgos.top/wp-content/uploads/2024/12/magia-de-cerca-con-carlos.webp
END:VEVENT
BEGIN:VEVENT
DTSTART;TZID=Europe/Madrid:20241220T203000
DTEND;TZID=Europe/Madrid:20241220T203000
DTSTAMP:20260423T033528
CREATED:20241120T160914Z
LAST-MODIFIED:20241120T162755Z
UID:10000721-1734726600-1734726600@burgos.top
SUMMARY:Marcos Gallo en Burgos: Un Concierto Acústico Intimista
DESCRIPTION:El 20 de diciembre de 2024\, el Sótano Café Cultural en Burgos acogerá un concierto acústico de Marcos Gallo a las 20:30. Este evento\, organizado por el propio artista\, promete ser una experiencia única y cercana para los asistentes. \nDescripción del Evento\nMarcos Gallo\, conocido por su conexión emocional a través de la música\, se presentará en solitario con su guitarra\, teclado y voz. Durante este recital\, compartirá nuevas canciones que aún no han sido grabadas en un disco\, ofreciendo al público una oportunidad exclusiva para escuchar su música en su forma más pura y natural. \nEl ambiente íntimo del Sótano Café Cultural permitirá a los asistentes disfrutar de una velada especial\, donde la cercanía y la calidez del lugar se fusionarán con las melodías y letras de Gallo. Este tipo de actuaciones son especialmente significativas para el artista\, ya que le permite conectar con su audiencia de manera más personal y directa.Las entradas anticipadas están disponibles por 7\,14 €\, un precio accesible que incluye gastos de gestión y un seguro de no asistencia. Este concierto representa una oportunidad ideal para aquellos que deseen descubrir el talento emergente de Marcos Gallo y disfrutar de una noche llena de música y emociones. ¡No te lo pierdas!
URL:https://burgos.top/evento/marcos-gallo-en-burgos-un-concierto-acustico-intimista/
LOCATION:El Sótano Café Cultural\, C. Farmacéutico Obdulio Fernández\, 38\, Burgos\, 09006
CATEGORIES:Conciertos
ATTACH;FMTTYPE=image/webp:https://burgos.top/wp-content/uploads/2024/11/Marcos-Gallo-en-burgos.webp
END:VEVENT
BEGIN:VEVENT
DTSTART;TZID=Europe/Madrid:20241130T203000
DTEND;TZID=Europe/Madrid:20241130T203000
DTSTAMP:20260423T033528
CREATED:20241127T114336Z
LAST-MODIFIED:20241127T114336Z
UID:10000740-1732998600-1732998600@burgos.top
SUMMARY:HW Misfist & Javi Barbass en Concierto
DESCRIPTION:Disfruta de una velada íntima con Christian y Javi\, quienes se presentan en un concierto acústico que promete ser una experiencia única. Este evento es una oportunidad para explorar un repertorio personal que va más allá de su trabajo conjunto en Humming Walls. Christian interpretará tanto sus propias composiciones como versiones de temas que han dejado huella\, mientras que Javi aportará su talento al bajo y voz\, presentando sus creaciones originales. \nDetalles del Evento\n\nFecha: Sábado\, 30 de noviembre de 2024\nHora: 20:30\nEntrada: Taquilla inversa (¡aporta lo que desees al finalizar el evento!)\n\nVen a disfrutar de una noche llena de buena música y conexión en un ambiente acogedor. ¡Te esperamos!
URL:https://burgos.top/evento/hw-misfist-javi-barbass-en-concierto/
LOCATION:El Sótano Café Cultural\, C. Farmacéutico Obdulio Fernández\, 38\, Burgos\, 09006
CATEGORIES:Conciertos
ATTACH;FMTTYPE=image/webp:https://burgos.top/wp-content/uploads/2024/11/guitarra-espanola.webp
END:VEVENT
BEGIN:VEVENT
DTSTART;TZID=Europe/Madrid:20241129T210000
DTEND;TZID=Europe/Madrid:20241129T210000
DTSTAMP:20260423T033528
CREATED:20241127T115202Z
LAST-MODIFIED:20241127T115202Z
UID:10000741-1732914000-1732914000@burgos.top
SUMMARY:Mario Malatestta: Rock Acústico con Alma de Calle
DESCRIPTION:Un viaje musical íntimo y auténtico espera este viernes con Mario Malatestta\, el proyecto que revela la esencia de Mario Antolín. Veterano de la escena musical desde los años 90\, Malatestta trae consigo un rock crudo y honesto\, nacido directamente de las calles de la margen izquierda minera. \nUn Concierto más que Musical\nEn esta velada acústica\, cada canción será un testimonio vivo. “Mis canciones respiran calle porque salieron de ellas”\, comparte Mario\, prometiendo un encuentro cargado de pasión y verdad. Un viaje sonoro que trasciende lo musical para convertirse en un relato de vida. \nDetalles del Evento\n\nFecha: Viernes\, 29 de noviembre de 2024\nHora: 21:00\nEntrada: Taquilla inversa (¡aporta lo que desees al finalizar el evento!)
URL:https://burgos.top/evento/mario-malatestta-rock-acustico-con-alma-de-calle/
LOCATION:El Sótano Café Cultural\, C. Farmacéutico Obdulio Fernández\, 38\, Burgos\, 09006
CATEGORIES:Conciertos
ATTACH;FMTTYPE=image/webp:https://burgos.top/wp-content/uploads/2024/11/Mario-Malatestta.webp
END:VEVENT
BEGIN:VEVENT
DTSTART;TZID=Europe/Madrid:20241123T190000
DTEND;TZID=Europe/Madrid:20241123T190000
DTSTAMP:20260423T033528
CREATED:20241118T091417Z
LAST-MODIFIED:20241118T091417Z
UID:10000695-1732388400-1732388400@burgos.top
SUMMARY:Alejandro Belmonte: Un Viaje Musical en El Sótano Café Cultural
DESCRIPTION:Fecha: 23 de noviembre\nHora: 19:00\nLugar: El Sótano Café Cultural\nEntrada: Taquilla inversa (contribuye lo que desees)\n\n\n\nEl próximo 23 de noviembre\, el cantautor madrileño Alejandro Belmonte desembarcará por primera vez en Burgos para presentar su álbum debut “Vida”\, un proyecto nacido del apoyo incondicional de sus seguidores a través de una innovadora campaña de crowdfunding. \nUn Concierto Íntimo y Sorprendente\nA las 19:00 en El Sótano Café Cultural\, Belmonte ofrecerá un espectáculo que promete ser mucho más que un simple recital. Su actuación fusionará temas de su nuevo álbum con singles anteriores y versiones de pop rock\, todo aderezado con su característico estilo multiinstrumentista. \nLo Que Esperar\nPrepárate para una experiencia musical donde los gadgets serán protagonistas. Armónica\, kazoo y pandereta se mezclarán con su música\, prometiendo momentos únicos e inesperados. Cada canción será una ventana a su universo creativo\, donde la autenticidad y la cercanía son las verdaderas estrellas.
URL:https://burgos.top/evento/alejandro-belmonte-un-viaje-musical-en-el-sotano-cafe-cultural/
LOCATION:El Sótano Café Cultural\, C. Farmacéutico Obdulio Fernández\, 38\, Burgos\, 09006
CATEGORIES:Conciertos
ATTACH;FMTTYPE=image/webp:https://burgos.top/wp-content/uploads/2024/11/Alejandro-Belmonte.webp
END:VEVENT
BEGIN:VEVENT
DTSTART;TZID=Europe/Madrid:20241122T210000
DTEND;TZID=Europe/Madrid:20241122T210000
DTSTAMP:20260423T033528
CREATED:20241118T090744Z
LAST-MODIFIED:20241118T090744Z
UID:10000694-1732309200-1732309200@burgos.top
SUMMARY:Trady Sound en El Sótano Café Cultural
DESCRIPTION:El próximo 22 de noviembre de 2024 a las 21:00\, El Sótano Café Cultural se llenará de energía y buena música con la actuación de Trady Sound. Este grupo te transportará a los momentos más vibrantes del rock\, fusionando géneros como el rock and roll\, soul\, blues y funk para crear un sonido fresco y auténtico. \nUna Noche de Música y Emoción\nEn este evento\, Trady Sound presentará su nuevo EP en un formato íntimo y acústico. Prepárate para disfrutar de letras que exploran el amor y las experiencias de la vida\, todo mientras te sumerges en un ambiente cálido y acogedor. La banda promete una velada mágica donde cada acorde resonará con la pasión que caracteriza su música. \nDetalles del Evento\n\nFecha: 22 de noviembre de 2024\nHora: 21:00\nUbicación: El Sótano Café Cultural\, Calle Farmacéutico Obdulio Fernández\, 38\, Burgos\, España\nEntrada: Taquilla inversa (paga lo que desees al final del evento)\n\nUn Encuentro Único\nNo te pierdas la oportunidad de vivir una noche especial con Trady Sound. La combinación de su estilo musical y la atmósfera íntima del café cultural garantizan una experiencia memorable. Ven a disfrutar de una velada donde la música y las emociones se entrelazan\, creando recuerdos que perdurarán más allá de la noche. ¡Te esperamos!
URL:https://burgos.top/evento/trady-sound-en-el-sotano-cafe-cultural/
LOCATION:El Sótano Café Cultural\, C. Farmacéutico Obdulio Fernández\, 38\, Burgos\, 09006
CATEGORIES:Conciertos
ATTACH;FMTTYPE=image/webp:https://burgos.top/wp-content/uploads/2024/11/guitarra-y-amplificador.webp
END:VEVENT
END:VCALENDAR