BEGIN:VCALENDAR
VERSION:2.0
PRODID:-//BurgosTop - ECPv6.7.0//NONSGML v1.0//EN
CALSCALE:GREGORIAN
METHOD:PUBLISH
X-ORIGINAL-URL:https://burgos.top
X-WR-CALDESC:Eventos para BurgosTop
REFRESH-INTERVAL;VALUE=DURATION:PT1H
X-Robots-Tag:noindex
X-PUBLISHED-TTL:PT1H
BEGIN:VTIMEZONE
TZID:Europe/Madrid
BEGIN:DAYLIGHT
TZOFFSETFROM:+0100
TZOFFSETTO:+0200
TZNAME:CEST
DTSTART:20260329T010000
END:DAYLIGHT
BEGIN:STANDARD
TZOFFSETFROM:+0200
TZOFFSETTO:+0100
TZNAME:CET
DTSTART:20261025T010000
END:STANDARD
END:VTIMEZONE
BEGIN:VEVENT
DTSTART;TZID=Europe/Madrid:20260221T183000
DTEND;TZID=Europe/Madrid:20260221T183000
DTSTAMP:20260425T174538
CREATED:20260114T122546Z
LAST-MODIFIED:20260114T134426Z
UID:10002564-1771698600-1771698600@burgos.top
SUMMARY:‘Félix y Tierra’\, de Atópico Teatro en Centro Municipal de Castañares
DESCRIPTION:Félix\, un hombre apasionado por la naturaleza y admirador del gran Félix Rodríguez de la Fuente\, nos narra cómo\, durante uno de esos días en los que cámara en mano recorre los montes buscando lobos\, vivió una experiencia mágica que le permitió comprender mejor el lenguaje del bosque. \nEl bosque se abrió ante él\, revelándole sus secretos y conectándolo con algunos de sus fascinantes habitantes. Sin duda\, su mayor vínculo fue con Tierra\, con quien forjó una amistad única que perdura hasta hoy. Juntos aprendieron a conocerse y compartir su mundo\, y no es extraño verlos bajo la luna llena\, cantando y contándose historias. \nEspectáculo gratuito para público familiar.
URL:https://burgos.top/evento/felix-y-tierra-de-atopico-teatro-en-centro-municipal-de-castanares/
LOCATION:Centro Municipal de Castañares\, C/Mayor s/n\, Burgos\, 09199
CATEGORIES:Niños,Teatro
ATTACH;FMTTYPE=image/webp:https://burgos.top/wp-content/uploads/2026/01/atopico-teatro.webp
END:VEVENT
END:VCALENDAR