BEGIN:VCALENDAR
VERSION:2.0
PRODID:-//BurgosTop - ECPv6.7.0//NONSGML v1.0//EN
CALSCALE:GREGORIAN
METHOD:PUBLISH
X-ORIGINAL-URL:https://burgos.top
X-WR-CALDESC:Eventos para BurgosTop
REFRESH-INTERVAL;VALUE=DURATION:PT1H
X-Robots-Tag:noindex
X-PUBLISHED-TTL:PT1H
BEGIN:VTIMEZONE
TZID:Europe/Madrid
BEGIN:DAYLIGHT
TZOFFSETFROM:+0100
TZOFFSETTO:+0200
TZNAME:CEST
DTSTART:20240331T010000
END:DAYLIGHT
BEGIN:STANDARD
TZOFFSETFROM:+0200
TZOFFSETTO:+0100
TZNAME:CET
DTSTART:20241027T010000
END:STANDARD
BEGIN:DAYLIGHT
TZOFFSETFROM:+0100
TZOFFSETTO:+0200
TZNAME:CEST
DTSTART:20250330T010000
END:DAYLIGHT
BEGIN:STANDARD
TZOFFSETFROM:+0200
TZOFFSETTO:+0100
TZNAME:CET
DTSTART:20251026T010000
END:STANDARD
BEGIN:DAYLIGHT
TZOFFSETFROM:+0100
TZOFFSETTO:+0200
TZNAME:CEST
DTSTART:20260329T010000
END:DAYLIGHT
BEGIN:STANDARD
TZOFFSETFROM:+0200
TZOFFSETTO:+0100
TZNAME:CET
DTSTART:20261025T010000
END:STANDARD
END:VTIMEZONE
BEGIN:VEVENT
DTSTART;TZID=Europe/Madrid:20260214T193000
DTEND;TZID=Europe/Madrid:20260214T193000
DTSTAMP:20260419T152206
CREATED:20251217T135215Z
LAST-MODIFIED:20251217T135532Z
UID:10002380-1771097400-1771097400@burgos.top
SUMMARY:DÉJÀ VU en Cultural Caja de Burgos
DESCRIPTION:Hay momentos en la vida en los que no sabes si estás viviendo… o recordando.Instantes en los que algo внутри de ti susurra: esto ya pasó. \nEl sábado 14 de febrero de 2026 a las 19:30 h\, la Cultural Caja de Burgos será el escenario de “Déjà Vu”\, un espectáculo de magia que juega con la mente\, el tiempo y los recuerdos. \nEl mago de esta historia te guiará por una experiencia donde el tiempo se detiene\, los pensamientos se repiten y los sueños se confunden con la realidad. Tal vez ya estuviste aquí. Tal vez ya sentiste esta emoción… aunque no recuerdes cuándo ni cómo. \nY cuando todo termine\, solo quedará una pregunta:¿Esto fue magia… o fue un recuerdo? \n\nComprar entradas
URL:https://burgos.top/evento/deja-vu-en-cultural-caja-de-burgos/
LOCATION:Centro Cultural Caja de Burgos\, Av. Cantabria\, 3\, Burgos\, 09006
CATEGORIES:Magia
ATTACH;FMTTYPE=image/webp:https://burgos.top/wp-content/uploads/2025/12/deja-vu-peio-rivas.webp
END:VEVENT
BEGIN:VEVENT
DTSTART;TZID=Europe/Madrid:20250306T201500
DTEND;TZID=Europe/Madrid:20250306T201500
DTSTAMP:20260419T152206
CREATED:20250228T090800Z
LAST-MODIFIED:20250228T091139Z
UID:10001820-1741292100-1741292100@burgos.top
SUMMARY:EL DESAFIO DE SOFIA
DESCRIPTION:📍 Lugar: Cultural Caja de Burgos\, Avda. Cantabria\, 3🎬 Evento: Cine – El desafío de Sofía📅 Fecha: Jueves\, 6 de marzo de 2025 – 20:15💰 Precio: 2\,50€👥 Público: Todos los públicos \nComprar entradas\n📝 Sinopsis\nSofía es una joven promesa del voleibol que está a punto de jugar un campeonato decisivo para su futuro. Sin embargo\, su carrera se ve amenazada cuando descubre un embarazo no deseado. En su intento por acceder a una interrupción ilegal\, se convierte en el blanco de un grupo fundamentalista dispuesto a detenerla a cualquier precio. Sofía y quienes la apoyan lucharán contra un sistema que les niega el derecho a decidir sobre sus propios cuerpos. Un intenso drama que denuncia los obstáculos sociales y legales que enfrentan muchas mujeres en Brasil y otros países.
URL:https://burgos.top/evento/el-desafio-de-sofia/
LOCATION:Centro Cultural Caja de Burgos\, Av. Cantabria\, 3\, Burgos\, 09006
CATEGORIES:Cine
ATTACH;FMTTYPE=image/webp:https://burgos.top/wp-content/uploads/2025/02/El-desafio-de-Sofia.webp
END:VEVENT
BEGIN:VEVENT
DTSTART;TZID=Europe/Madrid:20241221T200000
DTEND;TZID=Europe/Madrid:20241221T200000
DTSTAMP:20260419T152206
CREATED:20241023T083001Z
LAST-MODIFIED:20241023T083001Z
UID:10000396-1734811200-1734811200@burgos.top
SUMMARY:RAFAEL ÁLVAREZ\, EL BRUJO: EL LAZARILLO
DESCRIPTION:Lugar: Cultural Caja de Burgos\nDirección: Avda. de Cantabria\, 3\nFecha: Sábado\, 21 de diciembre de 2024\nPrecio: 20\,00€\nPúblico: Todos los públicos \nComprar entradas\nUn Viaje Teatral Único\nRafael Álvarez\, conocido como El Brujo\, presenta su aclamada obra “El Lazarillo”. En sus propias palabras: \n“Déjenme decirles algo: jamás abandonaré al Lazarillo. Cada vez que lo represento disfruto especialmente. Nunca he dejado de conectar con el público de una manera especial.” \nUna Conexión Emocional\nEl Brujo comparte su profunda conexión con el personaje del Lazarillo\, destacando la satisfacción y el gozo que siente al interpretar esta obra. La relación entre él y el Lazarillo es un viaje de emociones que trasciende el escenario. \nUn Clásico de la Literatura\nEsta representación no solo es un espectáculo\, sino también una reflexión sobre la marginación y las vivencias duras de la infancia. El Lazarillo se convierte en un símbolo de lucha y aprendizaje en un mundo lleno de desequilibrios. ¡No te pierdas esta oportunidad única de disfrutar del arte teatral en su máxima expresión! Compra tus entradas y acompáñanos en esta mágica velada!
URL:https://burgos.top/evento/rafael-alvarez-el-brujo-el-lazarillo/
LOCATION:Centro Cultural Caja de Burgos\, Av. Cantabria\, 3\, Burgos\, 09006
CATEGORIES:Teatro
ATTACH;FMTTYPE=image/webp:https://burgos.top/wp-content/uploads/2024/10/RAFAEL-ALVAREZ-EL-BRUJO-EL-LAZARILLO-en-burgos-1.webp
END:VEVENT
BEGIN:VEVENT
DTSTART;TZID=Europe/Madrid:20241124T170000
DTEND;TZID=Europe/Madrid:20241124T170000
DTSTAMP:20260419T152206
CREATED:20241007T105620Z
LAST-MODIFIED:20241009T063253Z
UID:10000250-1732467600-1732467600@burgos.top
SUMMARY:OHANA: ¡UN MUSICAL BASADO EN LILO Y STITCH!
DESCRIPTION:Fecha: Domingo\, 24 de noviembre de 2024 Lugar: Cultural Caja de Burgos Dirección: Avda. de Cantabria\, 3 Duración: 70 minutos Precio: 16\,00 € Público: Todos los públicos\nDescripción del Musical\nEl experimento 626\, creado por el Doctor Jumba con la intención de causar destrucción\, escapa y aterriza en Hawái. Allí conoce a Lilo\, una niña solitaria que lo llama Stitch. Mientras Jumba y Pleakley intentan capturarlo\, Stitch aprende el verdadero significado de la “amistad” y la “familia”.\nTemas Centrales\n\nLa búsqueda de un hogar\nLa importancia de la amistad\nLa aceptación de las diferencias\n\nLo Que Ofrece el Musical\nUn espectáculo divertido y emocionante para toda la familia\, donde los personajes cantan y bailan en directo. No te pierdas esta encantadora historia que recuerda que todos necesitamos un lugar al que llamar hogar. ¡Una experiencia inolvidable para grandes y pequeños!\nComprar entradas
URL:https://burgos.top/evento/ohana-un-musical-basado-en-lilo-y-stitch/
LOCATION:Centro Cultural Caja de Burgos\, Av. Cantabria\, 3\, Burgos\, 09006
CATEGORIES:Musicales,Niños
ATTACH;FMTTYPE=image/webp:https://burgos.top/wp-content/uploads/2024/10/OHANAUN-MUSICAL-BASADO-EN-LILO-Y-STITCH-en-burgos.webp
END:VEVENT
BEGIN:VEVENT
DTSTART;TZID=Europe/Madrid:20240531T210000
DTEND;TZID=Europe/Madrid:20240531T210000
DTSTAMP:20260419T152206
CREATED:20241007T105356Z
LAST-MODIFIED:20241009T045852Z
UID:10000052-1717189200-1717189200@burgos.top
SUMMARY:Revolver Playlist Tour
DESCRIPTION:¡Burgos\, prepárate para una noche llena de buena música! Revólver estará en el Cultural Caja de Burgos el 31 de mayo de 2024 a las 21:00h como parte de su gira ‘Playlist Tour’. ¡No te pierdas esta oportunidad de disfrutar de un concierto inolvidable! \n\n\n\nLugar: Cultural Caja de Burgos\, 31 de mayo\, Precio: 32\,00 €
URL:https://burgos.top/evento/revolver-playlist-tour/
LOCATION:Centro Cultural Caja de Burgos\, Av. Cantabria\, 3\, Burgos\, 09006
CATEGORIES:Conciertos
ATTACH;FMTTYPE=image/webp:https://burgos.top/wp-content/uploads/2024/05/revolver-concierto-en-burgos-2024.webp
END:VEVENT
BEGIN:VEVENT
DTSTART;TZID=Europe/Madrid:20240506T100000
DTEND;TZID=Europe/Madrid:20240506T130000
DTSTAMP:20260419T152206
CREATED:20241007T105316Z
LAST-MODIFIED:20250124T190757Z
UID:10000018-1714989600-1715000400@burgos.top
SUMMARY:Taller de Pintura al Óleo
DESCRIPTION:Clase práctica que enseña técnicas de pintura al óleo\, brindando a los participantes la oportunidad de explorar su creatividad artística. \n\n\n\nLugar: Centro Cultural Caja de Burgos\, 6 de mayo\, 10:00-13:00\, Precio: 20€ por persona
URL:https://burgos.top/evento/taller-de-pintura-al-oleo/
LOCATION:Centro Cultural Caja de Burgos\, Av. Cantabria\, 3\, Burgos\, 09006
CATEGORIES:Talleres
END:VEVENT
END:VCALENDAR