BEGIN:VCALENDAR
VERSION:2.0
PRODID:-//BurgosTop - ECPv6.7.0//NONSGML v1.0//EN
CALSCALE:GREGORIAN
METHOD:PUBLISH
X-WR-CALNAME:BurgosTop
X-ORIGINAL-URL:https://burgos.top
X-WR-CALDESC:Eventos para BurgosTop
REFRESH-INTERVAL;VALUE=DURATION:PT1H
X-Robots-Tag:noindex
X-PUBLISHED-TTL:PT1H
BEGIN:VTIMEZONE
TZID:Europe/Madrid
BEGIN:DAYLIGHT
TZOFFSETFROM:+0100
TZOFFSETTO:+0200
TZNAME:CEST
DTSTART:20240331T010000
END:DAYLIGHT
BEGIN:STANDARD
TZOFFSETFROM:+0200
TZOFFSETTO:+0100
TZNAME:CET
DTSTART:20241027T010000
END:STANDARD
BEGIN:DAYLIGHT
TZOFFSETFROM:+0100
TZOFFSETTO:+0200
TZNAME:CEST
DTSTART:20250330T010000
END:DAYLIGHT
BEGIN:STANDARD
TZOFFSETFROM:+0200
TZOFFSETTO:+0100
TZNAME:CET
DTSTART:20251026T010000
END:STANDARD
END:VTIMEZONE
BEGIN:VEVENT
DTSTART;TZID=Europe/Madrid:20251230T120000
DTEND;TZID=Europe/Madrid:20251230T120000
DTSTAMP:20260419T181811
CREATED:20251206T122153Z
LAST-MODIFIED:20251209T160035Z
UID:10002235-1767096000-1767096000@burgos.top
SUMMARY:Las reliquias de los hermanos Grimm en Biblioteca Miguel de Cervantes (C/ Serramagna\, 10)
DESCRIPTION:La Biblioteca Miguel de Cervantes propone una aventura literaria llena de misterio con “Las reliquias de los hermanos Grimm”\, un emocionante juego de pistas diseñado para niños y niñas de entre 8 y 12 años. 📚🕵️‍♂️✨ \nTodo comienza con una misteriosa carta hallada junto a una caja antigua. En ella\, Wilhem y Jacob Grimm\, los célebres recopiladores de cuentos\, invitan a los participantes a descubrir los enigmas escondidos en sus historias más conocidas. Cada relato guarda una pista\, cada pista conduce a un nuevo enigma y\, al final del recorrido\, se revelan las reliquias que inspiraron sus cuentos. Una experiencia única para pequeños detectives amantes de la fantasía. \n👦👧 Público: Niños y niñas de 8 a 12 años⏱️ Duración: 60 minutos📝 Inscripción: Necesario carné de biblioteca. Inscripciones del 10 al 15 de diciembre🎟️ Aforo: 6 plazas (con sorteo entre las personas inscritas) \nUna actividad que combina lectura\, ingenio y magia\, ideal para descubrir los secretos que se esconden detrás de los cuentos de siempre. ✨ \nDescubre todas eventos navideños y muchas más en el Programa completo de Navidad 2025 Burgos
URL:https://burgos.top/evento/las-reliquias-de-los-hermanos-grimm-en-biblioteca-miguel-de-cervantes-c-serramagna-10/
LOCATION:Biblioteca Municipal «Miguel de Cervantes»\, C. Serramagna\, 10\, Burgos\, 09003
CATEGORIES:Niños
ATTACH;FMTTYPE=image/webp:https://burgos.top/wp-content/uploads/2024/11/libro-magico.webp
END:VEVENT
BEGIN:VEVENT
DTSTART;TZID=Europe/Madrid:20251229T120000
DTEND;TZID=Europe/Madrid:20251229T120000
DTSTAMP:20260419T181811
CREATED:20251206T122153Z
LAST-MODIFIED:20251209T162115Z
UID:10002243-1767009600-1767009600@burgos.top
SUMMARY:Lecturas que se comen en Biblioteca Miguel de Cervantes (C/ Serramagna\, 10)
DESCRIPTION:La Biblioteca Miguel de Cervantes invita estas fiestas a descubrir “Lecturas que se comen”\, una propuesta deliciosa en la que los libros se convierten en un auténtico menú navideño literario. En esta sesión\, los pequeños gourmets —y los adultos que les acompañen— podrán oler\, saborear e imaginar historias que evocan la magia de la Navidad y sus aromas más reconfortantes. \nUn viaje sensorial que recupera una tradición antigua: cuando la Navidad se celebraba leyendo\, soñando y degustando cuentos capaces de calentar el corazón y despertar el apetito por la fantasía. \nPensado para niños y niñas a partir de 5 años\, el taller tiene una duración de 50 minutos y requiere carné de biblioteca e inscripción previa a partir del 16 de diciembre. El aforo es de 60 plazas (30 niños y 30 adultos)\, perfecto para disfrutar en familia de un festín donde las palabras se convierten en sabor. ✨📚🍪 \nDescubre todas eventos navideños y muchas más en el Programa completo de Navidad 2025 Burgos
URL:https://burgos.top/evento/lecturas-que-se-comen-en-biblioteca-miguel-de-cervantes-c-serramagna-10/
LOCATION:Biblioteca Municipal «Miguel de Cervantes»\, C. Serramagna\, 10\, Burgos\, 09003
CATEGORIES:Niños,Talleres
ATTACH;FMTTYPE=image/webp:https://burgos.top/wp-content/uploads/2024/11/libro-magico.webp
END:VEVENT
BEGIN:VEVENT
DTSTART;TZID=Europe/Madrid:20251226T120000
DTEND;TZID=Europe/Madrid:20251226T120000
DTSTAMP:20260419T181811
CREATED:20251125T155124Z
LAST-MODIFIED:20251125T173628Z
UID:10001975-1766750400-1766750400@burgos.top
SUMMARY:‘Son… risas mágicas’\, de Mago Linaje. en Biblioteca Miguel de Cervantes (C/ Serramagna\, 10)
DESCRIPTION:• Mago Linaje se acerca a la biblioteca con más de 25 años de experiencia y más de 100 actuaciones al año que avalan su experiencia y profesionalidad\n• Ha sido congresista de los más importantes eventos mágicos nacionales e Internacionales como Blackpool Magic y Kidabra Magic Convention\n• Tiene formación continua de clow\, payaso de hospital\, expresión corporal\, ventriloquia\, teatro\, comedia y por supuesto magia\, mucha magia\n• Todo ello realizado con mucho humor y dirigido por un peculiar personaje que no dejará a nadie indiferente\n• Efectos muy visuales y coloridos\, que harán las delicias de pequeños y mayores\n• Sinopsis: Espectáculo de magia familiar\, donde el verdadero protagonista será el público\n• Esta Navidad\, la Biblioteca Miguel de Cervantes acogerá el espectáculo Son… risas mágicas\, de Mago Linaje\n• Público: Niños y niñas a partir de 6 a 12 años\nDuración: 60 minutos\nInscripción: Necesario carné de biblioteca y realizar inscripción previa a partir del 17 de diciembre (Máximo 4 invitaciones por persona)\nAforo: 80 plazas\n• Este artista ha participado en los más prestigiosos festivales de magia nacionales como organizador y artista\n• La principal pretensión es poder ofrecer la máxima diversión donde lo imposible se hace real
URL:https://burgos.top/evento/son-risas-magicas-de-mago-linaje-en-biblioteca-miguel-de-cervantes-c-serramagna-10/
LOCATION:Biblioteca Municipal «Miguel de Cervantes»\, C. Serramagna\, 10\, Burgos\, 09003
CATEGORIES:Magia,Niños
ATTACH;FMTTYPE=image/webp:https://burgos.top/wp-content/uploads/2025/02/chistera-magica.webp
END:VEVENT
BEGIN:VEVENT
DTSTART;TZID=Europe/Madrid:20251222T120000
DTEND;TZID=Europe/Madrid:20251222T120000
DTSTAMP:20260419T181811
CREATED:20251125T155124Z
LAST-MODIFIED:20251127T091510Z
UID:10002006-1766404800-1766404800@burgos.top
SUMMARY:‘La curandera de palabras’\, de Margarito & Cía en Biblioteca Miguel de Cervantes (C/ Serramagna\, 10)
DESCRIPTION:Esta Navidad\, la Biblioteca Miguel de Cervantes de Burgos se convertirá en escenario del espectáculo “La curandera de palabras”\, presentado por la compañía Margarito & Cía. La propuesta está dirigida a niños y niñas a partir de 5 años y tiene como objetivo acercar a los más pequeños al mundo de la lectura y el juego con las palabras de forma divertida y participativa. \nDurante el espectáculo\, los asistentes acompañarán a Lucía\, la protagonista\, en un mágico paseo por el Bosque de las Letras\, donde se encontrarán con palabras que habrá que curar\, otras con las que se podrá jugar y alguna que incluso se enfadará. La historia plantea una defensa de las letras\, las palabras y todo lo que podemos expresar con ellas\, ofreciendo un enfoque creativo y didáctico para que los niños exploren la lengua de manera lúdica. \nEl espectáculo tiene una duración de 55 minutos y requiere inscripción previa con carné de biblioteca a partir del 15 de diciembre\, con un máximo de 4 invitaciones por persona. El aforo está limitado a 50 plazas\, garantizando una experiencia cercana y personalizada para los pequeños participantes. \n“La curandera de palabras” combina teatro\, juego y narrativa para crear una experiencia única que celebra la magia de la lectura y el poder expresivo de las palabras\, convirtiendo la visita a la biblioteca en una actividad inolvidable de la temporada navideña.
URL:https://burgos.top/evento/la-curandera-de-palabras-de-margarito-cia-en-biblioteca-miguel-de-cervantes-c-serramagna-10/
LOCATION:Biblioteca Municipal «Miguel de Cervantes»\, C. Serramagna\, 10\, Burgos\, 09003
CATEGORIES:Niños,Teatro
ATTACH;FMTTYPE=image/webp:https://burgos.top/wp-content/uploads/2024/12/margarito-y-cia.webp
END:VEVENT
BEGIN:VEVENT
DTSTART;TZID=Europe/Madrid:20251220T120000
DTEND;TZID=Europe/Madrid:20251220T120000
DTSTAMP:20260419T181811
CREATED:20251216T112600Z
LAST-MODIFIED:20251216T120235Z
UID:10002356-1766232000-1766232000@burgos.top
SUMMARY:‘La magia pirata\, la magia mejor’\, de Mago Pinchito en Biblioteca Miguel de Cervantes
DESCRIPTION:El Mago Pinchito te invita a embarcarte en una aventura mágica por los siete mares. \nCon su nuevo espectáculo temático\, te convertirás en el marinero más valiente e intrépido\, buscando un tesoro perdido en una isla misteriosa\, descubriendo su historia\, viviendo emocionantes aventuras y\, por si fuera poco\, ¡asistiendo a una fiesta en alta mar! \nUn espectáculo de sala o calle\, pensado para toda la familia\, lleno de magia\, diversión y sorpresas. \nInvitaciones: Se recogen en la biblioteca a partir del jueves 18 de diciembre (80 invitaciones disponibles). La primera mitad se entregará desde las 9:00 h y la segunda mitad desde las 16:00 h. Máximo cuatro invitaciones por persona. \nEdad recomendada: a partir de 3 años. \n✨ Descubre todos los eventos navideños 🎄 y muchas más sorpresas en el Programa completo de Navidad 2025 Burgos 🎅 ✨
URL:https://burgos.top/evento/la-magia-pirata-la-magia-mejor-de-mago-pinchito-en-biblioteca-miguel-de-cervantes/
LOCATION:Biblioteca Municipal «Miguel de Cervantes»\, C. Serramagna\, 10\, Burgos\, 09003
CATEGORIES:Magia,Niños
ATTACH;FMTTYPE=image/webp:https://burgos.top/wp-content/uploads/2025/12/mago-pinchito.webp
END:VEVENT
BEGIN:VEVENT
DTSTART;TZID=Europe/Madrid:20241223T120000
DTEND;TZID=Europe/Madrid:20241223T120000
DTSTAMP:20260419T181811
CREATED:20241129T085719Z
LAST-MODIFIED:20241129T085719Z
UID:10000753-1734955200-1734955200@burgos.top
SUMMARY:Lettering
DESCRIPTION:El lunes 23 de diciembre\, la Biblioteca «Miguel de Cervantes» se convertirá en un espacio mágico donde los niños de 7 a 14 años podrán sumergirse en el fascinante mundo del lettering a las 12:00 h. Este taller es parte del programa “Especial Navidad 2024”\, diseñado para inspirar y fomentar la creatividad en los más jóvenes. \n¿Qué es el Lettering?\nEl lettering es el arte de dibujar letras\, una forma de caligrafía creativa que utiliza diferentes estilos y materiales. ¡Imagina poder crear tus propias portadas de libros\, postales o anuncios con letras que cobren vida! En este taller\, los participantes aprenderán sobre trazos\, sombras\, composiciones y ornamentos\, todo mientras se divierten. \nDetalles del Taller\n\nFecha: Lunes 23 de diciembre\nHora: 12:00 h\nEdad: Niños de 7 a 14 años\nInscripción: Requiere carné de biblioteca y registro previo a partir del 16 de diciembre. Las plazas son limitadas a 20 participantes.\n\nNo te pierdas la oportunidad de descubrir las técnicas de esta hermosa forma de arte y dejar volar tu imaginación. ¡Te esperamos para un día lleno de letras y diversión! 🖌️📚
URL:https://burgos.top/evento/lettering/
LOCATION:Biblioteca Municipal «Miguel de Cervantes»\, C. Serramagna\, 10\, Burgos\, 09003
CATEGORIES:Niños,Talleres
ATTACH;FMTTYPE=image/webp:https://burgos.top/wp-content/uploads/2024/11/pinceles-de-dibujo.webp
END:VEVENT
END:VCALENDAR