BEGIN:VCALENDAR
VERSION:2.0
PRODID:-//BurgosTop - ECPv6.7.0//NONSGML v1.0//EN
CALSCALE:GREGORIAN
METHOD:PUBLISH
X-ORIGINAL-URL:https://burgos.top
X-WR-CALDESC:Eventos para BurgosTop
REFRESH-INTERVAL;VALUE=DURATION:PT1H
X-Robots-Tag:noindex
X-PUBLISHED-TTL:PT1H
BEGIN:VTIMEZONE
TZID:Europe/Madrid
BEGIN:DAYLIGHT
TZOFFSETFROM:+0100
TZOFFSETTO:+0200
TZNAME:CEST
DTSTART:20240331T010000
END:DAYLIGHT
BEGIN:STANDARD
TZOFFSETFROM:+0200
TZOFFSETTO:+0100
TZNAME:CET
DTSTART:20241027T010000
END:STANDARD
BEGIN:DAYLIGHT
TZOFFSETFROM:+0100
TZOFFSETTO:+0200
TZNAME:CEST
DTSTART:20250330T010000
END:DAYLIGHT
BEGIN:STANDARD
TZOFFSETFROM:+0200
TZOFFSETTO:+0100
TZNAME:CET
DTSTART:20251026T010000
END:STANDARD
BEGIN:DAYLIGHT
TZOFFSETFROM:+0100
TZOFFSETTO:+0200
TZNAME:CEST
DTSTART:20260329T010000
END:DAYLIGHT
BEGIN:STANDARD
TZOFFSETFROM:+0200
TZOFFSETTO:+0100
TZNAME:CET
DTSTART:20261025T010000
END:STANDARD
END:VTIMEZONE
BEGIN:VEVENT
DTSTART;TZID=Europe/Madrid:20260217T090000
DTEND;TZID=Europe/Madrid:20260217T140000
DTSTAMP:20260419T170850
CREATED:20260202T095441Z
LAST-MODIFIED:20260202T095539Z
UID:10002733-1771318800-1771336800@burgos.top
SUMMARY:DSC Carnaval: ¡Loros y cariocas!
DESCRIPTION:DSC Carnaval: ¡Loros y cariocas! se celebrará los días 16 y 17 de febrero de 2026 en el Aula de Medio Ambiente de Burgos (Glorieta Ismael García Rámila\, 4)\, dentro del programa Días sin cole de la Fundación Caja de Burgos. Dirigido a niños\, ofrece un horario amplio de 7:45 a 15:15 horas\, dividido en madrugadores (7:45-9h) para llegada temprana\, actividades dirigidas (9-14h) con dinámicas temáticas sobre loros y cariocas\, y continuadores (14-15:15h) para comedor. Los participantes deben traer pequeño almuerzo\, agua\, ropa cómoda y ganas de pasarlo bien\, con un precio de 32€ y solo 15 plazas disponibles. Es una opción perfecta para conciliar durante el Carnaval\, fomentando diversión y aprendizaje ambiental. \nPuedes consultar el programa completo del Carnaval 2026 Burgos para más actividades.
URL:https://burgos.top/evento/dsc-carnaval-loros-y-cariocas-17-02-2026/
LOCATION:Aula de Medio Ambiente\, Gta. Ismael García Rámila\, 4\, Burgos\, 09007
CATEGORIES:Niños,Talleres
ATTACH;FMTTYPE=image/webp:https://burgos.top/wp-content/uploads/2026/02/loro.webp
END:VEVENT
BEGIN:VEVENT
DTSTART;TZID=Europe/Madrid:20260216T090000
DTEND;TZID=Europe/Madrid:20260216T140000
DTSTAMP:20260419T170850
CREATED:20260202T095238Z
LAST-MODIFIED:20260202T095344Z
UID:10002732-1771232400-1771250400@burgos.top
SUMMARY:DSC Carnaval: ¡Loros y cariocas!
DESCRIPTION:DSC Carnaval: ¡Loros y cariocas! se celebrará los días 16 y 17 de febrero de 2026 en el Aula de Medio Ambiente de Burgos (Glorieta Ismael García Rámila\, 4)\, dentro del programa Días sin cole de la Fundación Caja de Burgos. Dirigido a niños\, ofrece un horario amplio de 7:45 a 15:15 horas\, dividido en madrugadores (7:45-9h) para llegada temprana\, actividades dirigidas (9-14h) con dinámicas temáticas sobre loros y cariocas\, y continuadores (14-15:15h) para comedor. Los participantes deben traer pequeño almuerzo\, agua\, ropa cómoda y ganas de pasarlo bien\, con un precio de 32€ y solo 15 plazas disponibles. Es una opción perfecta para conciliar durante el Carnaval\, fomentando diversión y aprendizaje ambiental. \nPuedes consultar el programa completo del Carnaval 2026 Burgos para más actividades. \n 
URL:https://burgos.top/evento/dsc-carnaval-loros-y-cariocas/
LOCATION:Aula de Medio Ambiente\, Gta. Ismael García Rámila\, 4\, Burgos\, 09007
CATEGORIES:Niños,Talleres
ATTACH;FMTTYPE=image/webp:https://burgos.top/wp-content/uploads/2026/02/loro.webp
END:VEVENT
BEGIN:VEVENT
DTSTART;TZID=Europe/Madrid:20251223T193000
DTEND;TZID=Europe/Madrid:20251223T193000
DTSTAMP:20260419T170850
CREATED:20251125T155122Z
LAST-MODIFIED:20251126T225355Z
UID:10001979-1766518200-1766518200@burgos.top
SUMMARY:‘Patapatun tun tun’\, de O Mago Paco en Aula de Medio Ambiente (Glorieta Ismael García Ramila\, 4)
DESCRIPTION:Los espectáculos de O Mago Paco combinan varias artes escénicas como ilusionismo cómico\, clown\, títeres y expresión corporal\, con un fuerte enfoque en la magia infantil. En su espectáculo Patapatun tun tun\, dirigido a bebés de 0 a 3 años acompañados\, utiliza juegos\, disfraces\, canciones\, muñecos e historias para fomentar la participación y estimular la fantasía de los niños\, creando un ambiente mágico y lleno de imaginación. \n\nComprar entradas
URL:https://burgos.top/evento/patapatun-tun-tun-de-o-mago-paco-en-aula-de-medio-ambiente-glorieta-ismael-garcia-ramila-4/
LOCATION:Aula de Medio Ambiente\, Gta. Ismael García Rámila\, 4\, Burgos\, 09007
CATEGORIES:Magia,Niños
ATTACH;FMTTYPE=image/webp:https://burgos.top/wp-content/uploads/2025/11/mago-paco.webp
END:VEVENT
BEGIN:VEVENT
DTSTART;TZID=Europe/Madrid:20251223T170000
DTEND;TZID=Europe/Madrid:20251223T170000
DTSTAMP:20260419T170850
CREATED:20251125T155122Z
LAST-MODIFIED:20251126T225438Z
UID:10001980-1766509200-1766509200@burgos.top
SUMMARY:‘Patapatun tun tun’\, de O Mago Paco en Aula de Medio Ambiente (Glorieta Ismael García Ramila\, 4)
DESCRIPTION:Los espectáculos de O Mago Paco combinan varias artes escénicas como ilusionismo cómico\, clown\, títeres y expresión corporal\, con un fuerte enfoque en la magia infantil. En su espectáculo Patapatun tun tun\, dirigido a bebés de 0 a 3 años acompañados\, utiliza juegos\, disfraces\, canciones\, muñecos e historias para fomentar la participación y estimular la fantasía de los niños\, creando un ambiente mágico y lleno de imaginación. \n\nComprar entradas
URL:https://burgos.top/evento/patapatun-tun-tun-de-o-mago-paco-en-aula-de-medio-ambiente-glorieta-ismael-garcia-ramila-4-2/
LOCATION:Aula de Medio Ambiente\, Gta. Ismael García Rámila\, 4\, Burgos\, 09007
CATEGORIES:Magia,Niños
ATTACH;FMTTYPE=image/webp:https://burgos.top/wp-content/uploads/2025/11/mago-paco.webp
END:VEVENT
BEGIN:VEVENT
DTSTART;TZID=Europe/Madrid:20251223T130000
DTEND;TZID=Europe/Madrid:20251223T130000
DTSTAMP:20260419T170850
CREATED:20251125T155122Z
LAST-MODIFIED:20251126T225523Z
UID:10001981-1766494800-1766494800@burgos.top
SUMMARY:‘Patapatun tun tun’\, de O Mago Paco en Aula de Medio Ambiente (Glorieta Ismael García Ramila\, 4)
DESCRIPTION:Los espectáculos de O Mago Paco combinan varias artes escénicas como ilusionismo cómico\, clown\, títeres y expresión corporal\, con un fuerte enfoque en la magia infantil. En su espectáculo Patapatun tun tun\, dirigido a bebés de 0 a 3 años acompañados\, utiliza juegos\, disfraces\, canciones\, muñecos e historias para fomentar la participación y estimular la fantasía de los niños\, creando un ambiente mágico y lleno de imaginación. \n\nComprar entradas
URL:https://burgos.top/evento/patapatun-tun-tun-de-o-mago-paco-en-aula-de-medio-ambiente-glorieta-ismael-garcia-ramila-4-3/
LOCATION:Aula de Medio Ambiente\, Gta. Ismael García Rámila\, 4\, Burgos\, 09007
CATEGORIES:Magia,Niños
ATTACH;FMTTYPE=image/webp:https://burgos.top/wp-content/uploads/2025/11/mago-paco.webp
END:VEVENT
BEGIN:VEVENT
DTSTART;TZID=Europe/Madrid:20251223T110000
DTEND;TZID=Europe/Madrid:20251223T110000
DTSTAMP:20260419T170850
CREATED:20251125T155122Z
LAST-MODIFIED:20251126T225606Z
UID:10001982-1766487600-1766487600@burgos.top
SUMMARY:‘Patapatun tun tun’\, de O Mago Paco en Aula de Medio Ambiente (Glorieta Ismael García Ramila\, 4)
DESCRIPTION:Los espectáculos de O Mago Paco combinan varias artes escénicas como ilusionismo cómico\, clown\, títeres y expresión corporal\, con un fuerte enfoque en la magia infantil. En su espectáculo Patapatun tun tun\, dirigido a bebés de 0 a 3 años acompañados\, utiliza juegos\, disfraces\, canciones\, muñecos e historias para fomentar la participación y estimular la fantasía de los niños\, creando un ambiente mágico y lleno de imaginación. \n\nComprar entradas
URL:https://burgos.top/evento/patapatun-tun-tun-de-o-mago-paco-en-aula-de-medio-ambiente-glorieta-ismael-garcia-ramila-4-4/
LOCATION:Aula de Medio Ambiente\, Gta. Ismael García Rámila\, 4\, Burgos\, 09007
CATEGORIES:Magia,Niños
ATTACH;FMTTYPE=image/webp:https://burgos.top/wp-content/uploads/2025/11/mago-paco.webp
END:VEVENT
BEGIN:VEVENT
DTSTART;TZID=Europe/Madrid:20241223T190000
DTEND;TZID=Europe/Madrid:20241223T204500
DTSTAMP:20260419T170850
CREATED:20241025T124450Z
LAST-MODIFIED:20241223T163609Z
UID:10000507-1734980400-1734986700@burgos.top
SUMMARY:LUIS VALLECILLO\, Magia para BEBES
DESCRIPTION:“Magia para Bebés” es un encantador espectáculo diseñado para que los más pequeños descubran los colores a través de la magia\, la música y la poesía. Este evento invita a todos a reconectar con el niño que llevamos dentro\, permitiéndonos disfrutar de la vida al mirar el mundo con ojos curiosos y llenos de asombro. \nComprar entradas\nDetalles del Evento\n\nLugar: Aula de Medio Ambiente\nDirección: Glorieta Ismael García Rámila\, 4\nGénero: Magia\nPrecio: 6\,00€\nPúblico: Todos los públicos\n\nEste espectáculo es una oportunidad perfecta para disfrutar en familia\, creando momentos mágicos que tanto los niños como los adultos recordarán con cariño. ¡No te lo pierdas!
URL:https://burgos.top/evento/luis-vallecillo-magia-para-bebes/2024-12-23/4/
LOCATION:Aula de Medio Ambiente\, Gta. Ismael García Rámila\, 4\, Burgos\, 09007
CATEGORIES:Magia,Niños
ATTACH;FMTTYPE=image/webp:https://burgos.top/wp-content/uploads/2024/10/LUIS-VALLECILLO-Magia-para-BEBES-1.webp
END:VEVENT
BEGIN:VEVENT
DTSTART;TZID=Europe/Madrid:20241223T170000
DTEND;TZID=Europe/Madrid:20241223T174500
DTSTAMP:20260419T170850
CREATED:20241025T124450Z
LAST-MODIFIED:20241223T163609Z
UID:10000506-1734973200-1734975900@burgos.top
SUMMARY:LUIS VALLECILLO\, Magia para BEBES
DESCRIPTION:“Magia para Bebés” es un encantador espectáculo diseñado para que los más pequeños descubran los colores a través de la magia\, la música y la poesía. Este evento invita a todos a reconectar con el niño que llevamos dentro\, permitiéndonos disfrutar de la vida al mirar el mundo con ojos curiosos y llenos de asombro. \nComprar entradas\nDetalles del Evento\n\nLugar: Aula de Medio Ambiente\nDirección: Glorieta Ismael García Rámila\, 4\nGénero: Magia\nPrecio: 6\,00€\nPúblico: Todos los públicos\n\nEste espectáculo es una oportunidad perfecta para disfrutar en familia\, creando momentos mágicos que tanto los niños como los adultos recordarán con cariño. ¡No te lo pierdas!
URL:https://burgos.top/evento/luis-vallecillo-magia-para-bebes/2024-12-23/3/
LOCATION:Aula de Medio Ambiente\, Gta. Ismael García Rámila\, 4\, Burgos\, 09007
CATEGORIES:Magia,Niños
ATTACH;FMTTYPE=image/webp:https://burgos.top/wp-content/uploads/2024/10/LUIS-VALLECILLO-Magia-para-BEBES-1.webp
END:VEVENT
BEGIN:VEVENT
DTSTART;TZID=Europe/Madrid:20241223T120000
DTEND;TZID=Europe/Madrid:20241223T124500
DTSTAMP:20260419T170850
CREATED:20241025T124450Z
LAST-MODIFIED:20241223T163609Z
UID:10000505-1734955200-1734957900@burgos.top
SUMMARY:LUIS VALLECILLO\, Magia para BEBES
DESCRIPTION:“Magia para Bebés” es un encantador espectáculo diseñado para que los más pequeños descubran los colores a través de la magia\, la música y la poesía. Este evento invita a todos a reconectar con el niño que llevamos dentro\, permitiéndonos disfrutar de la vida al mirar el mundo con ojos curiosos y llenos de asombro. \nComprar entradas\nDetalles del Evento\n\nLugar: Aula de Medio Ambiente\nDirección: Glorieta Ismael García Rámila\, 4\nGénero: Magia\nPrecio: 6\,00€\nPúblico: Todos los públicos\n\nEste espectáculo es una oportunidad perfecta para disfrutar en familia\, creando momentos mágicos que tanto los niños como los adultos recordarán con cariño. ¡No te lo pierdas!
URL:https://burgos.top/evento/luis-vallecillo-magia-para-bebes/2024-12-23/2/
LOCATION:Aula de Medio Ambiente\, Gta. Ismael García Rámila\, 4\, Burgos\, 09007
CATEGORIES:Magia,Niños
ATTACH;FMTTYPE=image/webp:https://burgos.top/wp-content/uploads/2024/10/LUIS-VALLECILLO-Magia-para-BEBES-1.webp
END:VEVENT
BEGIN:VEVENT
DTSTART;TZID=Europe/Madrid:20241223T110000
DTEND;TZID=Europe/Madrid:20241223T114500
DTSTAMP:20260419T170850
CREATED:20241025T124450Z
LAST-MODIFIED:20241223T163609Z
UID:10000504-1734951600-1734954300@burgos.top
SUMMARY:LUIS VALLECILLO\, Magia para BEBES
DESCRIPTION:“Magia para Bebés” es un encantador espectáculo diseñado para que los más pequeños descubran los colores a través de la magia\, la música y la poesía. Este evento invita a todos a reconectar con el niño que llevamos dentro\, permitiéndonos disfrutar de la vida al mirar el mundo con ojos curiosos y llenos de asombro. \nComprar entradas\nDetalles del Evento\n\nLugar: Aula de Medio Ambiente\nDirección: Glorieta Ismael García Rámila\, 4\nGénero: Magia\nPrecio: 6\,00€\nPúblico: Todos los públicos\n\nEste espectáculo es una oportunidad perfecta para disfrutar en familia\, creando momentos mágicos que tanto los niños como los adultos recordarán con cariño. ¡No te lo pierdas!
URL:https://burgos.top/evento/luis-vallecillo-magia-para-bebes/2024-12-23/1/
LOCATION:Aula de Medio Ambiente\, Gta. Ismael García Rámila\, 4\, Burgos\, 09007
CATEGORIES:Magia,Niños
ATTACH;FMTTYPE=image/webp:https://burgos.top/wp-content/uploads/2024/10/LUIS-VALLECILLO-Magia-para-BEBES-1.webp
END:VEVENT
END:VCALENDAR