BEGIN:VCALENDAR
VERSION:2.0
PRODID:-//BurgosTop - ECPv6.7.0//NONSGML v1.0//EN
CALSCALE:GREGORIAN
METHOD:PUBLISH
X-WR-CALNAME:BurgosTop
X-ORIGINAL-URL:https://burgos.top
X-WR-CALDESC:Eventos para BurgosTop
REFRESH-INTERVAL;VALUE=DURATION:PT1H
X-Robots-Tag:noindex
X-PUBLISHED-TTL:PT1H
BEGIN:VTIMEZONE
TZID:Europe/Madrid
BEGIN:DAYLIGHT
TZOFFSETFROM:+0100
TZOFFSETTO:+0200
TZNAME:CEST
DTSTART:20240331T010000
END:DAYLIGHT
BEGIN:STANDARD
TZOFFSETFROM:+0200
TZOFFSETTO:+0100
TZNAME:CET
DTSTART:20241027T010000
END:STANDARD
END:VTIMEZONE
BEGIN:VEVENT
DTSTART;TZID=Europe/Madrid:20241214T133000
DTEND;TZID=Europe/Madrid:20241214T170000
DTSTAMP:20260419T145558
CREATED:20241113T150318Z
LAST-MODIFIED:20241113T150318Z
UID:13037-1734183000-1734195600@burgos.top
SUMMARY:Vermut Acústico Navideño
DESCRIPTION:La Asociación Burgos Heavy Metal te invita a celebrar el fin de año con un Vermut Acústico Navideño el sábado 14 de diciembre de 2024\, desde las 13:30 hasta las 17:00\, en el Fact4\, ubicado en Plaza de Roma\, 11. Este evento gratuito promete ser una experiencia inolvidable para los amantes de la música y la buena compañía. \nDetalles del Evento\n\nFecha y Hora: Sábado 14 de diciembre de 2024\, de 13:30 a 17:00\nLugar: Fact4\, Plaza de Roma\, 11\, Burgos\nEntrada: Gratuita\n\nMúsica en Vivo\nDisfruta del talento en directo de Misty Moors\, quienes nos deleitarán con versiones acústicas de clásicos de bandas legendarias como Scorpions\, Lita Ford\, Bryan Adams\, y Blind Guardian\, entre otros. Esta es una oportunidad perfecta para disfrutar de buena música en un ambiente relajado y festivo. \nMisty Moors\nEs un trío musical burgalés formado por Raúl Weaver\, Begoña García y Gonzalo Dalle. Aquí tienes un resumen de los puntos más importantes sobre la banda: \n\nOrigen: El proyecto se concibió en 2002\, pero no debutaron en directo hasta mayo de 2024\, más de dos décadas después.\nEstilo musical: Interpretan versiones acústicas de clásicos del rock y heavy metal\, incluyendo temas de Scorpions\, Blind Guardian\, Dio\, The Cult\, Accept\, Bryan Adams y Mike Oldfield.\nFormación: Raúl y Gonzalo son guitarristas\, mientras que Begoña es la vocalista. Han decidido mantener esta formación sin añadir más miembros.\nComposiciones propias: Aunque tienen canciones originales\, actualmente se centran en versiones.\nFormato acústico: Eligieron este formato para diferenciarse de sus experiencias previas con música más intensa o “cañera”.\n\nAmbiente y Actividades\nEl evento está diseñado para ser un punto de encuentro entre amigos y amantes del heavy metal\, ofreciendo un ambiente acogedor donde podrás disfrutar de: \n\nMúsica en vivo con versiones acústicas\nUn espacio para relajarte y socializar\nSorpresas navideñas que harán del evento una experiencia única\n\nEste vermut navideño es una ocasión especial para despedir el año rodeado de buena música y compañía. No te pierdas este evento único organizado por la Asociación Burgos Heavy Metal. ¡Te esperamos para celebrar juntos!
URL:https://burgos.top/evento/vermut-acustico-navideno/
LOCATION:Fact4\, Pl. de Roma\, N° 11\, bajo\, Burgos\, 09007
CATEGORIES:Ocio
ATTACH;FMTTYPE=image/webp:https://burgos.top/wp-content/uploads/2024/11/guitarra-electrica.webp
END:VEVENT
END:VCALENDAR