BEGIN:VCALENDAR
VERSION:2.0
PRODID:-//BurgosTop - ECPv6.7.0//NONSGML v1.0//EN
CALSCALE:GREGORIAN
METHOD:PUBLISH
X-WR-CALNAME:BurgosTop
X-ORIGINAL-URL:https://burgos.top
X-WR-CALDESC:Eventos para BurgosTop
REFRESH-INTERVAL;VALUE=DURATION:PT1H
X-Robots-Tag:noindex
X-PUBLISHED-TTL:PT1H
BEGIN:VTIMEZONE
TZID:Europe/Madrid
BEGIN:DAYLIGHT
TZOFFSETFROM:+0100
TZOFFSETTO:+0200
TZNAME:CEST
DTSTART:20250330T010000
END:DAYLIGHT
BEGIN:STANDARD
TZOFFSETFROM:+0200
TZOFFSETTO:+0100
TZNAME:CET
DTSTART:20251026T010000
END:STANDARD
END:VTIMEZONE
BEGIN:VEVENT
DTSTART;TZID=Europe/Madrid:20250301T130000
DTEND;TZID=Europe/Madrid:20250301T153000
DTSTAMP:20260421T103317
CREATED:20250224T152228Z
LAST-MODIFIED:20250224T152228Z
UID:18095-1740834000-1740843000@burgos.top
SUMMARY:Vermú con Batucada Batubulán y Exposición de la Sardina | Carnavales 2025
DESCRIPTION:Disfruta del ritmo contagioso de la batucada\, baila y tómate algo mientras conoces a la gran protagonista del Carnaval. ¡Diversión asegurada! \n📅 Sábado 1 de marzo🕐 13:00 h – 15:30 h📍 Plaza Roma🎭 Colabora: Asociación de Hostelería Gamonal-Capiscol. \nPuedes consultar aquí el programa completo de Carnaval 2025
URL:https://burgos.top/evento/vermu-con-batucada-batubulan-y-exposicion-de-la-sardina-carnavales-2025/
LOCATION:Plaza Roma\, Plaza Roma\, Burgos\, 09007
CATEGORIES:Ocio
ATTACH;FMTTYPE=image/webp:https://burgos.top/wp-content/uploads/2025/02/batucada.webp
END:VEVENT
END:VCALENDAR