BEGIN:VCALENDAR
VERSION:2.0
PRODID:-//BurgosTop - ECPv6.7.0//NONSGML v1.0//EN
CALSCALE:GREGORIAN
METHOD:PUBLISH
X-WR-CALNAME:BurgosTop
X-ORIGINAL-URL:https://burgos.top
X-WR-CALDESC:Eventos para BurgosTop
REFRESH-INTERVAL;VALUE=DURATION:PT1H
X-Robots-Tag:noindex
X-PUBLISHED-TTL:PT1H
BEGIN:VTIMEZONE
TZID:Europe/Madrid
BEGIN:DAYLIGHT
TZOFFSETFROM:+0100
TZOFFSETTO:+0200
TZNAME:CEST
DTSTART:20260329T010000
END:DAYLIGHT
BEGIN:STANDARD
TZOFFSETFROM:+0200
TZOFFSETTO:+0100
TZNAME:CET
DTSTART:20261025T010000
END:STANDARD
END:VTIMEZONE
BEGIN:VEVENT
DTSTART;TZID=Europe/Madrid:20260124T235500
DTEND;TZID=Europe/Madrid:20260124T235500
DTSTAMP:20260424T080411
CREATED:20260121T135743Z
LAST-MODIFIED:20260121T140047Z
UID:27263-1769298900-1769298900@burgos.top
SUMMARY:Verbena a cargo The 8 y ½ Band
DESCRIPTION:¡Fiesta grande este sábado 24 de enero! 🔥 \nLa orquesta The 8 y ½ Band pondrá el barrio de San Julián patas arriba con su verbena espectacular desde las 23:55h hasta las 3:00h. Esta formación conocida por su energía imparable y repertorio variado llega a las fiestas patronales de Burgos para hacer bailar a todo el mundo. \nBaile de Tarde \n\nHora: Sábado\, 25 de enero\, 21:00 h a 22:00 h\n\nVerbena Nocturna \n\nHora: 00:00 h a 03:00 h\n\n🎸 The 8 y ½ Band\nThe 8 y ½ Band es una orquesta de 7 músicos (3 cantantes + cuarteto rítmico) originaria de Lozoya-Madrid\, famosa por su crecimiento meteórico en los últimos años. Ofrecen +4 horas de música sin parar en 2 pases: baile animado de tarde y pop-rock potente de noche\, cubriendo TODOS los estilos (pop\, rock español\, clásicos bailables\, actuales). \nProducción Profesional 🎤✨\n\nTrailer escenario 18x7x8 con PA Line Array\nIluminación 100.000W (cabezas móviles\, scanners\, humo)\nPantallas LED 50m² y tarimas\nDirecto sin interrupciones que conquista plazas enteras\n\n¡El sábado 24/ene a las 23:55h en San Julián\, Burgos! Prepárate para bailar toda la noche con éxitos para todas las edades. \nPuedes consultar aquí el programa completo de las fiestas del barrio de San Julián en Burgos
URL:https://burgos.top/evento/verbena-a-cargo-the-8-y-%c2%bd-band/
LOCATION:Plaza Guadalajara\, Plaza Guadalajara\, Burgos\, 09002
CATEGORIES:Conciertos
ATTACH;FMTTYPE=image/webp:https://burgos.top/wp-content/uploads/2026/01/the-8-y-medio-band.webp
END:VEVENT
END:VCALENDAR