BEGIN:VCALENDAR
VERSION:2.0
PRODID:-//BurgosTop - ECPv6.7.0//NONSGML v1.0//EN
CALSCALE:GREGORIAN
METHOD:PUBLISH
X-WR-CALNAME:BurgosTop
X-ORIGINAL-URL:https://burgos.top
X-WR-CALDESC:Eventos para BurgosTop
REFRESH-INTERVAL;VALUE=DURATION:PT1H
X-Robots-Tag:noindex
X-PUBLISHED-TTL:PT1H
BEGIN:VTIMEZONE
TZID:Europe/Madrid
BEGIN:DAYLIGHT
TZOFFSETFROM:+0100
TZOFFSETTO:+0200
TZNAME:CEST
DTSTART:20260329T010000
END:DAYLIGHT
BEGIN:STANDARD
TZOFFSETFROM:+0200
TZOFFSETTO:+0100
TZNAME:CET
DTSTART:20261025T010000
END:STANDARD
END:VTIMEZONE
BEGIN:VEVENT
DTSTART;TZID=Europe/Madrid:20260418T200000
DTEND;TZID=Europe/Madrid:20260418T200000
DTSTAMP:20260419T221713
CREATED:20260113T165731Z
LAST-MODIFIED:20260114T091551Z
UID:26529-1776542400-1776542400@burgos.top
SUMMARY:Triunfo\, el musical de tu vida en Cultural Cordón
DESCRIPTION:Triunfo\, el musical devuelve a los escenarios la emoción\, la música y el espíritu de Operación Triunfo en un espectáculo pensado para revivir un fenómeno que marcó a toda una generación. Con una puesta en escena moderna\, vibrante y cargada de nostalgia\, el musical rinde homenaje al programa que transformó la forma de entender la música en televisión y lanzó a toda una generación de artistas. \nLa producción cuenta con la participación especial de Mireia Montávez\, concursante de la primera edición de Operación Triunfo\, aportando autenticidad y conexión directa con los orígenes del formato. A través de los grandes éxitos\, las historias de esfuerzo y superación\, y la energía colectiva que definió a OT\, el espectáculo propone un recorrido emocional que conecta pasado y presente. \nBajo la dirección de Luis Montiel\, reconocido por su trabajo como uno de los directores de El Rey León en España\, Triunfo\, el musical combina talento\, emoción y espectáculo en estado puro\, ofreciendo una experiencia escénica intensa y celebratoria que invita al público a volver a sentir la magia de Operación Triunfo en directo. \n\nComprar entradas
URL:https://burgos.top/evento/triunfo-el-musical-de-tu-vida-en-cultural-cordon/
LOCATION:Cultural Cordón\, Plaza de la Libertad s/n\, Burgos\, 09004
CATEGORIES:Musicales,Niños
ATTACH;FMTTYPE=image/webp:https://burgos.top/wp-content/uploads/2026/01/triunfo-el-musical.webp
END:VEVENT
END:VCALENDAR