BEGIN:VCALENDAR
VERSION:2.0
PRODID:-//BurgosTop - ECPv6.7.0//NONSGML v1.0//EN
CALSCALE:GREGORIAN
METHOD:PUBLISH
X-WR-CALNAME:BurgosTop
X-ORIGINAL-URL:https://burgos.top
X-WR-CALDESC:Eventos para BurgosTop
REFRESH-INTERVAL;VALUE=DURATION:PT1H
X-Robots-Tag:noindex
X-PUBLISHED-TTL:PT1H
BEGIN:VTIMEZONE
TZID:Europe/Madrid
BEGIN:DAYLIGHT
TZOFFSETFROM:+0100
TZOFFSETTO:+0200
TZNAME:CEST
DTSTART:20250330T010000
END:DAYLIGHT
BEGIN:STANDARD
TZOFFSETFROM:+0200
TZOFFSETTO:+0100
TZNAME:CET
DTSTART:20251026T010000
END:STANDARD
END:VTIMEZONE
BEGIN:VEVENT
DTSTART;TZID=Europe/Madrid:20250202T123000
DTEND;TZID=Europe/Madrid:20250202T123000
DTSTAMP:20260419T151729
CREATED:20241210T174558Z
LAST-MODIFIED:20241210T174704Z
UID:14607-1738499400-1738499400@burgos.top
SUMMARY:Tributo Musical: Aladdin
DESCRIPTION:Lugar: Cultural Caja de Burgos\nAvenida de Cantabria\, 3\nFecha: Domingo\, 2 de febrero de 2025\nHora: 12:30 h\nPrecio: 15\,00 €\nPúblico: Todos los públicos\n\nComprar entradas\nDescripción\nDisfruta de un emocionante tributo musical a “Aladdin”\, un espectáculo familiar que combina música\, danza y una narrativa cautivadora. Con coreografías innovadoras y un vestuario llamativo\, esta producción presenta la historia de Aladdin desde una perspectiva única: la de la princesa Jasmine. En un contexto donde los derechos de las mujeres son a menudo desafiados\, la historia destaca cómo Jasmine se impone ante un imperio\, ofreciendo una representación empoderadora y moderna. \nCaracterísticas del Espectáculo\n\nCoreografías Novedosas: La producción incluye coreografías dinámicas que involucran al público y crean un ambiente festivo.\nEscenografía Adaptable: La escenografía está diseñada para adaptarse a diferentes espacios\, asegurando que cada función sea visualmente impactante.\nMúsica en Vivo: La banda sonora incluye temas icónicos que han resonado con generaciones\, ofreciendo una experiencia auditiva memorable.\n\nContexto Cultural\n“Aladdin” es uno de los musicales más queridos de Disney\, reconocido mundialmente por su vibrante historia y su música cautivadora. Desde su estreno en Broadway\, ha sido aclamado por su producción espectacular y su capacidad para atraer tanto a niños como a adultos. La música fue compuesta por Alan Menken\, ganador de múltiples premios Oscar\, lo que garantiza una experiencia musical excepcional. Este tributo no solo revive la magia del clásico animado\, sino que también invita a las familias a reflexionar sobre temas importantes como la igualdad y el empoderamiento femenino en un formato accesible y entretenido.
URL:https://burgos.top/evento/tributo-musical-aladdin/
LOCATION:Cultural Caja de Burgos.\, Av. Cantabria\, 3\, Burgos\, 09006
CATEGORIES:Musicales,Niños
ATTACH;FMTTYPE=image/webp:https://burgos.top/wp-content/uploads/2024/12/Tributo-Musical-Aladdin-en-burgos.webp
END:VEVENT
END:VCALENDAR