BEGIN:VCALENDAR
VERSION:2.0
PRODID:-//BurgosTop - ECPv6.7.0//NONSGML v1.0//EN
CALSCALE:GREGORIAN
METHOD:PUBLISH
X-WR-CALNAME:BurgosTop
X-ORIGINAL-URL:https://burgos.top
X-WR-CALDESC:Eventos para BurgosTop
REFRESH-INTERVAL;VALUE=DURATION:PT1H
X-Robots-Tag:noindex
X-PUBLISHED-TTL:PT1H
BEGIN:VTIMEZONE
TZID:Europe/Madrid
BEGIN:DAYLIGHT
TZOFFSETFROM:+0100
TZOFFSETTO:+0200
TZNAME:CEST
DTSTART:20260329T010000
END:DAYLIGHT
BEGIN:STANDARD
TZOFFSETFROM:+0200
TZOFFSETTO:+0100
TZNAME:CET
DTSTART:20261025T010000
END:STANDARD
END:VTIMEZONE
BEGIN:VEVENT
DTSTART;TZID=Europe/Madrid:20260306T220000
DTEND;TZID=Europe/Madrid:20260306T220000
DTSTAMP:20260421T134534
CREATED:20260306T075048Z
LAST-MODIFIED:20260307T112216Z
UID:31702-1772834400-1772834400@burgos.top
SUMMARY:THE EMPIRE STRIKES + ROCKERIZOS
DESCRIPTION:¡Rock’n’roll sin concesiones! Desde Helsinki (Finlandia) llega The Empire Strikes\, un grupo de cinco integrantes dedicado desde 2012 a escribir canciones ambiciosas y ofrecer directos enérgicos\, sudorosos y cargados de actitud. A lo largo de los años han llevado su potente rock desde los países bálticos y los fríos territorios nórdicos hasta el calor de la península ibérica y las grandes ciudades de Europa central\, compartiendo escenario con nombres como Royal Republic\, The Nomads\, Phil Campbell and the Bastard Sons o The Flaming Sideburns. \nSus tres primeros álbumes\, 1983\, High Tide y Charm\, capturaron la intensidad y los trucos aprendidos en la carretera\, grabados prácticamente en directo en el estudio y ampliando la expresión musical de la banda. Con Charm (2019) lograron el mayor reconocimiento de crítica y público\, impulsando una gran gira antes de la pandemia y marcando el camino para sus siguientes lanzamientos. En 2024 publicaron Motell Scandinavia a través de Ghost Highway Recordings\, un disco vivo\, peligroso y con nuevas facetas sonoras. \nAhora regresan con su quinto trabajo\, “Vol. 5”\, que verá la luz el 7 de noviembre en vinilo gracias a Ghost Highway Recordings. Como adelanto presentan el single “Congregation”\, una descarga de melodía y guitarras con un potente chute de power pop y una iluminación casi espiritual. \nApodados “los diablos del norte”\, prometen instalar su particular infierno rockero en tu sala\, club o fiesta para que el RnR no deje de sonar. \n🔗 OBTENER ENTRADAS
URL:https://burgos.top/evento/the-empire-strikes-rockerizos/
LOCATION:Sala Riviera\, P.º Espolón\,\, Burgos\, 09003
CATEGORIES:Conciertos
ATTACH;FMTTYPE=image/webp:https://burgos.top/wp-content/uploads/2026/03/the-empire-strikes.webp
END:VEVENT
END:VCALENDAR