BEGIN:VCALENDAR
VERSION:2.0
PRODID:-//BurgosTop - ECPv6.7.0//NONSGML v1.0//EN
CALSCALE:GREGORIAN
METHOD:PUBLISH
X-WR-CALNAME:BurgosTop
X-ORIGINAL-URL:https://burgos.top
X-WR-CALDESC:Eventos para BurgosTop
REFRESH-INTERVAL;VALUE=DURATION:PT1H
X-Robots-Tag:noindex
X-PUBLISHED-TTL:PT1H
BEGIN:VTIMEZONE
TZID:Europe/Madrid
BEGIN:DAYLIGHT
TZOFFSETFROM:+0100
TZOFFSETTO:+0200
TZNAME:CEST
DTSTART:20240331T010000
END:DAYLIGHT
BEGIN:STANDARD
TZOFFSETFROM:+0200
TZOFFSETTO:+0100
TZNAME:CET
DTSTART:20241027T010000
END:STANDARD
END:VTIMEZONE
BEGIN:VEVENT
DTSTART;TZID=Europe/Madrid:20241226T180000
DTEND;TZID=Europe/Madrid:20241226T180000
DTSTAMP:20260421T120259
CREATED:20241122T082322Z
LAST-MODIFIED:20241122T082331Z
UID:13523-1735236000-1735236000@burgos.top
SUMMARY:Teatro Familiar | CLAU-TOPÍA: ¿Hay alguien ahí?
DESCRIPTION:Fecha: Jueves\, 26 de diciembre de 2024\nHora: 18:00\nLugar: Salón de actos del MEH \nEn esta encantadora obra\, una payasa viaja con su equipaje en busca de un viejo lugar conocido. Al llegar\, se da cuenta de que todo ha cambiado y se pregunta: ¿dónde está la gente? Mientras espera a que alguien aparezca\, se instala y descubre que\, en realidad\, hay alguien ahí… ¡ella misma! A través de esta historia divertida y reflexiva\, los espectadores explorarán el universo interno de la protagonista. No te pierdas esta oportunidad de disfrutar de una experiencia teatral única que promete entretener y hacer reír a toda la familia. ¡Te esperamos!
URL:https://burgos.top/evento/teatro-familiar-clau-topia-hay-alguien-ahi/
LOCATION:Museo de la Evolución Humana (MEH)\, P.º Sierra de Atapuerca\, S/N\, Burgos\, 09002
CATEGORIES:Niños,Teatro
ATTACH;FMTTYPE=image/webp:https://burgos.top/wp-content/uploads/2024/11/payaso-clown.webp
END:VEVENT
END:VCALENDAR