BEGIN:VCALENDAR
VERSION:2.0
PRODID:-//BurgosTop - ECPv6.7.0//NONSGML v1.0//EN
CALSCALE:GREGORIAN
METHOD:PUBLISH
X-WR-CALNAME:BurgosTop
X-ORIGINAL-URL:https://burgos.top
X-WR-CALDESC:Eventos para BurgosTop
REFRESH-INTERVAL;VALUE=DURATION:PT1H
X-Robots-Tag:noindex
X-PUBLISHED-TTL:PT1H
BEGIN:VTIMEZONE
TZID:Europe/Madrid
BEGIN:DAYLIGHT
TZOFFSETFROM:+0100
TZOFFSETTO:+0200
TZNAME:CEST
DTSTART:20260329T010000
END:DAYLIGHT
BEGIN:STANDARD
TZOFFSETFROM:+0200
TZOFFSETTO:+0100
TZNAME:CET
DTSTART:20261025T010000
END:STANDARD
END:VTIMEZONE
BEGIN:VEVENT
DTSTART;TZID=Europe/Madrid:20260118T110000
DTEND;TZID=Europe/Madrid:20260118T110000
DTSTAMP:20260419T165413
CREATED:20260113T165729Z
LAST-MODIFIED:20260114T085022Z
UID:26510-1768734000-1768734000@burgos.top
SUMMARY:Taller familiar: ‘Tejiendo historias’ en Museo de la Evolución Humana
DESCRIPTION:Tejer no es cosa de abuelas\, está de moda. En este taller familiar se pondrá en marcha la creatividad para crear juntos una labor textil\, descubriendo una artesanía con historia\, capaz de contar historias y de unir generaciones. Una actividad participativa pensada para compartir\, aprender y disfrutar en familia. ¿Te animas a venir? \nPrecio: 3 €Edad: Niños y niñas acompañados de un adulto \nInscripción:Plazas limitadas con inscripción previa obligatoria en el 947 421 000\, a través de reservas@museoevolucionhumana.com\, en la recepción del Museo de la Evolución Humana o en la web del museo.
URL:https://burgos.top/evento/taller-familiar-tejiendo-historias-en-museo-de-la-evolucion-humana/
LOCATION:Museo de la Evolución Humana (MEH)\, P.º Sierra de Atapuerca\, S/N\, Burgos\, 09002
CATEGORIES:Niños,Talleres
ATTACH;FMTTYPE=image/webp:https://burgos.top/wp-content/uploads/2026/01/materiales-para-tejer.webp
END:VEVENT
END:VCALENDAR