BEGIN:VCALENDAR
VERSION:2.0
PRODID:-//BurgosTop - ECPv6.7.0//NONSGML v1.0//EN
CALSCALE:GREGORIAN
METHOD:PUBLISH
X-WR-CALNAME:BurgosTop
X-ORIGINAL-URL:https://burgos.top
X-WR-CALDESC:Eventos para BurgosTop
REFRESH-INTERVAL;VALUE=DURATION:PT1H
X-Robots-Tag:noindex
X-PUBLISHED-TTL:PT1H
BEGIN:VTIMEZONE
TZID:Europe/Madrid
BEGIN:DAYLIGHT
TZOFFSETFROM:+0100
TZOFFSETTO:+0200
TZNAME:CEST
DTSTART:20250330T010000
END:DAYLIGHT
BEGIN:STANDARD
TZOFFSETFROM:+0200
TZOFFSETTO:+0100
TZNAME:CET
DTSTART:20251026T010000
END:STANDARD
END:VTIMEZONE
BEGIN:VEVENT
DTSTART;TZID=Europe/Madrid:20250303T120000
DTEND;TZID=Europe/Madrid:20250303T130000
DTSTAMP:20260421T085615
CREATED:20250225T085844Z
LAST-MODIFIED:20250225T085844Z
UID:18179-1741003200-1741006800@burgos.top
SUMMARY:TALLER DE DANZA: Contem-Fusion
DESCRIPTION:📅 Lunes\, 3 de marzo🕛 12:00 – 13:00 h📍 Monasterio de San Juan \nSumérgete en la fusión de danza contemporánea y urbana en este dinámico taller. Experimenta con el ritmo\, el movimiento y el flow a través de ejercicios creativos que te llevarán desde la exploración corporal hasta una coreografía final. \n👥 Para jóvenes a partir de 12 años🎟️ Aforo limitado (15 plazas). Inscripciones en el mostrador del Monasterio de San Juan en su horario habitual.🩰 Impartido por alumnado de 5º y 6º de danza contemporánea de enseñanzas profesionales de la EPDCYL. \nPuedes consultar aquí el programa completo de Carnaval 2025
URL:https://burgos.top/evento/taller-de-danza-contem-fusion/
LOCATION:Monasterio de San Juan\, Pl. San Juan\, Burgos\, 09004
CATEGORIES:Danza,Talleres
ATTACH;FMTTYPE=image/webp:https://burgos.top/wp-content/uploads/2025/01/coreografia-ballet-1.webp
END:VEVENT
END:VCALENDAR