BEGIN:VCALENDAR
VERSION:2.0
PRODID:-//BurgosTop - ECPv6.7.0//NONSGML v1.0//EN
CALSCALE:GREGORIAN
METHOD:PUBLISH
X-WR-CALNAME:BurgosTop
X-ORIGINAL-URL:https://burgos.top
X-WR-CALDESC:Eventos para BurgosTop
REFRESH-INTERVAL;VALUE=DURATION:PT1H
X-Robots-Tag:noindex
X-PUBLISHED-TTL:PT1H
BEGIN:VTIMEZONE
TZID:Europe/Madrid
BEGIN:DAYLIGHT
TZOFFSETFROM:+0100
TZOFFSETTO:+0200
TZNAME:CEST
DTSTART:20260329T010000
END:DAYLIGHT
BEGIN:STANDARD
TZOFFSETFROM:+0200
TZOFFSETTO:+0100
TZNAME:CET
DTSTART:20261025T010000
END:STANDARD
END:VTIMEZONE
BEGIN:VEVENT
DTSTART;TZID=Europe/Madrid:20260125T180000
DTEND;TZID=Europe/Madrid:20260125T180000
DTSTAMP:20260424T064840
CREATED:20260122T085335Z
LAST-MODIFIED:20260122T085335Z
UID:27374-1769364000-1769364000@burgos.top
SUMMARY:Sopa Risa
DESCRIPTION:🗓️ Domingo 25 enero | 18:00h\n📍 Salón Actos Colegio Ntra. Sra. de Lourdes\n🎟️ Entrada: Invitación (sábado tras concurso dibujo) \n🎸 El Grupo Sopa-Risa\n🌟 De Burgos para los peques\n👧 Lucía | 👦 Rubén | 👧 Miriam | 👦 Otro Rubén\n🎥 Primer videoclip infantil viral de YouTube! \n🎉 ¡Espectáculo ÚNICO!\n\nCanciones para cantar JUNTOS 🎶\nRepertorio súper familiar 👨‍👩‍👧‍👦\nAprenden RIÉNDOSSSS 🥳\n\n🌈 Un viaje musical que hará reír y enseñar a los más pequeños! \nPuedes consultar aquí el programa completo de las fiestas del barrio de San Julián en Burgos
URL:https://burgos.top/evento/sopa-risa/
LOCATION:Colegio Nuestra Señora de Lourdes\, C. de San Julián\, 10\, Burgos\, 09002
CATEGORIES:Niños
ATTACH;FMTTYPE=image/webp:https://burgos.top/wp-content/uploads/2024/11/sopa-risa.webp
END:VEVENT
END:VCALENDAR