BEGIN:VCALENDAR
VERSION:2.0
PRODID:-//BurgosTop - ECPv6.7.0//NONSGML v1.0//EN
CALSCALE:GREGORIAN
METHOD:PUBLISH
X-WR-CALNAME:BurgosTop
X-ORIGINAL-URL:https://burgos.top
X-WR-CALDESC:Eventos para BurgosTop
REFRESH-INTERVAL;VALUE=DURATION:PT1H
X-Robots-Tag:noindex
X-PUBLISHED-TTL:PT1H
BEGIN:VTIMEZONE
TZID:Europe/Madrid
BEGIN:DAYLIGHT
TZOFFSETFROM:+0100
TZOFFSETTO:+0200
TZNAME:CEST
DTSTART:20260329T010000
END:DAYLIGHT
BEGIN:STANDARD
TZOFFSETFROM:+0200
TZOFFSETTO:+0100
TZNAME:CET
DTSTART:20261025T010000
END:STANDARD
END:VTIMEZONE
BEGIN:VEVENT
DTSTART;TZID=Europe/Madrid:20260203T200000
DTEND;TZID=Europe/Madrid:20260203T200000
DTSTAMP:20260424T054809
CREATED:20260122T185055Z
LAST-MODIFIED:20260122T185055Z
UID:27471-1770148800-1770148800@burgos.top
SUMMARY:Rockerizos
DESCRIPTION:¡Vive Metal: La Puerta del Gehena irrumpe en Gamonal! A las 19:30h\, programa de radio en directo; 19:45h apertura de puertas; 20:00h arranca con Rockerizos. Entrada libre hasta llenar el Salón de Actos de la Casa de Cultura de Gamonal. \nSobre Rockerizos\nRockerizos es un trío de rock originario de Burgos formado por Rafa (guitarra y voz)\, Félix (bajo y coros) y Javi (batería)\, que además son amigos desde la infancia y han compartido proyectos musicales desde sus primeros pasos juntos. Su sonido se enmarca en el rock and roll más auténtico y directo\, con influencias del underground y del garage rock\, y se distingue por una actitud honesta y sin concesiones a las modas pasajeras. \nLa banda ha evolucionado a partir de otros proyectos anteriores de sus integrantes\, como Soga 74 y The Tritus\, y mantiene una filosofía centrada en la creatividad propia y la energía en directo. \nEn 2025 lanzaron su primer álbum\, Demasiado tarde para el perdón\, grabado en Estudio 5 y publicado en formato vinilo de edición limitada a través de Gato Encerrado Records. \nSu propuesta combina un sonido clásico con una sensibilidad actual\, defendiendo que lo esencial no es seguir tendencias sino crear\, tocar y conectar con la audiencia. A pesar de las dificultades para bandas originales en la escena local\, han continuado impulsando su música sin sucumbir a la presión de los grupos tributo\, manteniendo su identidad propia. \nPuedes consultar aquí el programa completo de las Fiestas de las Candelas 2026 en el Barrio de Gamonal
URL:https://burgos.top/evento/rockerizos/
LOCATION:Salón de Actos Plaza Nueva Gamonal\, Plaza Nueva de Gamonal Nº. 3\, Burgos\, 09007
CATEGORIES:Conciertos
ATTACH;FMTTYPE=image/webp:https://burgos.top/wp-content/uploads/2026/01/rockerizos.webp
END:VEVENT
END:VCALENDAR