BEGIN:VCALENDAR
VERSION:2.0
PRODID:-//BurgosTop - ECPv6.7.0//NONSGML v1.0//EN
CALSCALE:GREGORIAN
METHOD:PUBLISH
X-WR-CALNAME:BurgosTop
X-ORIGINAL-URL:https://burgos.top
X-WR-CALDESC:Eventos para BurgosTop
REFRESH-INTERVAL;VALUE=DURATION:PT1H
X-Robots-Tag:noindex
X-PUBLISHED-TTL:PT1H
BEGIN:VTIMEZONE
TZID:Europe/Madrid
BEGIN:DAYLIGHT
TZOFFSETFROM:+0100
TZOFFSETTO:+0200
TZNAME:CEST
DTSTART:20250330T010000
END:DAYLIGHT
BEGIN:STANDARD
TZOFFSETFROM:+0200
TZOFFSETTO:+0100
TZNAME:CET
DTSTART:20251026T010000
END:STANDARD
END:VTIMEZONE
BEGIN:VEVENT
DTSTART;TZID=Europe/Madrid:20250303T180000
DTEND;TZID=Europe/Madrid:20250303T190000
DTSTAMP:20260421T120257
CREATED:20250220T183115Z
LAST-MODIFIED:20250225T180112Z
UID:17970-1741024800-1741028400@burgos.top
SUMMARY:Reparto de Chocolate y Bizcochos | Carnaval 2025 Burgos
DESCRIPTION:📅 Lunes 3 de marzo🕕 18:00 – 19:00 h – Disfruta de un delicioso chocolate caliente con bizcochos\, perfecto para los más pequeños. \n📍 Llana de Afuera🎉 Patrocinado por Florbú y Grupo Pepsico \n¡Endulza tu Carnaval y ven a disfrutar en familia!. Puedes consultar aquí el programa completo de Carnaval 2025
URL:https://burgos.top/evento/reparto-de-chocolate-y-bizcochos-carnaval-2025-burgos/
LOCATION:Llana de Afuera\, C. Llana de Afuera\, Burgos\, 09003
CATEGORIES:Gastronomía,Niños
ATTACH;FMTTYPE=image/webp:https://burgos.top/wp-content/uploads/2025/02/chocolate-y-galleta.webp
END:VEVENT
END:VCALENDAR