BEGIN:VCALENDAR
VERSION:2.0
PRODID:-//BurgosTop - ECPv6.7.0//NONSGML v1.0//EN
CALSCALE:GREGORIAN
METHOD:PUBLISH
X-WR-CALNAME:BurgosTop
X-ORIGINAL-URL:https://burgos.top
X-WR-CALDESC:Eventos para BurgosTop
REFRESH-INTERVAL;VALUE=DURATION:PT1H
X-Robots-Tag:noindex
X-PUBLISHED-TTL:PT1H
BEGIN:VTIMEZONE
TZID:Europe/Madrid
BEGIN:DAYLIGHT
TZOFFSETFROM:+0100
TZOFFSETTO:+0200
TZNAME:CEST
DTSTART:20260329T010000
END:DAYLIGHT
BEGIN:STANDARD
TZOFFSETFROM:+0200
TZOFFSETTO:+0100
TZNAME:CET
DTSTART:20261025T010000
END:STANDARD
END:VTIMEZONE
BEGIN:VEVENT
DTSTART;TZID=Europe/Madrid:20260310T201500
DTEND;TZID=Europe/Madrid:20260310T201500
DTSTAMP:20260424T062402
CREATED:20260115T120459Z
LAST-MODIFIED:20260115T120459Z
UID:26809-1773173700-1773173700@burgos.top
SUMMARY:RECITAL DE PIANO\, XIAOLU ZANG
DESCRIPTION:El pianista Xiaolu Zang\, Primer Premio y Premio del Público del Concurso Internacional Maria Canals (2024) y Segundo Premio del Concurso Internacional de Piano Paloma O’Shea de Santander (2022)\, ofrece un recital con obras de Beethoven\, Ravel\, Schubert y Scriabin. Considerado uno de los intérpretes más reflexivos y expresivos de su generación\, ha sido elogiado por su “profundísima comprensión musical\, máxima precisión y virtuosismo\, y una riqueza de color casi increíble” (ZF Kunststiftung). \nXiaolu Zang ha actuado en algunos de los escenarios más prestigiosos de Europa\, como el Auditorio Nacional de Madrid\, el Palau de la Música Catalana\, el Palacio Euskalduna\, el Regentenbau Bad Kissingen\, la Salle Cortot de París o el Teatro Municipal de Santiago\, consolidando una carrera internacional en constante proyección. \nSu actividad como solista lo ha llevado a colaborar con orquestas de referencia en Europa\, Asia\, América y África\, entre ellas la Orquesta Sinfónica de Madrid\, la Orquesta Sinfónica y Coro RTVE\, la Bilbao Orkestra Sinfonikoa\, la Südwestdeutsche Philharmonie Konstanz\, la Orchestre Royal de Chambre de Wallonie o la Orquesta Filarmónica de Bacau “Mihail Jora”\, bajo la dirección de maestros como Gustavo Gimeno\, Pablo González\, Douglas Bostock\, Iván López-Reynoso\, Frank Braley o Vasily Petrenko. \nDestaca también su intensa labor camerística junto a formaciones como el Cuarteto Casals\, el Cuarteto Castalian\, el Cuarteto Karol Szymanowski y la clarinetista Claudia Aliaj. Entre los hitos de la temporada 2025–26 figuran interpretaciones del Concierto para piano n.º 5 de Beethoven con la Orquesta Sinfónica de Madrid y nuevas colaboraciones con la Real Orquesta Sinfónica de Sevilla y la Orquesta Sinfónica de Tenerife. \nNacido en Qinhuangdao (China)\, Xiaolu Zang inició sus estudios de piano a los cuatro años. Tras formarse en el Conservatorio Central de Música de Pekín\, actualmente reside en Hannover (Alemania)\, donde estudia con el prestigioso profesor Arie Vardi. \n\nComprar entradas
URL:https://burgos.top/evento/recital-de-piano-xiaolu-zang/
LOCATION:Fórum Evolución Burgos\, P.º Sierra de Atapuerca\, S/N\, Burgos\, 09002
CATEGORIES:Conciertos
ATTACH;FMTTYPE=image/webp:https://burgos.top/wp-content/uploads/2025/01/Concierto-de-Xiaolu-Zang-en-el-Forum-Evolucion-de-Burgos.webp
END:VEVENT
END:VCALENDAR