BEGIN:VCALENDAR
VERSION:2.0
PRODID:-//BurgosTop - ECPv6.7.0//NONSGML v1.0//EN
CALSCALE:GREGORIAN
METHOD:PUBLISH
X-WR-CALNAME:BurgosTop
X-ORIGINAL-URL:https://burgos.top
X-WR-CALDESC:Eventos para BurgosTop
REFRESH-INTERVAL;VALUE=DURATION:PT1H
X-Robots-Tag:noindex
X-PUBLISHED-TTL:PT1H
BEGIN:VTIMEZONE
TZID:Europe/Madrid
BEGIN:DAYLIGHT
TZOFFSETFROM:+0100
TZOFFSETTO:+0200
TZNAME:CEST
DTSTART:20260329T010000
END:DAYLIGHT
BEGIN:STANDARD
TZOFFSETFROM:+0200
TZOFFSETTO:+0100
TZNAME:CET
DTSTART:20261025T010000
END:STANDARD
END:VTIMEZONE
BEGIN:VEVENT
DTSTART;TZID=Europe/Madrid:20260313T203000
DTEND;TZID=Europe/Madrid:20260313T203000
DTSTAMP:20260422T011543
CREATED:20260307T115828Z
LAST-MODIFIED:20260307T115828Z
UID:31778-1773433800-1773433800@burgos.top
SUMMARY:'Por los Estados Unidos\, una familia en bicicleta' por Ainhoa\, Koldo\, Hodei y Lur
DESCRIPTION:La Fundación Círculo de Burgos acogerá el viernes 13 de marzo a las 20:30 horas una nueva sesión de las XXIX Jornadas “El Mundo en Bicicleta”\, un ciclo dedicado a las grandes historias de viaje sobre dos ruedas. En esta ocasión se presentará la charla “Por los Estados Unidos\, una familia en bicicleta”\, protagonizada por Ainhoa\, Koldo\, Hodei y Lur\, quienes compartirán su experiencia recorriendo el país norteamericano pedaleando en familia. Durante la sesión relatarán cómo es viajar con niños durante largos trayectos\, los retos del camino y las vivencias que surgen al convertir la bicicleta en una forma de vida y de descubrir el mundo. La actividad tendrá lugar en la Fundación Círculo (C/ Concepción\, 17\, Burgos) con entrada general de 3 euros. Las entradas pueden adquirirse de forma anticipada en Deportes Manzanedo (C/ Francisco Grandmontagne\, 26 y C/ Madrid\, 19) o en taquilla desde las 19:30 horas el mismo día del evento. Las jornadas están organizadas por el colectivo Bici-Aventura.
URL:https://burgos.top/evento/por-los-estados-unidos-una-familia-en-bicicleta-por-ainhoa-koldo-hodei-y-lur/
LOCATION:Salón de Actos-Obra Social del Círculo Católico de Burgos\, C/Concepción\, 17\, Burgos\, 09002
CATEGORIES:Conferencias
ATTACH;FMTTYPE=image/webp:https://burgos.top/wp-content/uploads/2026/03/XXIX-Jornadas-El-Mundo-en-Bicicleta.webp
END:VEVENT
END:VCALENDAR