BEGIN:VCALENDAR
VERSION:2.0
PRODID:-//BurgosTop - ECPv6.7.0//NONSGML v1.0//EN
CALSCALE:GREGORIAN
METHOD:PUBLISH
X-WR-CALNAME:BurgosTop
X-ORIGINAL-URL:https://burgos.top
X-WR-CALDESC:Eventos para BurgosTop
REFRESH-INTERVAL;VALUE=DURATION:PT1H
X-Robots-Tag:noindex
X-PUBLISHED-TTL:PT1H
BEGIN:VTIMEZONE
TZID:Europe/Madrid
BEGIN:DAYLIGHT
TZOFFSETFROM:+0100
TZOFFSETTO:+0200
TZNAME:CEST
DTSTART:20260329T010000
END:DAYLIGHT
BEGIN:STANDARD
TZOFFSETFROM:+0200
TZOFFSETTO:+0100
TZNAME:CET
DTSTART:20261025T010000
END:STANDARD
END:VTIMEZONE
BEGIN:VEVENT
DTSTART;TZID=Europe/Madrid:20260110T235500
DTEND;TZID=Europe/Madrid:20260110T235500
DTSTAMP:20260419T182939
CREATED:20251215T155923Z
LAST-MODIFIED:20251215T165036Z
UID:25284-1768089300-1768089300@burgos.top
SUMMARY:Pokita Broma II Aniversario en Sala Andén 56
DESCRIPTION:Pokita Broma celebra su II aniversario con un fiestón épico en Andén 56 el sábado 10 de enero\, prometiendo una noche de música\, baile y diversión sin frenos. \nDos años después de su primera edición\, la marca sigue demostrando que no es solo una fiesta\, sino una experiencia que atrapa\, sorprende y deja huella en todos los asistentes. Para esta ocasión especial\, el line up es de auténtica demolición: Javi Boss (Central) lidera la noche\, acompañado de Me Da Mucho Amor\, David BFL\, David Zelmar\, Saezz y Soyn\, garantizando un viaje musical sin límites y con el ritmo siempre en rojo. \nLa celebración incluirá efectos especiales\, animación\, confeti y mucha energía\, sumando ese toque de locura colectiva que ha convertido a Pokita Broma en una de las citas más queridas por el público joven. \nUna noche para bailar\, disfrutar y no olvidar. \n\nComprar entradas
URL:https://burgos.top/evento/pokita-broma-ii-aniversario-en-sala-anden-56/
LOCATION:Sala Andén 56\, C. San Pedro y San Felices\, 56\, Burgos\, 09001
CATEGORIES:Fiestas
ATTACH;FMTTYPE=image/webp:https://burgos.top/wp-content/uploads/2024/11/fiesta-discoteca.webp
END:VEVENT
END:VCALENDAR