BEGIN:VCALENDAR
VERSION:2.0
PRODID:-//BurgosTop - ECPv6.7.0//NONSGML v1.0//EN
CALSCALE:GREGORIAN
METHOD:PUBLISH
X-WR-CALNAME:BurgosTop
X-ORIGINAL-URL:https://burgos.top
X-WR-CALDESC:Eventos para BurgosTop
REFRESH-INTERVAL;VALUE=DURATION:PT1H
X-Robots-Tag:noindex
X-PUBLISHED-TTL:PT1H
BEGIN:VTIMEZONE
TZID:Europe/Madrid
BEGIN:DAYLIGHT
TZOFFSETFROM:+0100
TZOFFSETTO:+0200
TZNAME:CEST
DTSTART:20260329T010000
END:DAYLIGHT
BEGIN:STANDARD
TZOFFSETFROM:+0200
TZOFFSETTO:+0100
TZNAME:CET
DTSTART:20261025T010000
END:STANDARD
END:VTIMEZONE
BEGIN:VEVENT
DTSTART;TZID=Europe/Madrid:20260314T203000
DTEND;TZID=Europe/Madrid:20260314T203000
DTSTAMP:20260424T091110
CREATED:20260307T110857Z
LAST-MODIFIED:20260307T110857Z
UID:31755-1773520200-1773520200@burgos.top
SUMMARY:PELÍCANOS "SIN LÍMITES NI EXPECTATIVAS" en el Sótano Cultural
DESCRIPTION:El Café Cultural El Sótano de Burgos acogerá el sábado 14 de marzo a las 20:30 horas el concierto de Pelícanos\, una banda emergente procedente de Basauri que llega a la ciudad dentro de la gira de presentación de su último trabajo\, “Sin límites ni expectativas”. \nEl grupo afronta esta nueva etapa con energía\, ilusión y muchas ganas de compartir su música en directo\, llevando su propuesta sonora a diferentes escenarios. Su nuevo proyecto refleja precisamente ese espíritu: una forma de entender la música sin corsés\, abierta a la experimentación y al encuentro con el público. \nLa actuación forma parte de la programación cultural de El Sótano | Café Cultural\, un espacio que se ha consolidado como uno de los puntos de referencia en Burgos para conciertos íntimos y propuestas artísticas alternativas. La cita promete una velada cercana en la que la banda presentará su nuevo repertorio y mostrará la personalidad de su directo.
URL:https://burgos.top/evento/pelicanos-sin-limites-ni-expectativas-en-el-sotano-cultural/
LOCATION:El Sótano Café Cultural\, C. Farmacéutico Obdulio Fernández\, 38\, Burgos\, 09006
CATEGORIES:Conciertos
ATTACH;FMTTYPE=image/webp:https://burgos.top/wp-content/uploads/2026/03/pelicanos-en-burgos.webp
END:VEVENT
END:VCALENDAR