BEGIN:VCALENDAR
VERSION:2.0
PRODID:-//BurgosTop - ECPv6.7.0//NONSGML v1.0//EN
CALSCALE:GREGORIAN
METHOD:PUBLISH
X-WR-CALNAME:BurgosTop
X-ORIGINAL-URL:https://burgos.top
X-WR-CALDESC:Eventos para BurgosTop
REFRESH-INTERVAL;VALUE=DURATION:PT1H
X-Robots-Tag:noindex
X-PUBLISHED-TTL:PT1H
BEGIN:VTIMEZONE
TZID:Europe/Madrid
BEGIN:DAYLIGHT
TZOFFSETFROM:+0100
TZOFFSETTO:+0200
TZNAME:CEST
DTSTART:20260329T010000
END:DAYLIGHT
BEGIN:STANDARD
TZOFFSETFROM:+0200
TZOFFSETTO:+0100
TZNAME:CET
DTSTART:20261025T010000
END:STANDARD
END:VTIMEZONE
BEGIN:VEVENT
DTSTART;TZID=Europe/Madrid:20260131T143000
DTEND;TZID=Europe/Madrid:20260131T143000
DTSTAMP:20260424T183455
CREATED:20260122T181737Z
LAST-MODIFIED:20260122T182002Z
UID:27458-1769869800-1769869800@burgos.top
SUMMARY:Paella Benéfica
DESCRIPTION:¡No te pierdas la Paella Benéfica organizada por la Peña Jóvenes de Gamonal en apoyo a la Asociación de Familias de Personas Sordas (ARANSBUR) de Burgos! Este evento solidario se celebra el 31 de enero de 2026 en la Plaza Nueva de Gamonal. La recaudación ayuda en la reeducación auditiva de niños sordos. \nPrecio ración de paella\, botellín de  agua y pan: 4\,5€ \nOrganizador y Causa\nLa Peña Jóvenes de Gamonal\, ubicada en C. Antigua\, 11\, Burgos\, organiza este evento anual benéfico. ARANSBUR\, fundada en 1977\, apoya la educación e integración de niños sordos en Burgos y provincia. \nCómo Participar\nAcude directamente a la Plaza Nueva de Gamonal el 31 de enero a las 14:30. Compra tu ración en el lugar y contribuye a una causa local importante. Sigue a la peña en redes para más actualizaciones. \nPuedes consultar aquí el programa completo de las Fiestas de las Candelas 2026 en el Barrio de Gamonal
URL:https://burgos.top/evento/paella-benefica/
LOCATION:Plaza Nueva de Gamonal\, Plaza Nueva de Gamonal\, Burgos\, Burgos
CATEGORIES:Ocio
ATTACH;FMTTYPE=image/webp:https://burgos.top/wp-content/uploads/2026/01/paella-benefica-jovenes-de-gamonal-2026.webp
END:VEVENT
END:VCALENDAR