BEGIN:VCALENDAR
VERSION:2.0
PRODID:-//BurgosTop - ECPv6.7.0//NONSGML v1.0//EN
CALSCALE:GREGORIAN
METHOD:PUBLISH
X-WR-CALNAME:BurgosTop
X-ORIGINAL-URL:https://burgos.top
X-WR-CALDESC:Eventos para BurgosTop
REFRESH-INTERVAL;VALUE=DURATION:PT1H
X-Robots-Tag:noindex
X-PUBLISHED-TTL:PT1H
BEGIN:VTIMEZONE
TZID:Europe/Madrid
BEGIN:DAYLIGHT
TZOFFSETFROM:+0100
TZOFFSETTO:+0200
TZNAME:CEST
DTSTART:20260329T010000
END:DAYLIGHT
BEGIN:STANDARD
TZOFFSETFROM:+0200
TZOFFSETTO:+0100
TZNAME:CET
DTSTART:20261025T010000
END:STANDARD
END:VTIMEZONE
BEGIN:VEVENT
DTSTART;TZID=Europe/Madrid:20260130T210000
DTEND;TZID=Europe/Madrid:20260131T030000
DTSTAMP:20260424T064838
CREATED:20260122T182637Z
LAST-MODIFIED:20260122T182637Z
UID:27465-1769806800-1769828400@burgos.top
SUMMARY:Orquesta Grupo Sonido
DESCRIPTION:21:00 h – Baile de tardeLa Plaza Nueva de Gamonal se llena de ritmo con la Orquesta Grupo Sonido\, que ofrece un repertorio variado y festivo para todos los públicos.Lugar: Plaza Nueva de Gamonal. \n00:00 h – Baile nocturnoLa fiesta continúa pasada la medianoche con una gran verbena popular\, donde Grupo Sonido despliega todo su espectáculo de música\, luz y animación.Lugar: Plaza Nueva de Gamonal. \nSobre la Orquesta Grupo Sonido\nGrupo Sonido es una orquesta reconocida por su puesta en escena dinámica y su amplio repertorio\, que abarca grandes éxitos actuales\, clásicos del pop\, rock y música bailable. Su directo destaca por la cercanía con el público y una animación constante que garantiza una noche inolvidable. \nPuedes consultar aquí el programa completo de las Fiestas de las Candelas 2026 en el Barrio de Gamonal
URL:https://burgos.top/evento/orquesta-grupo-sonido/
LOCATION:Plaza Nueva de Gamonal\, Plaza Nueva de Gamonal\, Burgos\, Burgos
CATEGORIES:Conciertos
ATTACH;FMTTYPE=image/webp:https://burgos.top/wp-content/uploads/2025/01/orquesta-sonido-en-burgos.webp
END:VEVENT
END:VCALENDAR