BEGIN:VCALENDAR
VERSION:2.0
PRODID:-//BurgosTop - ECPv6.7.0//NONSGML v1.0//EN
CALSCALE:GREGORIAN
METHOD:PUBLISH
X-WR-CALNAME:BurgosTop
X-ORIGINAL-URL:https://burgos.top
X-WR-CALDESC:Eventos para BurgosTop
REFRESH-INTERVAL;VALUE=DURATION:PT1H
X-Robots-Tag:noindex
X-PUBLISHED-TTL:PT1H
BEGIN:VTIMEZONE
TZID:Europe/Madrid
BEGIN:DAYLIGHT
TZOFFSETFROM:+0100
TZOFFSETTO:+0200
TZNAME:CEST
DTSTART:20260329T010000
END:DAYLIGHT
BEGIN:STANDARD
TZOFFSETFROM:+0200
TZOFFSETTO:+0100
TZNAME:CET
DTSTART:20261025T010000
END:STANDARD
END:VTIMEZONE
BEGIN:VEVENT
DTSTART;TZID=Europe/Madrid:20260101T010000
DTEND;TZID=Europe/Madrid:20260101T090000
DTSTAMP:20260420T004517
CREATED:20251201T210635Z
LAST-MODIFIED:20251201T210635Z
UID:24296-1767229200-1767258000@burgos.top
SUMMARY:NOCHEVIEJA 2025–2026 · SERENDIPIA MUSIC × OCASØ CLUB SESSIONS
DESCRIPTION:🎆 NOCHEVIEJA 2025–2026 · SERENDIPIA MUSIC × OCASØ CLUB SESSIONS📍 Sala El Vagón\, Ctra. del Castillo s/n\, Burgos📅 01 enero 2026⏰ 01:00–09:00🏢 Organiza: Fortaleza del Castillo SL🎫 Compatible con Bono Cultural Joven \nSerendipia Music une fuerzas con Ocaso para despedir el año como se merece: una Nochevieja inolvidable\, rodeada de buena energía\, naturaleza y música club en estado puro. Este 31 de diciembre te esperamos en un espacio único\, situado en pleno Castillo\, donde la privacidad\, la magia del entorno y el sonido reforzado te harán vivir una experiencia diferente\, lejos del bullicio y las multitudes. \nLa iluminación\, el ambiente y el viaje sonoro marcarán el inicio del nuevo año. Prepárate para una noche de conexión\, baile y emociones\, en la que la música será la protagonista. \n🎧 LINE-UP:Educarpface · Iván del Burgo · Sergio H · Arsa · Frckls \n🎇 Lugar único · sonido reforzado · ambiente cuidado · aparcamiento amplio \n🎟 Entradas \n\n30 € · Anticipada estándar → Copa bienvenida + ropero\n40 € · Anticipada general → Copa bienvenida + 2 copas + ropero\n50 € · Premium / Puerta → Copa bienvenida + 4 copas + ropero\n\n✨ Una experiencia única. Un lugar irrepetible. Un final de año diferente.🔥 Las entradas ya vuelan… ¿vienes o te lo cuentan? \n\nComprar entradas
URL:https://burgos.top/evento/nochevieja-2025-2026-%c2%b7-serendipia-music-x-ocaso-club-sessions/
LOCATION:Sala la Ciudadela\, Carr. del Castillo\, s/n\, Burgos\, 09003
CATEGORIES:Fiestas
ATTACH;FMTTYPE=image/jpeg:https://burgos.top/wp-content/uploads/2025/12/noche-vieja-2025-en-el-vagon-burgos.jpg
END:VEVENT
END:VCALENDAR