BEGIN:VCALENDAR
VERSION:2.0
PRODID:-//BurgosTop - ECPv6.7.0//NONSGML v1.0//EN
CALSCALE:GREGORIAN
METHOD:PUBLISH
X-WR-CALNAME:BurgosTop
X-ORIGINAL-URL:https://burgos.top
X-WR-CALDESC:Eventos para BurgosTop
REFRESH-INTERVAL;VALUE=DURATION:PT1H
X-Robots-Tag:noindex
X-PUBLISHED-TTL:PT1H
BEGIN:VTIMEZONE
TZID:Europe/Madrid
BEGIN:DAYLIGHT
TZOFFSETFROM:+0100
TZOFFSETTO:+0200
TZNAME:CEST
DTSTART:20250330T010000
END:DAYLIGHT
BEGIN:STANDARD
TZOFFSETFROM:+0200
TZOFFSETTO:+0100
TZNAME:CET
DTSTART:20251026T010000
END:STANDARD
END:VTIMEZONE
BEGIN:VEVENT
DTSTART;TZID=Europe/Madrid:20251230T120000
DTEND;TZID=Europe/Madrid:20251230T120000
DTSTAMP:20260421T122157
CREATED:20251206T122153Z
LAST-MODIFIED:20251209T160631Z
UID:24765-1767096000-1767096000@burgos.top
SUMMARY:‘Monstruos simpáticos’\, con Alba Manero en Biblioteca María Teresa León
DESCRIPTION:La Biblioteca María Teresa León se llenará de imaginación y criaturas adorables con “Monstruos simpáticos”\, una actividad que combina cuentacuentos\, creatividad y mucha diversión. 📚✨👾 \nLa sesión comienza con un breve relato ilustrado que transporta a los peques a un bosque habitado por monstruos tiernos y divertidos. Tras la historia\, los niños y niñas diseñan su propio personaje utilizando plantillas\, rotuladores\, ceras\, acuarelas y accesorios como gafas\, mochilas\, gorros o zapatillas. Cada creación aporta un toque único\, dando lugar a una galería de monstruos tan variada como entrañable. \nEl taller está dirigido por Alba Manero\, diseñadora e ilustradora profesional\, que guía la actividad junto a un marionetista que da vida al personaje del cuentacuentos\, creando un ambiente mágico donde arte y narración se unen. \n👧👦 Público: Niños y niñas de 5 a 8 años⏱️ Duración: 90 minutos📝 Inscripción: Necesario carné de biblioteca. Inscripción previa a partir del 16 de diciembre🎟️ Aforo: 12 plazas \nUna propuesta perfecta para desarrollar la creatividad\, perder el miedo a los monstruos… ¡y convertirlos en los amigos más simpáticos! 🌟 \nDescubre todas eventos navideños y muchas más en el Programa completo de Navidad 2025 Burgos
URL:https://burgos.top/evento/monstruos-simpaticos-con-alba-manero-en-biblioteca-maria-teresa-leon/
LOCATION:Biblioteca «María Teresa León»\, Pl. Sierra Nevada\, 6\, Burgos\, 09007
CATEGORIES:Niños
ATTACH;FMTTYPE=image/webp:https://burgos.top/wp-content/uploads/2025/12/monstruo.webp
END:VEVENT
END:VCALENDAR