BEGIN:VCALENDAR
VERSION:2.0
PRODID:-//BurgosTop - ECPv6.7.0//NONSGML v1.0//EN
CALSCALE:GREGORIAN
METHOD:PUBLISH
X-WR-CALNAME:BurgosTop
X-ORIGINAL-URL:https://burgos.top
X-WR-CALDESC:Eventos para BurgosTop
REFRESH-INTERVAL;VALUE=DURATION:PT1H
X-Robots-Tag:noindex
X-PUBLISHED-TTL:PT1H
BEGIN:VTIMEZONE
TZID:Europe/Madrid
BEGIN:DAYLIGHT
TZOFFSETFROM:+0100
TZOFFSETTO:+0200
TZNAME:CEST
DTSTART:20250330T010000
END:DAYLIGHT
BEGIN:STANDARD
TZOFFSETFROM:+0200
TZOFFSETTO:+0100
TZNAME:CET
DTSTART:20251026T010000
END:STANDARD
END:VTIMEZONE
BEGIN:VEVENT
DTSTART;TZID=Europe/Madrid:20250511T193000
DTEND;TZID=Europe/Madrid:20250511T193000
DTSTAMP:20260419T171016
CREATED:20251124T224659Z
LAST-MODIFIED:20251124T224727Z
UID:12851-1746991800-1746991800@burgos.top
SUMMARY:MIGUEL POVEDA - Poema del Cante Jondo
DESCRIPTION:Tipo: Concierto\nClasificación: Todos los Públicos\nPrecio: Desde 50\,00€\nLugar: Auditorio del Fórum Evolución Burgos\, Paseo Sierra de Atapuerca \nComprar entradas\nEl Espectáculo\nMiguel Poveda\, uno de los cantaores más destacados de su generación\, presenta un espectáculo único que fusiona el flamenco con la poesía de Federico García Lorca. En “Poema del Cante Jondo”\, Poveda da vida a los atemporales textos de Lorca\, extraídos de su obra homónima\, convirtiéndolos en el corazón poético del espectáculo. \nConcepto Artístico\nEl concierto se centra en los poemas de “Poema del Cante Jondo”\, una obra fundamental que explora las raíces y la esencia del flamenco. Poveda\, con su voz inconfundible\, interpreta estos poemas\, fusionándolos con la tradición flamenca más pura y desnuda. \nColaboración Musical\nAcompañado por el talentoso guitarrista Jesús Guerrero\, originario de San Fernando\, Poveda ofrece una interpretación que combina maestría y emoción. Guerrero aporta un acompañamiento que complementa perfectamente la voz de Poveda\, enriqueciendo la experiencia musical. \nTrayectoria de Miguel Poveda\nCon más de 30 años de carrera\, Miguel Poveda es un referente del flamenco a nivel nacional e internacional. Su trayectoria incluye numerosos reconocimientos y premios que destacan su contribución al arte flamenco y su capacidad para conectar con el público a través de su música. \nEl Álbum “Poema del Cante Jondo”\nEste trabajo discográfico no es solo una colección de canciones\, sino un encuentro íntimo con las raíces del flamenco. Poveda interpreta magistralmente los textos de García Lorca\, creando una obra que muestra su faceta más cantaora y resalta la profunda conexión entre la poesía y el cante jondo. \nImportancia Cultural\nEl espectáculo representa un importante encuentro entre la poesía y el flamenco\, dos pilares fundamentales de la cultura española. La interpretación de Poveda ofrece una nueva perspectiva sobre ambas formas artísticas\, permitiendo al público experimentar la profundidad emocional del cante jondo entrelazada con las reflexiones sobre el alma del flamenco.
URL:https://burgos.top/evento/miguel-poveda-poema-del-cante-jondo/
LOCATION:Fórum Evolución Burgos\, P.º Sierra de Atapuerca\, S/N\, Burgos\, 09002
CATEGORIES:Conciertos
ATTACH;FMTTYPE=image/webp:https://burgos.top/wp-content/uploads/2024/11/MIGUEL-POVEDA-–-Poema-del-Cante-Jondo-en-burgos.webp
END:VEVENT
END:VCALENDAR