BEGIN:VCALENDAR
VERSION:2.0
PRODID:-//BurgosTop - ECPv6.7.0//NONSGML v1.0//EN
CALSCALE:GREGORIAN
METHOD:PUBLISH
X-WR-CALNAME:BurgosTop
X-ORIGINAL-URL:https://burgos.top
X-WR-CALDESC:Eventos para BurgosTop
REFRESH-INTERVAL;VALUE=DURATION:PT1H
X-Robots-Tag:noindex
X-PUBLISHED-TTL:PT1H
BEGIN:VTIMEZONE
TZID:Europe/Madrid
BEGIN:DAYLIGHT
TZOFFSETFROM:+0100
TZOFFSETTO:+0200
TZNAME:CEST
DTSTART:20240331T010000
END:DAYLIGHT
BEGIN:STANDARD
TZOFFSETFROM:+0200
TZOFFSETTO:+0100
TZNAME:CET
DTSTART:20241027T010000
END:STANDARD
END:VTIMEZONE
BEGIN:VEVENT
DTSTART;TZID=Europe/Madrid:20240518T200000
DTEND;TZID=Europe/Madrid:20240518T200000
DTSTAMP:20260419T152110
CREATED:20241007T105404Z
LAST-MODIFIED:20241009T045856Z
UID:3977-1716062400-1716062400@burgos.top
SUMMARY:Midas Alonso en concierto en La Ciudadela
DESCRIPTION:Concierto del rapero Midas Alonso\, conocido por su videoclip “Brixton”\, en la sala La Ciudadela de Burgos. \n\n\n\nLugar: La Ciudadela\, 18 de mayo\, 20:00\, Precio: Desde 18€
URL:https://burgos.top/evento/midas-alonso-en-concierto-en-la-ciudadela/
LOCATION:Sala la Ciudadela\, Carr. del Castillo\, s/n\, Burgos\, 09003
CATEGORIES:Conciertos
END:VEVENT
END:VCALENDAR