BEGIN:VCALENDAR
VERSION:2.0
PRODID:-//BurgosTop - ECPv6.7.0//NONSGML v1.0//EN
CALSCALE:GREGORIAN
METHOD:PUBLISH
X-WR-CALNAME:BurgosTop
X-ORIGINAL-URL:https://burgos.top
X-WR-CALDESC:Eventos para BurgosTop
REFRESH-INTERVAL;VALUE=DURATION:PT1H
X-Robots-Tag:noindex
X-PUBLISHED-TTL:PT1H
BEGIN:VTIMEZONE
TZID:Europe/Madrid
BEGIN:DAYLIGHT
TZOFFSETFROM:+0100
TZOFFSETTO:+0200
TZNAME:CEST
DTSTART:20250330T010000
END:DAYLIGHT
BEGIN:STANDARD
TZOFFSETFROM:+0200
TZOFFSETTO:+0100
TZNAME:CET
DTSTART:20251026T010000
END:STANDARD
END:VTIMEZONE
BEGIN:VEVENT
DTSTART;TZID=Europe/Madrid:20250327T200000
DTEND;TZID=Europe/Madrid:20250327T200000
DTSTAMP:20260420T115641
CREATED:20250321T171857Z
LAST-MODIFIED:20250321T172209Z
UID:19107-1743105600-1743105600@burgos.top
SUMMARY:Mensaje Internacional del Día Mundial del Teatro 2025 con Víctor Clavijo
DESCRIPTION:📅 Jueves 27 de marzo \n🕗 20:00 h \n📍 Sala Polisón del Teatro Principal \n🎟️ Entrada libre hasta completar aforo \nEl 27 de marzo\, Víctor Clavijo leerá el Mensaje Internacional del Día Mundial del Teatro en la Sala Polisón del Teatro Principal de Burgos a las 20:00h. Tras la lectura\, ofrecerá una charla sobre su carrera en teatro\, cine y televisión\, compartiendo su experiencia desde sus inicios en la Real Escuela Superior de Arte Dramático hasta su consolidación como actor destacado en la escena española. La entrada es libre hasta completar el aforo.
URL:https://burgos.top/evento/mensaje-internacional-del-dia-mundial-del-teatro-con-victor-clavijo/
LOCATION:Teatro Principal\, Pl. Mío Cid\, Burgos\, 09003
CATEGORIES:Teatro
ATTACH;FMTTYPE=image/webp:https://burgos.top/wp-content/uploads/2025/03/27-de-marzo-dia-mundial-del-teatro.webp
END:VEVENT
END:VCALENDAR