BEGIN:VCALENDAR
VERSION:2.0
PRODID:-//BurgosTop - ECPv6.7.0//NONSGML v1.0//EN
CALSCALE:GREGORIAN
METHOD:PUBLISH
X-WR-CALNAME:BurgosTop
X-ORIGINAL-URL:https://burgos.top
X-WR-CALDESC:Eventos para BurgosTop
REFRESH-INTERVAL;VALUE=DURATION:PT1H
X-Robots-Tag:noindex
X-PUBLISHED-TTL:PT1H
BEGIN:VTIMEZONE
TZID:Europe/Madrid
BEGIN:DAYLIGHT
TZOFFSETFROM:+0100
TZOFFSETTO:+0200
TZNAME:CEST
DTSTART:20250330T010000
END:DAYLIGHT
BEGIN:STANDARD
TZOFFSETFROM:+0200
TZOFFSETTO:+0100
TZNAME:CET
DTSTART:20251026T010000
END:STANDARD
END:VTIMEZONE
BEGIN:VEVENT
DTSTART;TZID=Europe/Madrid:20250117T190000
DTEND;TZID=Europe/Madrid:20250117T194500
DTSTAMP:20260419T164603
CREATED:20241210T172059Z
LAST-MODIFIED:20241210T172059Z
UID:14598-1737140400-1737143100@burgos.top
SUMMARY:Margarito & Cía: Inventos Faraónicos
DESCRIPTION:Fecha: Viernes\, 17 de enero de 2025\nHora: 19:00 h\nPrecio: 2\,00 € (+ comisión de venta por internet)\nDuración: 45 minutos\nEdad Recomendada: De 6 a 12 años (menores acompañados)\n\nComprar entradas\nDescripción\nSumérgete en el fascinante mundo de la cultura egipcia con “Inventos Faraónicos”\, un cautivador espectáculo de narraciones presentado por Margarito & Cía. A través de una selección de relatos\, los asistentes explorarán los grandes descubrimientos que esta antigua civilización ha legado a la humanidad. Este evento es una oportunidad perfecta para que los más jóvenes se acerquen a la historia y desarrollen su amor por la lectura. \nContexto\nEste espectáculo forma parte de la programación del XVII Salón del Libro Infantil y Juvenil de Burgos\, cuyo tema central es “El Salón del Faraón”. La propuesta está organizada por el Ayuntamiento de Burgos\, garantizando una experiencia cultural enriquecedora para todos los públicos. ¡No te lo pierdas!
URL:https://burgos.top/evento/margarito-cia-inventos-faraonicos/
LOCATION:Monasterio de San Juan\, Pl. San Juan\, Burgos\, 09004
CATEGORIES:Niños
ATTACH;FMTTYPE=image/webp:https://burgos.top/wp-content/uploads/2024/12/margarito-y-cia.webp
END:VEVENT
END:VCALENDAR