BEGIN:VCALENDAR
VERSION:2.0
PRODID:-//BurgosTop - ECPv6.7.0//NONSGML v1.0//EN
CALSCALE:GREGORIAN
METHOD:PUBLISH
X-WR-CALNAME:BurgosTop
X-ORIGINAL-URL:https://burgos.top
X-WR-CALDESC:Eventos para BurgosTop
REFRESH-INTERVAL;VALUE=DURATION:PT1H
X-Robots-Tag:noindex
X-PUBLISHED-TTL:PT1H
BEGIN:VTIMEZONE
TZID:Europe/Madrid
BEGIN:DAYLIGHT
TZOFFSETFROM:+0100
TZOFFSETTO:+0200
TZNAME:CEST
DTSTART:20250330T010000
END:DAYLIGHT
BEGIN:STANDARD
TZOFFSETFROM:+0200
TZOFFSETTO:+0100
TZNAME:CET
DTSTART:20251026T010000
END:STANDARD
END:VTIMEZONE
BEGIN:VEVENT
DTSTART;TZID=Europe/Madrid:20251128T193000
DTEND;TZID=Europe/Madrid:20251128T193000
DTSTAMP:20260419T151955
CREATED:20251125T155122Z
LAST-MODIFIED:20251127T081650Z
UID:23584-1764358200-1764358200@burgos.top
SUMMARY:Maika Makovski en Auditorio elcírculo (C/ Ana Lopidana\, 6)
DESCRIPTION:Maika Makovski ofrecerá un concierto en el Auditorio elCírculo el viernes 28 de noviembre a las 19:30 h\, en un formato íntimo donde brillan tanto sus canciones como su fuerte presencia escénica. Será una ocasión perfecta para disfrutar de su faceta más cercana y emocional\, con un repertorio que recorre distintas etapas de su carrera. \nArtista profundamente multidisciplinar\, Maika es cantante\, compositora\, instrumentista\, actriz y creadora visual\, y todo ese universo se nota en cada uno de sus directos. Su talento musical se alimenta de una multitud de influencias que van del rock a sonidos más experimentales y atmosféricos\, siempre guiados por una búsqueda constante de autenticidad y de espíritu. Esa mezcla de sensibilidad\, energía y riesgo creativo la convierte en un nombre verdaderamente único dentro de la escena musical actual\, capaz de pasar de la delicadeza absoluta a la pura electricidad en cuestión de segundos. \n\nComprar entradas
URL:https://burgos.top/evento/maika-makovski-en-auditorio-elcirculo-c-ana-lopidana/
LOCATION:Auditorio el Círculo\, C. Ana Lopidana\, Burgos\, 09005
CATEGORIES:Conciertos
ATTACH;FMTTYPE=image/webp:https://burgos.top/wp-content/uploads/2025/11/Maika-Makovski-burgos.webp
END:VEVENT
END:VCALENDAR