BEGIN:VCALENDAR
VERSION:2.0
PRODID:-//BurgosTop - ECPv6.7.0//NONSGML v1.0//EN
CALSCALE:GREGORIAN
METHOD:PUBLISH
X-WR-CALNAME:BurgosTop
X-ORIGINAL-URL:https://burgos.top
X-WR-CALDESC:Eventos para BurgosTop
REFRESH-INTERVAL;VALUE=DURATION:PT1H
X-Robots-Tag:noindex
X-PUBLISHED-TTL:PT1H
BEGIN:VTIMEZONE
TZID:Europe/Madrid
BEGIN:DAYLIGHT
TZOFFSETFROM:+0100
TZOFFSETTO:+0200
TZNAME:CEST
DTSTART:20250330T010000
END:DAYLIGHT
BEGIN:STANDARD
TZOFFSETFROM:+0200
TZOFFSETTO:+0100
TZNAME:CET
DTSTART:20251026T010000
END:STANDARD
END:VTIMEZONE
BEGIN:VEVENT
DTSTART;TZID=Europe/Madrid:20250123T201500
DTEND;TZID=Europe/Madrid:20250123T201500
DTSTAMP:20260419T151954
CREATED:20241218T165800Z
LAST-MODIFIED:20241218T165800Z
UID:15032-1737663300-1737663300@burgos.top
SUMMARY:La Voz de los Otros + Banel y Adama
DESCRIPTION:Cultural Caja de Burgos presenta una sesión doble que explora temas de identidad\, exilio y amor en contextos culturales diversos. \nDetalles del Evento\n\nFecha: Jueves\, 23 de enero de 2025\nHora: 20:15\nLugar: Cultural Caja de Burgos (Avda. de Cantabria\, 3)\nPrecio: 2\,50€\nClasificación: Todos los públicos\n\nComprar entradas\nLa Voz de los Otros\n\nDirección: Fatima Kaci\nPaís: Francia\nAño: 2023\nDuración: 30 minutos\n\nEste cortometraje narra la historia de Rim\, una intérprete tunecina que trabaja en procedimientos de asilo en Francia. Su labor diaria de traducir historias de exiliados la lleva a cuestionarse su propia identidad y pasado \nBanel y Adama\n\nDirección: Ramata-Toulaye Sy\nPaís: Senegal\nAño: 2023\nDuración: 87 minutos\n\nAmbientada en una remota aldea del norte de Senegal\, esta película explora el conflicto entre el amor apasionado de una joven pareja y las tradiciones de su comunidad. Con una fotografía impresionante y un enfoque mágico-realista\, el film aborda el choque entre modernidad y tradición en el África rural. \nEsta sesión doble ofrece una oportunidad única de explorar temas universales a través de perspectivas culturales diversas y cinematografía innovadora.
URL:https://burgos.top/evento/la-voz-de-los-otros-banel-y-adama/
LOCATION:Cultural Caja de Burgos.\, Av. Cantabria\, 3\, Burgos\, 09006
CATEGORIES:Cine
ATTACH;FMTTYPE=image/webp:https://burgos.top/wp-content/uploads/2024/12/banel-adama-cine-en-burgos.webp
END:VEVENT
END:VCALENDAR