BEGIN:VCALENDAR
VERSION:2.0
PRODID:-//BurgosTop - ECPv6.7.0//NONSGML v1.0//EN
CALSCALE:GREGORIAN
METHOD:PUBLISH
X-WR-CALNAME:BurgosTop
X-ORIGINAL-URL:https://burgos.top
X-WR-CALDESC:Eventos para BurgosTop
REFRESH-INTERVAL;VALUE=DURATION:PT1H
X-Robots-Tag:noindex
X-PUBLISHED-TTL:PT1H
BEGIN:VTIMEZONE
TZID:Europe/Madrid
BEGIN:DAYLIGHT
TZOFFSETFROM:+0100
TZOFFSETTO:+0200
TZNAME:CEST
DTSTART:20260329T010000
END:DAYLIGHT
BEGIN:STANDARD
TZOFFSETFROM:+0200
TZOFFSETTO:+0100
TZNAME:CET
DTSTART:20261025T010000
END:STANDARD
END:VTIMEZONE
BEGIN:VEVENT
DTSTART;TZID=Europe/Madrid:20260411T183000
DTEND;TZID=Europe/Madrid:20260411T183000
DTSTAMP:20260421T100715
CREATED:20260114T174619Z
LAST-MODIFIED:20260114T183658Z
UID:26700-1775932200-1775932200@burgos.top
SUMMARY:‘La ratita presumida’ de Bailadera en Centro Municipal de Villatoro
DESCRIPTION:¡Vive la magia de los cuentos con “Las aventuras de la ratita Martina y el ratón Pérez”! \nUn espectáculo lleno de marionetas\, kamishibai (teatro de papel)\, títeres de guante y marionetas de hilo\, donde la música en directo\, las danzas populares y el cancionero tradicional nos transportan a la sabiduría ancestral de los cuentos. \nÉrase una vez una ratita que\, barriendo el patio de su casa\, encontró una moneda de oro… y a partir de ahí\, todo puede suceder en el reino de los cuentos. \nEdad recomendada: a partir de 3 años.Entrada libre hasta completar aforo. ¡Una aventura que encantará a grandes y pequeños!
URL:https://burgos.top/evento/la-ratita-presumida-de-bailadera-en-centro-municipal-de-villatoro/
LOCATION:Centro Municipal de Villatoro\, C. Mayor\, 2\, Villatoro\, Burgos\, 09006
CATEGORIES:Niños,Teatro
ATTACH;FMTTYPE=image/webp:https://burgos.top/wp-content/uploads/2026/01/‘La-ratita-presumida-de-Bailadera.webp
END:VEVENT
END:VCALENDAR