BEGIN:VCALENDAR
VERSION:2.0
PRODID:-//BurgosTop - ECPv6.7.0//NONSGML v1.0//EN
CALSCALE:GREGORIAN
METHOD:PUBLISH
X-WR-CALNAME:BurgosTop
X-ORIGINAL-URL:https://burgos.top
X-WR-CALDESC:Eventos para BurgosTop
REFRESH-INTERVAL;VALUE=DURATION:PT1H
X-Robots-Tag:noindex
X-PUBLISHED-TTL:PT1H
BEGIN:VTIMEZONE
TZID:Europe/Madrid
BEGIN:DAYLIGHT
TZOFFSETFROM:+0100
TZOFFSETTO:+0200
TZNAME:CEST
DTSTART:20240331T010000
END:DAYLIGHT
BEGIN:STANDARD
TZOFFSETFROM:+0200
TZOFFSETTO:+0100
TZNAME:CET
DTSTART:20241027T010000
END:STANDARD
END:VTIMEZONE
BEGIN:VEVENT
DTSTART;TZID=Europe/Madrid:20241212T203000
DTEND;TZID=Europe/Madrid:20241212T220000
DTSTAMP:20260421T132758
CREATED:20241111T092301Z
LAST-MODIFIED:20251229T234102Z
UID:10000667-1734035400-1734040800@burgos.top
SUMMARY:La Danza es Vida 2024: Gala benéfica de la AECC
DESCRIPTION:Fecha: Jueves\, 12 de diciembre de 2024\nHora: Pases a las 18:30 h y a las 20:30 h\nLugar: Teatro Principal de Burgos\nDirección: Plaza de Mio Cid\, S/N\, Burgos\nPrecio: 12\,00€\nPúblico: Todos los públicos \nComprar entradas\nSobre el Espectáculo\n“La Danza es Vida” es un espectáculo benéfico que combina la excelencia artística con una noble causa. Organizado en colaboración con la Asociación Española Contra el Cáncer en Burgos\, este evento presenta el talento de los alumnos de las Escuelas Profesionales de Danza de Burgos y Valladolid. \nEl Teatro Principal de Burgos\nEl Teatro Principal de Burgos\, inaugurado en 1858\, es un emblemático edificio de estilo neoclásico isabelino. Ubicado en el corazón histórico de la ciudad\, este teatro ha sido testigo de innumerables representaciones artísticas a lo largo de sus más de 160 años de historia \nColaboración con la AECC\nLa Asociación Española Contra el Cáncer (AECC) en Burgos colabora en este evento\, uniendo cultura y solidaridad. Los fondos recaudados contribuirán a la lucha contra el cáncer y al apoyo de pacientes y familiares. \nNo pierda la oportunidad de disfrutar de una noche mágica de danza mientras apoya una causa noble. ¡Le esperamos en el Teatro Principal de Burgos para celebrar que “La Danza es Vida“!
URL:https://burgos.top/evento/la-danza-es-vida-2024-gala-benefica-de-la-aecc/2024-12-12/2/
LOCATION:Teatro Principal\, Pl. Mío Cid\, Burgos\, 09003
CATEGORIES:Ballet
ATTACH;FMTTYPE=image/webp:https://burgos.top/wp-content/uploads/2024/11/LA-DANZA-ES-VIDA-2024.webp
END:VEVENT
END:VCALENDAR