BEGIN:VCALENDAR
VERSION:2.0
PRODID:-//BurgosTop - ECPv6.7.0//NONSGML v1.0//EN
CALSCALE:GREGORIAN
METHOD:PUBLISH
X-WR-CALNAME:BurgosTop
X-ORIGINAL-URL:https://burgos.top
X-WR-CALDESC:Eventos para BurgosTop
REFRESH-INTERVAL;VALUE=DURATION:PT1H
X-Robots-Tag:noindex
X-PUBLISHED-TTL:PT1H
BEGIN:VTIMEZONE
TZID:Europe/Madrid
BEGIN:DAYLIGHT
TZOFFSETFROM:+0100
TZOFFSETTO:+0200
TZNAME:CEST
DTSTART:20250330T010000
END:DAYLIGHT
BEGIN:STANDARD
TZOFFSETFROM:+0200
TZOFFSETTO:+0100
TZNAME:CET
DTSTART:20251026T010000
END:STANDARD
END:VTIMEZONE
BEGIN:VEVENT
DTSTART;TZID=Europe/Madrid:20250105T235900
DTEND;TZID=Europe/Madrid:20250105T235900
DTSTAMP:20260419T171016
CREATED:20241230T103924Z
LAST-MODIFIED:20241230T103924Z
UID:15362-1736121540-1736121540@burgos.top
SUMMARY:La Ciudadela: Celebración del Día de Reyes
DESCRIPTION:Fecha: Domingo\, 5 de enero de 2025\nApertura: 00:00 h\nArtista: Nacho Moreno\nEntrada anticipada + consumición: 15 €\nUbicación: Carretera del Castillo s/n\, Burgos\nVenta de entradas: www.entradas.qr4events.com\n\nDescripción\nLa Ciudadela se prepara para una noche mágica en la celebración del Día de Reyes. A partir de la medianoche\, el reconocido Dj Nacho Moreno llenará el ambiente con su música\, creando un espacio perfecto para disfrutar y celebrar la llegada de los Reyes Magos. \nCon una entrada anticipada que incluye una consumición por solo 15 €\, los asistentes podrán disfrutar de una velada inolvidable en un entorno emblemático de Burgos. Este evento es ideal para aquellos que buscan comenzar el año con alegría y buena compañía.
URL:https://burgos.top/evento/la-ciudadela-celebracion-del-dia-de-reyes/
LOCATION:Sala la Ciudadela\, Carr. del Castillo\, s/n\, Burgos\, 09003
CATEGORIES:Ocio
ATTACH;FMTTYPE=image/webp:https://burgos.top/wp-content/uploads/2024/12/dia-de-reyes-2025-en-la-ciudadela.webp
END:VEVENT
END:VCALENDAR