BEGIN:VCALENDAR
VERSION:2.0
PRODID:-//BurgosTop - ECPv6.7.0//NONSGML v1.0//EN
CALSCALE:GREGORIAN
METHOD:PUBLISH
X-WR-CALNAME:BurgosTop
X-ORIGINAL-URL:https://burgos.top
X-WR-CALDESC:Eventos para BurgosTop
REFRESH-INTERVAL;VALUE=DURATION:PT1H
X-Robots-Tag:noindex
X-PUBLISHED-TTL:PT1H
BEGIN:VTIMEZONE
TZID:Europe/Madrid
BEGIN:DAYLIGHT
TZOFFSETFROM:+0100
TZOFFSETTO:+0200
TZNAME:CEST
DTSTART:20240331T010000
END:DAYLIGHT
BEGIN:STANDARD
TZOFFSETFROM:+0200
TZOFFSETTO:+0100
TZNAME:CET
DTSTART:20241027T010000
END:STANDARD
END:VTIMEZONE
BEGIN:VEVENT
DTSTART;TZID=Europe/Madrid:20241226T190000
DTEND;TZID=Europe/Madrid:20241226T190000
DTSTAMP:20260419T154300
CREATED:20241007T105707Z
LAST-MODIFIED:20241223T085608Z
UID:10149-1735239600-1735239600@burgos.top
SUMMARY:LA BARBARIE TEATRO TRIBUTO A LA SIRENITA
DESCRIPTION:Fecha: Jueves\, 26 de diciembre de 2024 Hora: 19:00 h Lugar: Sala Gamonal (Casa de Cultura de Gamonal) Calle Pablo Ruiz Picasso\, s/n Entrada: 5 € Público: Familiar Género: Teatro Musical Familiar Programación del Ayuntamiento de Burgos \nDescripción del Musical\nLa Barbarie Teatro Musical presenta un Tributo a “La Sirenita”\, una encantadora adaptación del clásico cuento de Hans Christian Andersen. Este espectáculo\, dirigido a todos los públicos\, promete sumergirte en la magia del océano durante aproximadamente 90 minutos. \nLo que puedes esperar:\n\nVoces en directo: Una experiencia musical cautivadora.\nHistoria emocionante: Un relato que tocará el corazón tanto de pequeños como de mayores.\nMagia del océano: Un entorno lleno de color y fantasía.\n\nLa Experiencia\nVen y disfruta de un espectáculo que celebra la belleza de la amistad y el amor. Con una producción diseñada para encantar a toda la familia\, “Tributo a La Sirenita” es una oportunidad perfecta para vivir la magia del teatro en un ambiente acogedor. ¡No te lo pierdas! \n¿Buscas Entradas ?\nComprar entradas
URL:https://burgos.top/evento/la-barbarie-teatro-tributo-a-la-sirenita/
LOCATION:Casa Cultura de Gamonal\, C. Pablo Ruiz Picasso\, s/n\, Burgos\, 09007
CATEGORIES:Musicales,Niños,Teatro
ATTACH;FMTTYPE=image/webp:https://burgos.top/wp-content/uploads/2024/10/LA-BARBARIE-TEATRO-TRIBUTO-A-LA-SIRENITA-en-burgos-_1_.webp
END:VEVENT
END:VCALENDAR