BEGIN:VCALENDAR
VERSION:2.0
PRODID:-//BurgosTop - ECPv6.7.0//NONSGML v1.0//EN
CALSCALE:GREGORIAN
METHOD:PUBLISH
X-WR-CALNAME:BurgosTop
X-ORIGINAL-URL:https://burgos.top
X-WR-CALDESC:Eventos para BurgosTop
REFRESH-INTERVAL;VALUE=DURATION:PT1H
X-Robots-Tag:noindex
X-PUBLISHED-TTL:PT1H
BEGIN:VTIMEZONE
TZID:Europe/Madrid
BEGIN:DAYLIGHT
TZOFFSETFROM:+0100
TZOFFSETTO:+0200
TZNAME:CEST
DTSTART:20250330T010000
END:DAYLIGHT
BEGIN:STANDARD
TZOFFSETFROM:+0200
TZOFFSETTO:+0100
TZNAME:CET
DTSTART:20251026T010000
END:STANDARD
END:VTIMEZONE
BEGIN:VEVENT
DTSTART;TZID=Europe/Madrid:20250328T201500
DTEND;TZID=Europe/Madrid:20250328T201500
DTSTAMP:20260419T165953
CREATED:20250324T082204Z
LAST-MODIFIED:20250324T082437Z
UID:19157-1743192900-1743192900@burgos.top
SUMMARY:IV CICLO CORAL DE MÚSICA SACRA Semana Santa 2025
DESCRIPTION:📅 Fecha: Viernes\, 28 de marzo de 2025🕗 Hora: 20:15 h📍 Lugar: Iglesia Real y Antigua de Gamonal🎶 Coral: Aldebarán Música Antigua🎼 Dirección: Alberto Triviño🎟 Entrada: Libre \n📜 Repertorio\n📖 Ludus Danielis – Drama litúrgico medieval (S. XIII)🎵 Ad Honorem🎵 Regis Vasa🎵 Congaudentes🎼 Cantigas de Santa María – Alfonso X El Sabio🎵 Nº 149🎵 Nº 166🎶 Llibre Vermell de Montserrat🎵 Cuncti simus🎵 Ad mortem festinamus🎼 Benedicamus XXVIII – Johannes Roderice (Códice de Huelgas)🎼 Sophia nasci fertur – Codex Speciálník🎼 Hanacpachap cussicuinin – Anónimo (Catedral de Cuzco) \n🔹 Disfruta de una noche de música sacra en un entorno único\, con piezas medievales y renacentistas interpretadas por la coral Aldebarán. \nPuedes consultar aquí la programación completa de la Semana Santa en Burgos 2025
URL:https://burgos.top/evento/iv-ciclo-coral-de-musica-sacra-semana-santa-2025/
LOCATION:Iglesia Real y Antigüa de Gamonal\, C. Vitoria\, 224\, Burgos\, 09007
CATEGORIES:Tradiciones
ATTACH;FMTTYPE=image/webp:https://burgos.top/wp-content/uploads/2025/03/iv-ciclo-coral-de-musica-sacra.webp
END:VEVENT
END:VCALENDAR