BEGIN:VCALENDAR
VERSION:2.0
PRODID:-//BurgosTop - ECPv6.7.0//NONSGML v1.0//EN
CALSCALE:GREGORIAN
METHOD:PUBLISH
X-WR-CALNAME:BurgosTop
X-ORIGINAL-URL:https://burgos.top
X-WR-CALDESC:Eventos para BurgosTop
REFRESH-INTERVAL;VALUE=DURATION:PT1H
X-Robots-Tag:noindex
X-PUBLISHED-TTL:PT1H
BEGIN:VTIMEZONE
TZID:Europe/Madrid
BEGIN:DAYLIGHT
TZOFFSETFROM:+0100
TZOFFSETTO:+0200
TZNAME:CEST
DTSTART:20240331T010000
END:DAYLIGHT
BEGIN:STANDARD
TZOFFSETFROM:+0200
TZOFFSETTO:+0100
TZNAME:CET
DTSTART:20241027T010000
END:STANDARD
END:VTIMEZONE
BEGIN:VEVENT
DTSTART;TZID=Europe/Madrid:20241213T193000
DTEND;TZID=Europe/Madrid:20241213T193000
DTSTAMP:20260420T031711
CREATED:20241106T150205Z
LAST-MODIFIED:20251229T234125Z
UID:12556-1734118200-1734118200@burgos.top
SUMMARY:IRISH TREBLE: Un Viaje Musical
DESCRIPTION:Concierto en el Auditorio elcírculo\nFecha: Viernes 13 de Diciembre de 2024\nHora: 19:30\nLugar: Auditorio elcírculo\, BurgosIrish Treble presenta un espectáculo cautivador que evoca la magia y la belleza de la tradición irlandesa. Este evento es una oportunidad única para sumergirse en un viaje musical que nos llevará desde Irlanda hacia el Nuevo Mundo\, pasando por la Península Ibérica\, y fusionando una increíble mezcla de folclores. \nSobre el Espectáculo: \n\nMúsica y Danza: El espectáculo combina melodías alegres con danzas espectaculares\, ofreciendo una experiencia completa que celebra la cultura celta en toda su extensión.\nTradición Irlandesa: Los asistentes podrán disfrutar de la música tradicional irlandesa\, que ha cautivado a generaciones con su ritmo vibrante y sus letras emotivas.\nInteracción Cultural: A través de este viaje musical\, Irish Treble busca conectar diferentes culturas y tradiciones\, mostrando la riqueza del patrimonio musical que une a las comunidades.\n\nEstilo Musical: \n\nFolclore Celta: Una mezcla de instrumentos tradicionales como el violín\, la flauta y el bodhrán (un tambor irlandés) que crean un sonido auténtico y envolvente.\nDanza Irlandesa: Presentaciones de danza que complementan la música\, llenas de energía y precisión\, mostrando la belleza del arte del baile irlandés.\n\n¿Por qué asistir? \n\nExperiencia Cultural: Es una oportunidad perfecta para disfrutar de una noche llena de música y danza en un ambiente festivo.\nDiversión para Todos: El espectáculo es apto para todos los públicos\, lo que lo convierte en un plan ideal para familias y amigos.\nConexión Emocional: La música irlandesa tiene una capacidad única para evocar emociones y crear recuerdos duraderos.\n\nNo te pierdas esta celebración de la cultura irlandesa. ¡Las entradas están disponibles ahora! Asegúrate de reservar tu lugar para vivir esta experiencia única llena de magia y alegría.
URL:https://burgos.top/evento/irish-treble-un-viaje-musical/
LOCATION:Auditorio Fundación Círculo Burgos\, C. Ana Lopidana\, Burgos\, 09005
CATEGORIES:Ballet
ATTACH;FMTTYPE=image/webp:https://burgos.top/wp-content/uploads/2024/11/IRISH-TREBLE-Un-Viaje-Musical.webp
END:VEVENT
END:VCALENDAR