BEGIN:VCALENDAR
VERSION:2.0
PRODID:-//BurgosTop - ECPv6.7.0//NONSGML v1.0//EN
CALSCALE:GREGORIAN
METHOD:PUBLISH
X-WR-CALNAME:BurgosTop
X-ORIGINAL-URL:https://burgos.top
X-WR-CALDESC:Eventos para BurgosTop
REFRESH-INTERVAL;VALUE=DURATION:PT1H
X-Robots-Tag:noindex
X-PUBLISHED-TTL:PT1H
BEGIN:VTIMEZONE
TZID:Europe/Madrid
BEGIN:DAYLIGHT
TZOFFSETFROM:+0100
TZOFFSETTO:+0200
TZNAME:CEST
DTSTART:20250330T010000
END:DAYLIGHT
BEGIN:STANDARD
TZOFFSETFROM:+0200
TZOFFSETTO:+0100
TZNAME:CET
DTSTART:20251026T010000
END:STANDARD
END:VTIMEZONE
BEGIN:VEVENT
DTSTART;TZID=Europe/Madrid:20250208T190000
DTEND;TZID=Europe/Madrid:20250208T190000
DTSTAMP:20260421T104805
CREATED:20250112T112937Z
LAST-MODIFIED:20250112T112937Z
UID:15650-1739041200-1739041200@burgos.top
SUMMARY:Homenaje a José Luis Alonso de Santos: "El vuelo de las palomas"
DESCRIPTION:Fecha: Sábado\, 8 de febrero de 2025\nHora: 19:00\nLugar: Auditorio el círculo\, Burgos\nObra: “El vuelo de las palomas” (inédita)\nDirección: Daniel Alonso\nCompañía: 2º Acto Teatro\n\nComprar entradas\nSobre la Obra\n“El vuelo de las palomas” es una comedia tipo gore que explora las contradicciones de la vida moderna a través de dos amigas de mediana edad en una gran ciudad. La obra presenta: \n\nGénero: Comedia\nDuración: 90-120 minutos\nPersonajes: 2 (femeninos)\n\nEl Autor: José Luis Alonso de Santos\nDestacado dramaturgo español\, Alonso de Santos ha contribuido significativamente al teatro contemporáneo con obras como: \n\n“Bajarse al moro”\n“La estanquera de Vallecas”\n“Salvajes”\n\nEntre sus reconocimientos se encuentran el Premio Nacional de Teatro y el Premio Max.Este homenaje ofrece una oportunidad única para disfrutar de una obra inédita de uno de los dramaturgos más influyentes de España.
URL:https://burgos.top/evento/homenaje-a-jose-luis-alonso-de-santos-el-vuelo-de-las-palomas/
LOCATION:Auditorio el Círculo\, C. Ana Lopidana\, Burgos\, 09005
CATEGORIES:Teatro
ATTACH;FMTTYPE=image/webp:https://burgos.top/wp-content/uploads/2025/01/jose-luis-alonso-de-santos-en-burgos-el-vuelo-de-las-palomas.webp
END:VEVENT
END:VCALENDAR