BEGIN:VCALENDAR
VERSION:2.0
PRODID:-//BurgosTop - ECPv6.7.0//NONSGML v1.0//EN
CALSCALE:GREGORIAN
METHOD:PUBLISH
X-WR-CALNAME:BurgosTop
X-ORIGINAL-URL:https://burgos.top
X-WR-CALDESC:Eventos para BurgosTop
REFRESH-INTERVAL;VALUE=DURATION:PT1H
X-Robots-Tag:noindex
X-PUBLISHED-TTL:PT1H
BEGIN:VTIMEZONE
TZID:Europe/Madrid
BEGIN:DAYLIGHT
TZOFFSETFROM:+0100
TZOFFSETTO:+0200
TZNAME:CEST
DTSTART:20260329T010000
END:DAYLIGHT
BEGIN:STANDARD
TZOFFSETFROM:+0200
TZOFFSETTO:+0100
TZNAME:CET
DTSTART:20261025T010000
END:STANDARD
END:VTIMEZONE
BEGIN:VEVENT
DTSTART;TZID=Europe/Madrid:20260321T183000
DTEND;TZID=Europe/Madrid:20260321T183000
DTSTAMP:20260421T113604
CREATED:20260114T174619Z
LAST-MODIFIED:20260114T181243Z
UID:26698-1774117800-1774117800@burgos.top
SUMMARY:‘Hilando cuentos\, coser y cantar’\, de Pez Luna Teatro en Centro Municipal de Villalonquejar
DESCRIPTION:Espectáculo de cuentos de pequeño formato en el que las historias cobran vida puntada a puntada. Sobre un lienzo negro\, lanas de colores y materiales de costura como botones\, agujas o alfileres se transforman en imágenes que acompañan la narración. Un delicado ejercicio de coser\, cantar y contar al mismo tiempo\, donde la palabra\, la música y la artesanía se entrelazan para crear un universo íntimo y sugerente. \nEntrada gratuita hasta completar aforo.
URL:https://burgos.top/evento/hilando-cuentos-coser-y-cantar-de-pez-luna-teatro-en-centro-municipal-de-villalonquejar/
LOCATION:Centro Municipal de Villalonquejar\, C. López Bravo\, 53\, Burgos\, 09001
CATEGORIES:Teatro
ATTACH;FMTTYPE=image/webp:https://burgos.top/wp-content/uploads/2025/12/Pez-Luna-Teatro.webp
END:VEVENT
END:VCALENDAR