BEGIN:VCALENDAR
VERSION:2.0
PRODID:-//BurgosTop - ECPv6.7.0//NONSGML v1.0//EN
CALSCALE:GREGORIAN
METHOD:PUBLISH
X-WR-CALNAME:BurgosTop
X-ORIGINAL-URL:https://burgos.top
X-WR-CALDESC:Eventos para BurgosTop
REFRESH-INTERVAL;VALUE=DURATION:PT1H
X-Robots-Tag:noindex
X-PUBLISHED-TTL:PT1H
BEGIN:VTIMEZONE
TZID:Europe/Madrid
BEGIN:DAYLIGHT
TZOFFSETFROM:+0100
TZOFFSETTO:+0200
TZNAME:CEST
DTSTART:20260329T010000
END:DAYLIGHT
BEGIN:STANDARD
TZOFFSETFROM:+0200
TZOFFSETTO:+0100
TZNAME:CET
DTSTART:20261025T010000
END:STANDARD
END:VTIMEZONE
BEGIN:VEVENT
DTSTART;TZID=Europe/Madrid:20260320T203000
DTEND;TZID=Europe/Madrid:20260320T203000
DTSTAMP:20260421T220056
CREATED:20260307T121215Z
LAST-MODIFIED:20260307T121215Z
UID:31793-1774038600-1774038600@burgos.top
SUMMARY:'Garbeo Europeo: de Burgos a Cabo Norte' por Pablo Noguero
DESCRIPTION:La Fundación Círculo de Burgos acogerá el viernes 20 de marzo a las 20:30 horas la charla “Garbeo europeo: de Burgos a Cabo Norte”\, presentada por el cicloviajero burgalés Pablo Noguero\, dentro de las XXIX Jornadas “El Mundo en Bicicleta”\, organizadas por el colectivo Bici-Aventura. \nIngeniero mecánico y apasionado de las bicicletas\, Noguero decidió llevar su afición un paso más allá construyendo su propia bicicleta de acero en un curso especializado. Para ponerla a prueba se embarcó en una gran aventura ciclista: un viaje de 8.700 kilómetros por Europa que lo llevó desde Burgos hasta Cabo Norte\, uno de los puntos más septentrionales del continente accesibles en bicicleta\, situado dentro del Círculo Polar Ártico. \nDurante la charla compartirá cómo fue esa travesía\, inspirada por el espíritu aventurero que tantas veces veía en programas como Al filo de lo imposible. Un viaje que le llevó a cruzar diferentes países\, paisajes y climas\, descubriendo que la aventura no siempre requiere ir al fin del mundo: a veces basta con elegir un camino nuevo. \nLa actividad se celebrará en la Fundación Círculo (C/ Concepción\, 17\, Burgos) con entrada general de 3 euros. Las entradas pueden adquirirse de forma anticipada en Deportes Manzanedo (C/ Francisco Grandmontagne\, 26 y C/ Madrid\, 19) o en taquilla desde las 19:30 horas el mismo día del evento.
URL:https://burgos.top/evento/garbeo-europeo-de-burgos-a-cabo-norte-por-pablo-noguero/
LOCATION:Salón de Actos-Obra Social del Círculo Católico de Burgos\, C/Concepción\, 17\, Burgos\, 09002
CATEGORIES:Conferencias
ATTACH;FMTTYPE=image/webp:https://burgos.top/wp-content/uploads/2026/03/XXIX-Jornadas-El-Mundo-en-Bicicleta.webp
END:VEVENT
END:VCALENDAR