BEGIN:VCALENDAR
VERSION:2.0
PRODID:-//BurgosTop - ECPv6.7.0//NONSGML v1.0//EN
CALSCALE:GREGORIAN
METHOD:PUBLISH
X-WR-CALNAME:BurgosTop
X-ORIGINAL-URL:https://burgos.top
X-WR-CALDESC:Eventos para BurgosTop
REFRESH-INTERVAL;VALUE=DURATION:PT1H
X-Robots-Tag:noindex
X-PUBLISHED-TTL:PT1H
BEGIN:VTIMEZONE
TZID:Europe/Madrid
BEGIN:DAYLIGHT
TZOFFSETFROM:+0100
TZOFFSETTO:+0200
TZNAME:CEST
DTSTART:20260329T010000
END:DAYLIGHT
BEGIN:STANDARD
TZOFFSETFROM:+0200
TZOFFSETTO:+0100
TZNAME:CET
DTSTART:20261025T010000
END:STANDARD
END:VTIMEZONE
BEGIN:VEVENT
DTSTART;TZID=Europe/Madrid:20260425T183000
DTEND;TZID=Europe/Madrid:20260425T183000
DTSTAMP:20260420T002101
CREATED:20260114T174619Z
LAST-MODIFIED:20260114T190206Z
UID:26704-1777141800-1777141800@burgos.top
SUMMARY:‘Fifí y Cosquilla\, el circo de pacotilla’\, de CCCclowns & La Mueca en Centro Municipal de Castañares
DESCRIPTION:¡Bienvenidos al Circo de Pacotilla de Fifí y Cosquilla! \nUn espectáculo de clown familiar\, inspirado en los circos ambulantes de antaño\, presentado por dos personajes tan charlatanes como entrañables. Los payasos Fifí y Cosquilla llegan cargados de buena voluntad y un repertorio imposible: inventos increíbles\, magia\, equilibrios\, malabares\, canciones y hasta fieras. \nCon más entusiasmo que oficio\, estos dos artistas sacan adelante su peculiar circo entre enredos\, persecuciones y divertidos fracasos\, hasta alcanzar el ansiado éxito. Un espectáculo lleno de cariño\, nostalgia y humor\, donde queda claro que Fifí y Cosquilla han nacido para el escenario. \nEdad recomendada: a partir de 3 años.Entrada libre hasta completar aforo. ¡Risas aseguradas para toda la familia!
URL:https://burgos.top/evento/fifi-y-cosquilla-el-circo-de-pacotilla-de-cccclowns-la-mueca-en-centro-municipal-de-castanares/
LOCATION:Centro Municipal de Castañares\, C/Mayor s/n\, Burgos\, 09199
CATEGORIES:Niños,Teatro
ATTACH;FMTTYPE=image/webp:https://burgos.top/wp-content/uploads/2026/01/fifi-y-cosquilla-y-el-circo-pacotilla.webp
END:VEVENT
END:VCALENDAR