BEGIN:VCALENDAR
VERSION:2.0
PRODID:-//BurgosTop - ECPv6.7.0//NONSGML v1.0//EN
CALSCALE:GREGORIAN
METHOD:PUBLISH
X-WR-CALNAME:BurgosTop
X-ORIGINAL-URL:https://burgos.top
X-WR-CALDESC:Eventos para BurgosTop
REFRESH-INTERVAL;VALUE=DURATION:PT1H
X-Robots-Tag:noindex
X-PUBLISHED-TTL:PT1H
BEGIN:VTIMEZONE
TZID:Europe/Madrid
BEGIN:DAYLIGHT
TZOFFSETFROM:+0100
TZOFFSETTO:+0200
TZNAME:CEST
DTSTART:20240331T010000
END:DAYLIGHT
BEGIN:STANDARD
TZOFFSETFROM:+0200
TZOFFSETTO:+0100
TZNAME:CET
DTSTART:20241027T010000
END:STANDARD
END:VTIMEZONE
BEGIN:VEVENT
DTSTART;TZID=Europe/Madrid:20241102T230000
DTEND;TZID=Europe/Madrid:20241103T043000
DTSTAMP:20260419T164741
CREATED:20241023T141059Z
LAST-MODIFIED:20241023T141059Z
UID:11584-1730588400-1730608200@burgos.top
SUMMARY:Fiesta Halloween 2024 en La Ciudadela 2-11-2024
DESCRIPTION:Fecha: Sábado\, 2 de noviembre\nHora: 23:00 – 04:30\nUbicación: La Ciudadela (Carr. del Castillo\, s/n)\nPrecio: Desde 16€ \nConsigue tus Entradas\n¡Prepárate para la fiesta más terrorífica de Halloween 2024 en La Ciudadela\, Burgos! Disfruta de una noche inolvidable con la mejor música a cargo de: \n\nNacho Moreno\nX-Sama Santa\nLucas Olos\nGuille Marrero\n\nEntradas anticipadas: Desde 16€ (incluye consumición). Consígelas en la propia sala. \nUna Noche de Diversión y Terror\nEste Halloween\, La Ciudadela se transformará en un escenario lleno de sorpresas y un ambiente escalofriante. Vístete con tu mejor disfraz y ven a disfrutar de: \n\nMúsica en Vivo: Baila al ritmo de los mejores temas con nuestros DJs.\nAmbiente Temático: Decoraciones espeluznantes que te sumergirán en el espíritu de Halloween.\n\n¡No Te Lo Pierdas!\nAsegúrate de conseguir tus entradas anticipadas y únete a nosotros para vivir una noche llena de diversión\, música y sustos. ¡Te esperamos en La Ciudadela para celebrar Halloween como nunca antes!
URL:https://burgos.top/evento/fiesta-halloween-2024-en-la-ciudadela-2-11-2024/
LOCATION:Sala la Ciudadela\, Carr. del Castillo\, s/n\, Burgos\, 09003
CATEGORIES:Festivales
ATTACH;FMTTYPE=image/webp:https://burgos.top/wp-content/uploads/2024/10/Fiesta-Halloween-2024-en-La-Ciudadela-2-11-2024.webp
END:VEVENT
END:VCALENDAR