BEGIN:VCALENDAR
VERSION:2.0
PRODID:-//BurgosTop - ECPv6.7.0//NONSGML v1.0//EN
CALSCALE:GREGORIAN
METHOD:PUBLISH
X-WR-CALNAME:BurgosTop
X-ORIGINAL-URL:https://burgos.top
X-WR-CALDESC:Eventos para BurgosTop
REFRESH-INTERVAL;VALUE=DURATION:PT1H
X-Robots-Tag:noindex
X-PUBLISHED-TTL:PT1H
BEGIN:VTIMEZONE
TZID:Europe/Madrid
BEGIN:DAYLIGHT
TZOFFSETFROM:+0100
TZOFFSETTO:+0200
TZNAME:CEST
DTSTART:20260329T010000
END:DAYLIGHT
BEGIN:STANDARD
TZOFFSETFROM:+0200
TZOFFSETTO:+0100
TZNAME:CET
DTSTART:20261025T010000
END:STANDARD
END:VTIMEZONE
BEGIN:VEVENT
DTSTART;TZID=Europe/Madrid:20260117T123000
DTEND;TZID=Europe/Madrid:20260117T123000
DTSTAMP:20260421T120521
CREATED:20260113T165729Z
LAST-MODIFIED:20260114T084746Z
UID:26509-1768653000-1768653000@burgos.top
SUMMARY:Fibras\, telares y tapices (De 8 a 12 años) en Museo de la Evolución Humana
DESCRIPTION:¿Sabes cuántas maneras diferentes existen de tejer? En este taller\, los niños y niñas descubrirán las múltiples formas de crear tejidos\, desde los primeros telares neolíticos hasta los sistemas textiles más actuales. A través del uso de agujas\, hilos y telares\, aprenderán de manera práctica y divertida mientras elaboran su propia creación. \nDuración: 75 minutosEdad: De 4 a 7 años \nInscripción:Plazas limitadas con inscripción previa obligatoria en el 947 421 000\, en reservas@museoevolucionhumana.com\, en la recepción del Museo de la Evolución Humana o a través de la web del MEH.
URL:https://burgos.top/evento/fibras-telares-y-tapices-de-8-a-12-anos-en-museo-de-la-evolucion-humana/
LOCATION:Museo de la Evolución Humana (MEH)\, P.º Sierra de Atapuerca\, S/N\, Burgos\, 09002
CATEGORIES:Niños,Talleres
ATTACH;FMTTYPE=image/webp:https://burgos.top/wp-content/uploads/2026/01/tapiz.webp
END:VEVENT
END:VCALENDAR