BEGIN:VCALENDAR
VERSION:2.0
PRODID:-//BurgosTop - ECPv6.7.0//NONSGML v1.0//EN
CALSCALE:GREGORIAN
METHOD:PUBLISH
X-WR-CALNAME:BurgosTop
X-ORIGINAL-URL:https://burgos.top
X-WR-CALDESC:Eventos para BurgosTop
REFRESH-INTERVAL;VALUE=DURATION:PT1H
X-Robots-Tag:noindex
X-PUBLISHED-TTL:PT1H
BEGIN:VTIMEZONE
TZID:Europe/Madrid
BEGIN:DAYLIGHT
TZOFFSETFROM:+0100
TZOFFSETTO:+0200
TZNAME:CEST
DTSTART:20250330T010000
END:DAYLIGHT
BEGIN:STANDARD
TZOFFSETFROM:+0200
TZOFFSETTO:+0100
TZNAME:CET
DTSTART:20251026T010000
END:STANDARD
END:VTIMEZONE
BEGIN:VEVENT
DTSTART;TZID=Europe/Madrid:20250131T200000
DTEND;TZID=Europe/Madrid:20250131T200000
DTSTAMP:20260419T140547
CREATED:20250122T105434Z
LAST-MODIFIED:20250124T080558Z
UID:16250-1738353600-1738353600@burgos.top
SUMMARY:Fetén Fetén en Érase una vez en Borbonia con Nieves Concostrina
DESCRIPTION:📅  31 de enero de 2025\n⏰ 20:00 h\n📍 Paraninfo de la Universidad de Burgos\n💰 Entrada: 20€ \nPrepárate para una noche única donde la historia\, la música y el humor se fusionan en un espectáculo inolvidable. Nieves Concostrina\, acompañada por el dúo musical Fetén Fetén\, nos guía a través de las intrigas\, escándalos y curiosidades de la dinastía Borbón en España. \nComprar entradas\nUn Recorrido Real\nDesde el bipolar Felipe V hasta las controversias del rey emérito Juan Carlos I\, descubriremos: \n\nLa obsesión de Fernando VI por morder a sus sirvientes\nLos secretos de María Luisa de Parma y Carlos IV\nLa corrupción instaurada por Cristina de Borbón\nGolpes de Estado y escándalos de Isabel II a Alfonso XIII\n\nExperiencia Multisensorial\n\nNarración: Nieves Concostrina\nMúsica en vivo: Jorge Arribas y Diego Galaz (Fetén Fetén)\nEscenografía: Diseñada por Darío Adanti\n\nNo te pierdas esta oportunidad de reír\, aprender y disfrutar de la historia como nunca antes. ¡Reserva ya tus entradas para “Érase una vez en Borbonia”!
URL:https://burgos.top/evento/feten-feten-en-erase-una-vez-en-borbonia-con-nieves-concostrina/
LOCATION:Facultad de Derecho\, Universidad de Burgos\, Hospital del Rey\, s/n\, Burgos\, 09001
CATEGORIES:Conciertos
ATTACH;FMTTYPE=image/webp:https://burgos.top/wp-content/uploads/2025/01/Feten-Feten-en-Erase-una-vez-en-Borbonia-con-Nieves-Concostrina.webp
END:VEVENT
END:VCALENDAR