BEGIN:VCALENDAR
VERSION:2.0
PRODID:-//BurgosTop - ECPv6.7.0//NONSGML v1.0//EN
CALSCALE:GREGORIAN
METHOD:PUBLISH
X-WR-CALNAME:BurgosTop
X-ORIGINAL-URL:https://burgos.top
X-WR-CALDESC:Eventos para BurgosTop
REFRESH-INTERVAL;VALUE=DURATION:PT1H
X-Robots-Tag:noindex
X-PUBLISHED-TTL:PT1H
BEGIN:VTIMEZONE
TZID:Europe/Madrid
BEGIN:DAYLIGHT
TZOFFSETFROM:+0100
TZOFFSETTO:+0200
TZNAME:CEST
DTSTART:20250330T010000
END:DAYLIGHT
BEGIN:STANDARD
TZOFFSETFROM:+0200
TZOFFSETTO:+0100
TZNAME:CET
DTSTART:20251026T010000
END:STANDARD
END:VTIMEZONE
BEGIN:VEVENT
DTSTART;TZID=Europe/Madrid:20250201T223000
DTEND;TZID=Europe/Madrid:20250201T223000
DTSTAMP:20260420T120342
CREATED:20250122T112922Z
LAST-MODIFIED:20250122T112922Z
UID:16260-1738449000-1738449000@burgos.top
SUMMARY:Festival Guadarock 2025 con Eslabón y la Vieja Escuela
DESCRIPTION:📅 Sábado\, 1 de febrero de 2025\n⏰ 22:30 h\n📍 Barrio de San Julián\, Burgos \nUn Viaje Musical Irresistible\nEl Festival Guadarock regresa para conquistar Burgos con un espectáculo que promete hacer vibrar a todos los amantes del rock. \nProtagonistas del Evento\nLa Vieja Escuela Rock Vintage\nSe prepara para un concierto explosivo que transportará al público a los mejores años del rock: \n\nDos horas de música sin tregua\nReinterpretación de clásicos\nEnergía de los años 70 y 80\nGuitarras eléctricas\nRitmos provocativos\n\nEslabón: Punk Rock Burgalés\nEslabón es un grupo de Punk Rock originario de Burgos\, fundado en 2006. La banda está compuesta por: \n\nRicky (voz)\nGallego (Guitarra y coros)\nSamu (batería)\nTute (bajo)\nSendino (guitarra)\n\nDiscografía Completa\n\nBerrea (2009)\nFlores de Ceniza (2011)\nCerraos al vacío (2015)\nEl momento de intervenir (2018)\nProgramados para la pereza (2020)\n\nCon más de 15 años de trayectoria\, Eslabón representa la esencia del punk rock local de Burgos\, manteniendo un sonido auténtico y enérgico a lo largo de su carrera musical.
URL:https://burgos.top/evento/festival-guadarock-2025-con-eslabon-y-la-vieja-escuela/
LOCATION:Barrio de San Julián\, Barrio de San Julián\, Burgos\, 09001
CATEGORIES:Conciertos,Festivales
ATTACH;FMTTYPE=image/webp:https://burgos.top/wp-content/uploads/2025/01/Festival-Guadarock-2025-con-Eslabon-y-la-Vieja-Escuela.webp
END:VEVENT
END:VCALENDAR